{"text_format":"1","workbook":"xlsx","n_sheets":31,"sheets":["General Instructions","Plan Selection1","Respondent Information","Value Based Purchasing","Expanded Benefits","Chr Disease Management","HEDIS","Commitment to Quality","Person-Centered Care","Behav Health-Prim Care Integ","Health Homes","Telemedicine","EBP Child Intense Behav","Essential Providers","Autism Services","Community Partnerships","Exp. Benefits-Pathways","Managed Care Experience","Compliance","Compliance-Terminations","Florida Presence","Accreditation","Grievances","Processing and Payment","Provider Engagement","Non-Emergency Transportation","CAHPS","Mgmt Exp & Retention","subcontractors dropdown","Instruct-Template","SRC Template"],"not_rendered":{"charts":0,"images":1,"macros":1,"external_links":1,"defined_names":7,"comments":0,"pivot_tables":0},"unopened":[],"bounds":{"document_bytes":16777216,"sheet_cells":100000,"rows_first":2000,"rows_last":500,"rows_between":2000,"halvings":0,"cell_chars":16384,"cell_head_chars":4096},"cells_cut":0,"cells_raw":0,"read":"whole","date_system":"1900"}

{"sheet":"General Instructions","index":0,"n_rows":3,"n_cols":1,"rows_kept":3,"cut":false,"hidden":false,"merged":[]}
[]
["Exhibit A-5-a Submission Requirements and Evaluation Response"]
["Template Instructions"]

{"sheet":"Plan Selection1","index":1,"n_rows":26,"n_cols":22,"rows_kept":26,"cut":false,"hidden":true,"merged":[[5,21,5,22],[0,13,1,16],[0,1,1,7],[1,17,1,22],[2,21,2,22],[3,21,3,22],[4,21,4,22]]}
[null,"SRC Plan Selection",null,null,null,null,null,null,null,null,null,null,null,"Plan/Vendor Name:"]
[null,null,null,null,null,null,null,null,null,null,null,null,null,null,null,null,null,"Sunshine Health Network d/b/a Sunshine LLC"]
[null,null,null,null,null,null,null,null,null,null,null,null,null,null,null,null,null,null,null,"Calendar Years",null,"Population"]
[null,null,null,null,null,null,null,null,null,null,null,null,null,null,null,"Plan State: ",null,"Florida",2019,2020,2021,20000000]
[null,null,null,null,null,null,null,null,null,null,null,null,null,null,null,"Comparison State 1: ",null,"Tennessee",2018,2019,2020,13000000]
[null,null,null,null,null,null,null,null,null,null,null,null,null,null,null,"Comparison State 2: ",null,"Montana",2019,2020,2021,11000000]
[]
[null,"Comprehensive Plans"]
[]
[]
[]
[]
[]
[null,"Specialty Plans"]
[]
[]
[]
[]
[]
[null,"MMA Only Plans"]
[]
[]
[]
[]
[]
[null,"LTC Plus Plans"]

{"sheet":"Respondent Information","index":2,"n_rows":98,"n_cols":19,"rows_kept":98,"cut":false,"hidden":false,"merged":[[4,5,4,6],[26,7,26,8],[26,9,26,10],[26,11,26,12],[26,13,26,14],[26,1,26,3],[4,11,5,11],[4,8,5,8],[4,10,5,10],[4,12,5,12],[16,1,16,3],[18,7,18,8],[18,9,18,10],[8,3,10,3],[4,9,5,9],[16,11,16,12],[16,13,16,14],[17,13,17,14],[5,4,7,4],[8,4,10,4],[11,4,13,4],[20,11,20,12],[17,11,17,12],[21,13,21,14],[42,13,42,14],[23,13,23,14],[43,13,43,14],[32,13,34,14],[38,13,38,14],[39,13,39,14],[30,11,30,12],[41,13,41,14],[43,11,43,12],[32,11,34,12],[38,11,38,12],[39,11,39,12],[41,11,41,12],[42,11,42,12],[31,13,31,14],[37,13,37,14],[40,13,40,14],[35,11,35,12],[27,11,27,12],[40,11,40,12],[31,11,31,12],[37,11,37,12],[29,11,29,12],[23,11,23,12],[18,13,18,14],[29,1,29,3],[17,1,17,3],[19,7,19,8],[36,7,36,8],[38,7,38,8],[20,7,20,8],[17,7,17,8],[21,1,21,3],[18,1,18,3],[36,11,36,12],[36,1,36,3],[20,9,20,10],[36,13,36,14],[29,13,29,14],[30,13,30,14],[19,13,19,14],[25,13,25,14],[22,13,22,14],[20,13,20,14],[35,13,35,14],[27,13,27,14],[21,11,21,12],[18,11,18,12],[39,1,39,3],[38,1,38,3],[25,11,25,12],[22,11,22,12],[19,1,19,3],[25,1,25,3],[39,7,39,8],[36,9,36,10],[40,7,40,8],[32,4,32,6],[19,11,19,12],[24,1,24,3],[1,0,2,3],[1,4,2,9],[3,7,3,9],[37,1,37,3],[16,7,16,8],[37,7,37,8],[31,1,31,3],[16,9,16,10],[37,9,37,10],[4,0,4,1],[31,7,31,8],[31,9,31,10],[5,2,7,2],[8,2,10,2],[11,2,13,2],[5,3,7,3],[30,1,30,3],[5,0,7,1],[8,0,10,1],[11,0,13,1],[4,7,5,7],[19,9,19,10],[22,1,22,3],[21,4,21,6],[43,7,43,8],[43,9,43,10],[25,7,25,8],[25,9,25,10],[22,7,22,8],[22,9,22,10],[42,7,42,8],[42,9,42,10],[32,7,32,8],[33,7,33,8],[34,7,34,8],[32,9,34,10],[39,9,39,10],[29,7,29,8],[29,9,29,10],[38,9,38,10],[41,9,41,10],[41,7,41,8],[40,9,40,10],[24,7,24,8],[24,9,24,10],[28,7,28,8],[28,9,28,10],[42,1,42,3],[23,1,23,3],[23,7,23,8],[23,9,23,10],[11,3,13,3],[19,4,19,6],[35,1,35,3],[27,1,27,3],[40,1,40,3],[35,7,35,8],[35,9,35,10],[27,7,27,8],[27,9,27,10],[21,7,21,8],[21,9,21,10],[20,1,20,3],[32,1,32,3],[30,7,30,8],[30,9,30,10],[17,9,17,10],[41,1,41,3],[27,4,27,6],[35,4,35,6],[23,4,23,6],[42,4,42,6],[22,4,22,6],[25,4,25,6],[43,4,43,6],[31,4,31,6],[37,4,37,6],[16,4,16,6],[39,4,39,6],[36,4,36,6],[30,4,30,6],[40,4,40,6],[20,4,20,6],[38,4,38,6],[41,4,41,6],[18,4,18,6],[17,4,17,6],[26,4,26,6],[29,4,29,6],[34,4,34,6],[33,4,33,6],[24,4,24,6],[28,4,28,6],[5,5,5,6],[6,5,6,6],[7,5,7,6],[8,5,8,6],[9,5,9,6],[10,5,10,6],[11,5,11,6],[12,5,12,6],[13,5,13,6]]}
[]
["Plan/Respondent Name:"]
[]
[]
[null,null,"State Name","Contract Number","Line of Business","Target Populations Included",null,"Calendar Year 1: ",null,"Calendar Year 2: ",null,"Calendar Year 3: "]
["Contract 1: ",null,null,null,null,null,null,null,null,null,null,null,null,null,null,null,null,null,"Yes"]
[null,null,null,null,null,null,null,"Number of Enrollees: ",null,"Number of Enrollees: ",null,"Number of Enrollees: ",null,null,null,null,null,null,"No"]
[null,null,null,null,null,null,null,"Total Claim-Based Expenditures:",null,"Total Claim-Based Expenditures:",null,"Total Claim-Based Expenditures:"]
["Contract 2: ",null,null,null,null,null,null,"Calendar Year 1: ",null,"Calendar Year 2: ",null,"Calendar Year 3: "]
[null,null,null,null,null,null,null,"Number of Enrollees: ",null,"Number of Enrollees: ",null,"Number of Enrollees: "]
[null,null,null,null,null,null,null,"Total Claim-Based Expenditures:",null,"Total Claim-Based Expenditures:",null,"Total Claim-Based Expenditures:"]
[" Contract 3: ",null,null,null,null,null,null,"Calendar Year 1: ",null,"Calendar Year 2: ",null,"Calendar Year 3: "]
[null,null,null,null,null,null,null,"Number of Enrollees: ",null,"Number of Enrollees: ",null,"Number of Enrollees: "]
[null,null,null,null,null,null,null,"Total Claim-Based Expenditures:",null,"Total Claim-Based Expenditures:",null,"Total Claim-Based Expenditures:"]
[]
[]
["SRC#","Scores**",null,null,"Points Earned",null,null,"Total Points Available",null,"Percent"]
[16,"Value Based Purchasing:",null,null,{"$f":"'Value Based Purchasing'!B5","v":0},null,null,{"$f":"'Value Based Purchasing'!B4","v":100},null,{"$f":"E18/H18","v":0}]
[17,"Expanded Benefits - Medical:",null,null,{"$f":"'Expanded Benefits'!B5","v":0},null,null,{"$f":"'Expanded Benefits'!B4","v":100},null,0]
[18,"Chronic Disease Management Program:",null,null,{"$f":"'Chr Disease Management'!B5","v":0},null,null,{"$f":"'Chr Disease Management'!B4","v":100},null,0]
[19,"HEDIS Measures:",null,null,{"$f":"HEDIS!B5","v":0},null,null,{"$f":"HEDIS!B4","v":100},null,0]
[20,"Organizational Commitment to Quality:",null,null,{"$f":"'Commitment to Quality'!B5","v":0},null,null,{"$f":"'Commitment to Quality'!B4","v":100},null,0]
[21,"Person-Centered Care and Patient Centered Medical Homes:",null,null,{"$f":"'Person-Centered Care'!B5","v":0},null,null,{"$f":"'Person-Centered Care'!B4","v":100},null,0]
[22,"Behavioral Health/Primary Care Integration:",null,null,{"$f":"'Behav Health-Prim Care Integ'!B5","v":0},null,null,{"$f":"'Behav Health-Prim Care Integ'!B4","v":100},null,0]
[23,"Health Homes for Children with Medically Complex Conditions",null,null,{"$f":"'Health Homes'!B5","v":0},null,null,100,null,{"$f":"E25/H25","v":0}]
[27,"Telemedicine:",null,null,{"$f":"Telemedicine!B5","v":0},null,null,{"$f":"Telemedicine!B4","v":100},null,0]
[28,"Evidence-Based Programs for Children with Intense Behaviors:",null,null,{"$f":"'EBP Child Intense Behav'!B5","v":0},null,null,{"$f":"'EBP Child Intense Behav'!B4","v":99.96},null,0]
[29," Essential Provider Networks:",null,null,{"$f":"'Essential Providers'!B5","v":0},null,null,{"$f":"'Essential Providers'!B4","v":100},null,0]
[30,null,null,"Autism Spectrum Disorder Services:",{"$f":"'Autism Services'!B5","v":0},null,null,{"$f":"'Autism Services'!B4","v":100},null,{"$f":"E29/H29","v":0}]
[31,"Community Partnerships:",null,null,{"$f":"'Community Partnerships'!B5","v":0},null,null,{"$f":"'Community Partnerships'!B4","v":100},null,0]
[32,"Expanded Benefits - Pathways to Prosperity:",null,null,{"$f":"'Exp. Benefits-Pathways'!B5","v":0},null,null,{"$f":"'Exp. Benefits-Pathways'!B4","v":100},null,0]
[35,"Managed Care Experience:",null,null,{"$f":"'Managed Care Experience'!B5","v":0},null,null,{"$f":"'Managed Care Experience'!B4","v":100},null,0]
[null,"Compliance History:",null,null,{"$f":"Compliance!C5","v":0},null,null,{"$f":"Compliance!C4","v":75},null,{"$f":"E35/H35","v":0}]
[36,null,null,"Compliance-Terminations:",{"$f":"'Compliance-Terminations'!C5","v":0},null,null,{"$f":"'Compliance-Terminations'!C4","v":25}]
[null,null,null,"Total Compliance Points",{"$f":"E33+E34","v":0},null,null,{"$f":"H33+H34","v":100}]
[37,"Florida Presence:",null,null,{"$f":"'Florida Presence'!B5","v":0},null,null,{"$f":"'Florida Presence'!B4","v":100},null,{"$f":"E36/H36","v":0}]
[38,"Managed Care Plan Accreditation:",null,null,{"$f":"Accreditation!B5","v":0},null,null,{"$f":"Accreditation!B4","v":100},null,0]
[39,"Grievances:",null,null,{"$f":"Grievances!B5","v":0},null,null,{"$f":"Grievances!B4","v":100},null,0]
[40,"Claims Processing and Payment:",null,null,{"$f":"'Processing and Payment'!B5","v":0},null,null,{"$f":"'Processing and Payment'!B4","v":100},null,0]
[41,"Provider Engagement Model:",null,null,{"$f":"'Provider Engagement'!B5","v":0},null,null,{"$f":"'Provider Engagement'!B4","v":100},null,0]
[42,"Non-Emergency Transportation Performance:",null,null,{"$f":"'Non-Emergency Transportation'!B5","v":0},null,null,{"$f":"'Non-Emergency Transportation'!B4","v":100},null,0]
[43,"Consumer Assessment of Healthcare Providers and Systems Results:",null,null,{"$f":"CAHPS!B5","v":0},null,null,{"$f":"CAHPS!B4","v":100},null,0]
[45,"Management Experience and Retention:",null,null,{"$f":"'Mgmt Exp & Retention'!B5","v":0},null,null,{"$f":"'Mgmt Exp & Retention'!B4","v":100},null,0]
[]
[]
[]
[]
[]
[]
[]
[]
[]
[]
[]
[]
[]
[]
[]
[]
[]
[]
[]
[]
[]
[]
[]
[]
[]
[]
[]
[]
[]
[]
[]
[]
[]
[]
[]
[]
[]
[]
[]
[]
[]
[]
[]
[]
[]
[]
[]
[]
[]
[]
[]
[]
[null,null,null,"Medicaid","TANF Child - No","TANF Child - Yes"]
[null,null,null,"CHIP","Disabled Child - No","Disabled Child - Yes"]
[null,null,null,null,"LTSS Child - No","LTSS Child - Yes"]

{"sheet":"Value Based Purchasing","index":3,"n_rows":540,"n_cols":24,"rows_kept":540,"cut":false,"hidden":false,"merged":[[40,0,40,2],[0,2,0,4],[25,0,27,0],[30,0,32,0],[35,0,37,0],[38,0,38,2],[28,0,28,2],[33,0,33,2],[39,0,39,2],[29,0,29,2],[34,0,34,2]]}
["SRC #16: Value Based Purchasing",null,"Back to Respondent Information"]
[]
["Item","Score"]
["Total Points Possible:",100]
["Points Earned:",{"$f":"D41","v":0}]
["Percent:",{"$f":"B5/B4","v":0}]
[]
[]
[]
[{"$f":"'Respondent Information'!C6","v":0},"CY2020","CY2021","CY2022","Three Year Average",null,null,null,null,null,null,null,null,null,null,null,null,null,null,null,null,null,null,"Population-Based"]
["Percent of in-network providers who were in at least one LAN 2A+ VBP Agreement for CY 2020, 2021, and 2022.",null,null,null,{"$f":"IF(AND(ISBLANK(B11), ISBLANK(C11), ISBLANK(D11)), 0, IF(OR(ISBLANK(B11), ISBLANK(C11), ISBLANK(D11)), \"Waiting for Complete Data\", IFERROR(AVERAGE(B11:D11), 0)))","v":0},null,null,null,null,null,null,null,null,null,null,null,null,null,null,null,null,null,null,"Targeted Population-Based"]
["Percent of providers in LAN 2A+ VBP Agreements who were paid more than $10,000 in rewards for achieving or surpassing VBP outcomes for CY 2020, 2021, and 2022.",null,null,null,{"$f":"IF(AND(ISBLANK(B12), ISBLANK(C12), ISBLANK(D12)), 0, IF(OR(ISBLANK(B12), ISBLANK(C12), ISBLANK(D12)), \"Waiting for Complete Data\", IFERROR(AVERAGE(B12:D12), 0)))","v":0},null,null,null,null,null,null,null,null,null,null,null,null,null,null,null,null,null,null,"Enhanced Primary Care"]
["Percent of total claim-based expenditures in LAN 3A+ VBP Agreements for CY 2020, 2021, and 2022.",null,null,null,{"$f":"IF(AND(ISBLANK(B13), ISBLANK(C13), ISBLANK(D13)), 0, IF(OR(ISBLANK(B13), ISBLANK(C13), ISBLANK(D13)), \"Waiting for Complete Data\", IFERROR(AVERAGE(B13:D13), 0)))","v":0},null,null,null,null,null,null,null,null,null,null,null,null,null,null,null,null,null,null,"Targeted Enhanced Primary Care"]
[{"$f":"'Respondent Information'!C9","v":0},"CY2020","CY2021","CY2022","Three Year Average",null,null,null,null,null,null,null,null,null,null,null,null,null,null,null,null,null,null,"Episode-Based"]
["Percent of in-network providers who were in at least one LAN 2A+ VBP Agreement for CY 2020, 2021, and 2022.",null,null,null,{"$f":"IF(AND(ISBLANK(B15), ISBLANK(C15), ISBLANK(D15)), 0, IF(OR(ISBLANK(B15), ISBLANK(C15), ISBLANK(D15)), \"Waiting for Complete Data\", IFERROR(AVERAGE(B15:D15), 0)))","v":0},null,null,null,null,null,null,null,null,null,null,null,null,null,null,null,null,null,null,"Quality"]
["Percent of providers in LAN 2A+ VBP Agreements who were paid more than $10,000 in rewards for achieving or surpassing VBP outcomes for CY 2020, 2021, and 2022.",null,null,null,{"$f":"IF(AND(ISBLANK(B16), ISBLANK(C16), ISBLANK(D16)), 0, IF(OR(ISBLANK(B16), ISBLANK(C16), ISBLANK(D16)), \"Waiting for Complete Data\", IFERROR(AVERAGE(B16:D16), 0)))","v":0},null,null,null,null,null,null,null,null,null,null,null,null,null,null,null,null,null,null,"Foundational Payments for Infrastructure & Operations"]
["Percent of total claim-based expenditures in LAN 3A+ VBP Agreements for CY 2020, 2021, and 2022.",null,null,null,{"$f":"IF(AND(ISBLANK(B17), ISBLANK(C17), ISBLANK(D17)), 0, IF(OR(ISBLANK(B17), ISBLANK(C17), ISBLANK(D17)), \"Waiting for Complete Data\", IFERROR(AVERAGE(B17:D17), 0)))","v":0},null,null,null,null,null,null,null,null,null,null,null,null,null,null,null,null,null,null,"Other"]
[{"$f":"'Respondent Information'!C12","v":0},"CY2020","CY2021","CY2022","Three Year Average"]
["Percent of in-network providers who were in at least one LAN 2A+ VBP Agreement for CY 2020, 2021, and 2022.",null,null,null,{"$f":"IF(AND(ISBLANK(B19), ISBLANK(C19), ISBLANK(D19)), 0, IF(OR(ISBLANK(B19), ISBLANK(C19), ISBLANK(D19)), \"Waiting for Complete Data\", IFERROR(AVERAGE(B19:D19), 0)))","v":0}]
["Percent of providers in LAN 2A+ VBP Agreements who were paid more than $10,000 in rewards for achieving or surpassing VBP outcomes for CY 2020, 2021, and 2022.",null,null,null,{"$f":"IF(AND(ISBLANK(B20), ISBLANK(C20), ISBLANK(D20)), 0, IF(OR(ISBLANK(B20), ISBLANK(C20), ISBLANK(D20)), \"Waiting for Complete Data\", IFERROR(AVERAGE(B20:D20), 0)))","v":0},null,null,null,null,null,null,null,null,null,null,null,null,null,null,null,null,null,null,"LAN 2A"]
["Percent of total claim-based expenditures in LAN 3A+ VBP Agreements for CY 2020, 2021, and 2022.",null,null,null,{"$f":"IF(AND(ISBLANK(B21), ISBLANK(C21), ISBLANK(D21)), 0, IF(OR(ISBLANK(B21), ISBLANK(C21), ISBLANK(D21)), \"Waiting for Complete Data\", IFERROR(AVERAGE(B21:D21), 0)))","v":0},null,null,null,null,null,null,null,null,null,null,null,null,null,null,null,null,null,null,"LAN 2B"]
[null,null,null,null,null,null,null,null,null,null,null,null,null,null,null,null,null,null,null,null,null,null,null,"LAN 2C"]
["Scores: "]
[null,null,null,null,null,null,null,null,null,null,null,null,null,null,null,null,null,null,null,null,null,null,null,"LAN 3A"]
["State","Question","Points Possible","Points Earned",null,null,null,null,null,null,null,null,null,null,null,null,null,null,null,null,null,null,null,"LAN 3B"]
[{"$f":"A10","v":0},"Percent of in-network providers who were in at least one LAN 2A+ VBP Agreement for CY 2020, 2021, and 2022.",11.11,{"$f":"IF(E11=\"ERROR\", 0, IF(ISBLANK(E11), 0, IF(E11>=0.2, 11.11, IF(E11>=0.1, 5, IF(E11>=0.01, 1, 0)))))","v":0},null,null,null,null,null,null,null,null,null,null,null,null,null,null,null,null,null,null,null,"LAN 4A"]
[null,"Percent of providers in LAN 2A+ VBP Agreements who were paid more than $10,000 in rewards for achieving or surpassing VBP outcomes for CY 2020, 2021, and 2022.",11.11,{"$f":"IF(E12=\"ERROR\", 0, IF(ISBLANK(E12), 0, IF(E12>=0.2, 11.11, IF(E12>=0.1, 5, IF(E12>=0.01, 1, 0)))))","v":0},null,null,null,null,null,null,null,null,null,null,null,null,null,null,null,null,null,null,null,"LAN 4B"]
[null,"Percent of total claim-based expenditures in LAN 3A+ VBP Agreements for CY 2020, 2021, and 2022.",11.11,{"$f":"IF(E13=\"ERROR\", 0, IF(ISBLANK(E13), 0, IF(E13>=0.2, 11.11, IF(E13>=0.1, 5, IF(E13>=0.01, 1, 0)))))","v":0},null,null,null,null,null,null,null,null,null,null,null,null,null,null,null,null,null,null,null,"LAN 4C"]
["State Points Earned:",null,null,{"$f":"SUM(D26:D28)","v":0}]
["Weighted State Points Earned:",null,null,{"$f":"IF(A10=\"Florida\",D29,D29*0.9)","v":0}]
[{"$f":"A14","v":0},"Percent of in-network providers who were in at least one LAN 2A+ VBP Agreement for CY 2020, 2021, and 2022.",11.11,{"$f":"IF(E15=\"ERROR\", 0, IF(ISBLANK(E15), 0, IF(E15>=0.2, 11.11, IF(E15>=0.1, 5, IF(E15>=0.01, 1, 0)))))","v":0}]
[null,"Percent of providers in LAN 2A+ VBP Agreements who were paid more than $10,000 in rewards for achieving or surpassing VBP outcomes for CY 2020, 2021, and 2022.",11.11,{"$f":"IF(E16=\"ERROR\", 0, IF(ISBLANK(E16), 0, IF(E16>=0.2, 11.11, IF(E16>=0.1, 5, IF(E16>=0.01, 1, 0)))))","v":0}]
[null,"Percent of total claim-based expenditures in LAN 3A+ VBP Agreements for CY 2020, 2021, and 2022.",11.11,{"$f":"IF(E17=\"ERROR\", 0, IF(ISBLANK(E17), 0, IF(E17>=0.2, 11.11, IF(E17>=0.1, 5, IF(E17>=0.01, 1, 0)))))","v":0}]
["State Points Earned:",null,null,{"$f":"SUM(D31:D33)","v":0}]
["Weighted State Points Earned:",null,null,{"$f":"IF(A14=\"Florida\",D34,D34*0.9)","v":0}]
[{"$f":"A18","v":0},"Percent of in-network providers who were in at least one LAN 2A+ VBP Agreement for CY 2020, 2021, and 2022.",11.11,{"$f":"IF(E19=\"ERROR\", 0, IF(ISBLANK(E19), 0, IF(E19>=0.2, 11.11, IF(E19>=0.1, 5, IF(E19>=0.01, 1, 0)))))","v":0}]
[null,"Percent of providers in LAN 2A+ VBP Agreements who were paid more than $10,000 in rewards for achieving or surpassing VBP outcomes for CY 2020, 2021, and 2022.",11.11,{"$f":"IF(E20=\"ERROR\", 0, IF(ISBLANK(E20), 0, IF(E20>=0.2, 11.11, IF(E20>=0.1, 5, IF(E20>=0.01, 1, 0)))))","v":0}]
[null,"Percent of total claim-based expenditures in LAN 3A+ VBP Agreements for CY 2020, 2021, and 2022.",11.11,{"$f":"IF(E21=\"ERROR\", 0, IF(ISBLANK(E21), 0, IF(E21>=0.2, 11.11, IF(E21>=0.1, 5, IF(E21>=0.01, 1, 0)))))","v":0}]
["State Points Earned:",null,null,{"$f":"SUM(D36:D38)","v":0}]
["Weighted State Points Earned:",null,null,{"$f":"IF(A18=\"Florida\",D39,D39*0.9)","v":0}]
["Total Points Earned:",null,null,{"$f":"SUM(D30,D35,D40)","v":0}]
[]
[]
[]
[]
[]
[]
[]
[]
[]
[]
[]
[]
[]
[]
[]
[]
[]
[]
[]
[]
[]
[]
[]
[]
[]
[]
[]
[]
[]
[]
[]
[]
[]
[]
[]
[]
[]
[]
[]
[]
[]
[]
[]
[]
[]
[]
[]
[]
[]
[]
[]
[]
[]
[]
[]
[]
[]
[]
[]
[]
[]
[]
[]
[]
[]
[]
[]
[]
[]
[]
[]
[]
[]
[]
[]
[]
[]
[]
[]
[]
[]
[]
[]
[]
[]
[]
[]
[]
[]
[]
[]
[]
[]
[]
[]
[]
[]
[]
[]
[]
[]
[]
[]
[]
[]
[]
[]
[]
[]
[]
[]
[]
[]
[]
[]
[]
[]
[]
[]
[]
[]
[]
[]
[]
[]
[]
[]
[]
[]
[]
[]
[]
[]
[]
[]
[]
[]
[]
[]
[]
[]
[]
[]
[]
[]
[]
[]
[]
[]
[]
[]
[]
[]
[]
[]
[]
[]
[]
[]
[]
[]
[]
[]
[]
[]
[]
[]
[]
[]
[]
[]
[]
[]
[]
[]
[]
[]
[]
[]
[]
[]
[]
[]
[]
[]
[]
[]
[]
[]
[]
[]
[]
[]
[]
[]
[]
[]
[]
[]
[]
[]
[]
[]
[]
[]
[]
[]
[]
[]
[]
[]
[]
[]
[]
[]
[]
[]
[]
[]
[]
[]
[]
[]
[]
[]
[]
[]
[]
[]
[]
[]
[]
[]
[]
[]
[]
[]
[]
[]
[]
[]
[]
[]
[]
[]
[]
[]
[]
[]
[]
[]
[]
[]
[]
[]
[]
[]
[]
[]
[]
[]
[]
[]
[]
[]
[]
[]
[]
[]
[]
[]
[]
[]
[]
[]
[]
[]
[]
[]
[]
[]
[]
[]
[]
[]
[]
[]
[]
[]
[]
[]
[]
[]
[]
[]
[]
[]
[]
[]
[]
[]
[]
[]
[]
[]
[]
[]
[]
[]
[]
[]
[]
[]
[]
[]
[]
[]
[]
[]
[]
[]
[]
[]
[]
[]
[]
[]
[]
[]
[]
[]
[]
[]
[]
[]
[]
[]
[]
[]
[]
[]
[]
[]
[]
[]
[]
[]
[]
[]
[]
[]
[]
[]
[]
[]
[]
[]
[]
[]
[]
[]
[]
[]
[]
[]
[]
[]
[]
[]
[]
[]
[]
[]
[]
[]
[]
[]
[]
[]
[]
[]
[]
[]
[]
[]
[]
[]
[]
[]
[]
[]
[]
[]
[]
[]
[]
[]
[]
[]
[]
[]
[]
[]
[]
[]
[]
[]
[]
[]
[]
[]
[]
[]
[]
[]
[]
[]
[]
[]
[]
[]
[]
[]
[]
[]
[]
[]
[]
[]
[]
[]
[]
[]
[]
[]
[]
[]
[]
[]
[]
[]
[]
[]
[]
[]
[]
[]
[]
[]
[]
[]
[]
[]
[]
[]
[]
[]
[]
[]
[]
[]
[]
[]
[]
[]
[]
[]
[]
[]
[]
[]
[]
[null,null,null,null,null,null,null,null,null,null,null,null,null,null,null,null,null,null,{"$f":"_xlfn.XLOOKUP($L514&S513, $A$531:$J$531&$A$532:$J$532, $A$533:$J$533, \" \")","v":0},{"$f":"_xlfn.XLOOKUP($L514&T513, $A$531:$J$531&$A$532:$J$532, $A$533:$J$533, \" \")","v":0}]
[null,null,null,null,null,null,null,null,null,null,null,null,null,null,null,null,null,null,{"$f":"_xlfn.XLOOKUP($L515&S513, $A$531:$J$531&$A$532:$J$532, $A$533:$J$533, \" \")","v":0},{"$f":"_xlfn.XLOOKUP($L515&T513, $A$531:$J$531&$A$532:$J$532, $A$533:$J$533, \" \")","v":0}]
[null,null,null,null,null,null,null,null,null,null,null,null,null,null,null,null,null,null,{"$f":"_xlfn.XLOOKUP($L516&S513, $A$531:$J$531&$A$532:$J$532, $A$533:$J$533, \" \")","v":0},{"$f":"_xlfn.XLOOKUP($L516&T513, $A$531:$J$531&$A$532:$J$532, $A$533:$J$533, \" \")","v":0}]
[]
[]
[]
[]
[{"$f":"'Respondent Information'!D6","v":0},{"$f":"'Respondent Information'!D9","v":0},{"$f":"'Respondent Information'!D12","v":0},"<- Contract #s",{"$f":"A522","v":0},{"$f":"B522","v":0},{"$f":"C522","v":0},"Old Formulas, for reference",null,null,"Min State 1","Min State 2","Min State 3"]
[{"$f":"'Respondent Information'!C6","v":0},{"$f":"'Respondent Information'!C9","v":0},{"$f":"'Respondent Information'!C12","v":0},null,null,null,null,"=MINIFS(B11:B510,A11:A510,A552:C552)",null,"Year 1",{"$f":"'Respondent Information'!I5","v":0},{"$f":"'Respondent Information'!I9","v":0},{"$f":"'Respondent Information'!I12","v":0}]
[{"$f":"'Respondent Information'!E6","v":0},{"$f":"'Respondent Information'!E9","v":0},{"$f":"'Respondent Information'!E12","v":0},null,null,null,null,"=MAXIFS(B11:B510,A11:A510,A552:C552)-1",null,"Year 2",{"$f":"'Respondent Information'!K5","v":0},{"$f":"'Respondent Information'!K9","v":0},{"$f":"'Respondent Information'!K12","v":0}]
[{"$f":"'Respondent Information'!I5","v":0},{"$f":"'Respondent Information'!I9","v":0},{"$f":"'Respondent Information'!I12","v":0},null,null,null,null,"=MAXIFS(B11:B510,A11:A510,A552:C552)",null,"Year 3",{"$f":"'Respondent Information'!M5","v":0},{"$f":"'Respondent Information'!M9","v":0},{"$f":"'Respondent Information'!M12","v":0}]
[{"$f":"'Respondent Information'!K5","v":0},{"$f":"'Respondent Information'!K9","v":0},{"$f":"'Respondent Information'!K12","v":0}]
[{"$f":"'Respondent Information'!M5","v":0},{"$f":"'Respondent Information'!M9","v":0},{"$f":"'Respondent Information'!M12","v":0}]
[null,null,null,null,{"$f":"E521","v":0},{"$f":"F521","v":0},{"$f":"G521","v":0}]
[]
[]
[null,null,null,null,null,null,null,null,null,null,null,1]
[{"$f":"$A$521","v":0},{"$f":"$A$521","v":0},{"$f":"$A$521","v":0},{"$f":"$B$521","v":0},{"$f":"$B$521","v":0},{"$f":"$B$521","v":0},{"$f":"$C$521","v":0},{"$f":"$C$521","v":0},null,{"$f":"$C$521","v":0},null,2]
[{"$f":"A524","v":0},{"$f":"A525","v":0},{"$f":"A526","v":0},{"$f":"B524","v":0},{"$f":"B525","v":0},{"$f":"B526","v":0},{"$f":"C524","v":0},{"$f":"C525","v":0},null,{"$f":"C526","v":0},null,3]
[{"$f":"'Respondent Information'!I7","v":0},{"$f":"'Respondent Information'!K7","v":0},{"$f":"'Respondent Information'!M7","v":0},{"$f":"'Respondent Information'!I10","v":0},{"$f":"'Respondent Information'!K10","v":0},{"$f":"'Respondent Information'!M10","v":0},{"$f":"'Respondent Information'!I13","v":0},{"$f":"'Respondent Information'!K13","v":0},null,{"$f":"'Respondent Information'!M13","v":0},null,4]
[{"$f":"'Respondent Information'!I8","v":0},{"$f":"'Respondent Information'!K8","v":0},{"$f":"'Respondent Information'!M8","v":0},{"$f":"'Respondent Information'!I11","v":0},{"$f":"'Respondent Information'!K11","v":0},{"$f":"'Respondent Information'!M11","v":0},{"$f":"'Respondent Information'!I14","v":0},{"$f":"'Respondent Information'!K14","v":0},null,{"$f":"'Respondent Information'!M14","v":0},null,5]
[null,null,null,null,null,null,null,null,null,null,null,6]
[null,null,null,null,null,null,null,null,null,null,null,7]
[null,null,null,null,null,null,null,null,null,null,null,8]
[null,null,null,null,null,null,null,null,null,null,null,9]
[null,null,null,null,null,null,null,null,null,null,null,10]
[null,null,null,null,null,null,null,null,null,null,null,11]

{"sheet":"Expanded Benefits","index":4,"n_rows":271,"n_cols":18,"rows_kept":271,"cut":false,"hidden":false,"merged":[[214,0,214,1],[215,0,215,1],[216,0,216,1],[226,0,226,1],[227,0,227,1],[228,0,228,1],[217,0,217,1],[218,0,218,1],[219,0,219,1],[220,0,220,1],[221,0,221,1],[222,0,222,1],[223,0,223,1],[224,0,224,1],[225,0,225,1],[168,0,168,1],[169,0,169,1],[170,0,170,1],[171,0,171,1],[172,0,172,1],[173,0,173,1],[174,0,174,1],[175,0,175,1],[176,0,176,1],[138,0,138,1],[166,0,166,1],[167,0,167,1],[144,0,144,1],[145,0,145,1],[142,0,142,1],[143,0,143,1],[140,0,140,1],[141,0,141,1],[148,0,148,1],[149,0,149,1],[146,0,146,1],[147,0,147,1],[150,0,150,9],[153,0,153,1],[154,0,154,1],[155,0,155,1],[156,0,156,1],[157,0,157,1],[158,0,158,1],[159,0,159,1],[160,0,160,1],[161,0,161,1],[162,0,162,1],[117,0,117,1],[118,0,118,1],[115,0,115,1],[41,0,41,1],[69,0,69,9],[70,0,70,1],[116,0,116,1],[113,0,113,1],[114,0,114,1],[111,0,111,1],[112,0,112,1],[109,0,109,1],[110,0,110,1],[79,0,79,1],[80,0,80,1],[91,0,91,1],[92,0,92,1],[93,0,93,1],[94,0,94,1],[95,0,95,1],[81,0,81,1],[51,0,51,1],[52,0,52,1],[53,0,53,1],[31,0,31,1],[32,0,32,1],[33,0,33,1],[34,0,34,1],[61,0,61,1],[62,0,62,1],[85,0,85,1],[86,0,86,1],[87,0,87,1],[35,0,35,1],[36,0,36,1],[37,0,37,1],[64,0,64,1],[65,0,65,1],[66,0,66,1],[38,0,38,1],[39,0,39,1],[40,0,40,1],[63,0,63,1],[49,0,49,1],[60,0,60,1],[15,0,15,9],[16,0,16,1],[17,0,17,1],[18,0,18,1],[19,0,19,1],[20,0,20,1],[21,0,21,1],[24,0,24,1],[25,0,25,1],[22,0,22,1],[23,0,23,1],[26,0,26,1],[27,0,27,1],[28,0,28,1],[29,0,29,1],[119,0,119,1],[120,0,120,1],[30,0,30,1],[270,0,270,1],[43,0,43,1],[44,0,44,1],[97,0,97,1],[98,0,98,1],[47,0,47,1],[48,0,48,1],[126,0,126,1],[127,0,127,1],[128,0,128,1],[129,0,129,1],[263,0,263,2],[123,0,123,9],[256,0,256,1],[124,0,124,1],[54,0,54,1],[58,0,58,1],[179,0,179,1],[177,0,177,9],[178,0,178,1],[105,0,105,1],[106,0,106,1],[163,0,163,1],[42,0,42,9],[99,0,99,1],[100,0,100,1],[101,0,101,1],[102,0,102,1],[45,0,45,1],[46,0,46,1],[50,0,50,1],[55,0,55,1],[56,0,56,1],[57,0,57,1],[67,0,67,1],[68,0,68,1],[59,0,59,1],[83,0,83,1],[84,0,84,1],[82,0,82,1],[88,0,88,1],[89,0,89,1],[90,0,90,1],[103,0,103,1],[104,0,104,1],[96,0,96,9],[71,0,71,1],[72,0,72,1],[73,0,73,1],[74,0,74,1],[75,0,75,1],[76,0,76,1],[77,0,77,1],[78,0,78,1],[108,0,108,1],[125,0,125,1],[107,0,107,1],[180,0,180,1],[181,0,181,1],[182,0,182,1],[183,0,183,1],[184,0,184,1],[185,0,185,1],[164,0,164,1],[165,0,165,1],[132,0,132,1],[133,0,133,1],[130,0,130,1],[131,0,131,1],[121,0,121,1],[122,0,122,1],[139,0,139,1],[136,0,136,1],[137,0,137,1],[134,0,134,1],[135,0,135,1],[151,0,151,1],[152,0,152,1],[186,0,186,1],[187,0,187,1],[188,0,188,1],[189,0,189,1],[190,0,190,1],[191,0,191,1],[192,0,192,1],[193,0,193,1],[194,0,194,1],[195,0,195,1],[196,0,196,1],[197,0,197,1],[208,0,208,1],[209,0,209,1],[210,0,210,1],[211,0,211,1],[212,0,212,1],[213,0,213,1],[203,0,203,9],[241,0,241,1],[249,0,249,1],[254,0,254,1],[248,0,248,1],[250,0,250,1],[251,0,251,1],[252,0,252,1],[253,0,253,1],[243,0,243,1],[244,0,244,1],[245,0,245,1],[246,0,246,1],[247,0,247,1],[242,0,242,1],[9,0,9,2],[8,1,8,2],[7,1,7,2],[235,0,235,1],[236,0,236,1],[237,0,237,1],[238,0,238,1],[239,0,239,1],[240,0,240,1],[198,0,198,1],[199,0,199,1],[200,0,200,1],[201,0,201,1],[202,0,202,1],[231,0,231,1],[232,0,232,1],[233,0,233,1],[234,0,234,1],[229,0,229,9],[230,0,230,1],[204,0,204,1],[205,0,205,1],[206,0,206,1],[207,0,207,1]]}
["SRC #17: Expanded Benefits - Medical",null,null,"Back to Respondent Information"]
[]
["Item","Score"]
["Total Points Possible:",100]
["Points Earned:",{"$f":"C271","v":0}]
["Percent:",{"$f":"B5/B4","v":0}]
[null,null,null,null,null,null,null,null,null,null,null,null,null,null,null,null,null,"Yes"]
[null,"Florida",null,null,null,null,null,null,null,null,null,null,null,null,null,null,null,"No"]
["Line of Business:","Medicaid"]
["Indicate which of the following Expanded Benefits will be offered to Enrollees and the proposed per-member per-month (PMPM) cost of each expanded benefit:"]
[null,"Offered","PMPM Cost"]
["Home Delivered Meals"]
["Newborn circumcision"]
["Non-Medical Transportation"]
["Over-the-Counter (OTC) Medications and Supplies"]
["EXPANDED BENEFITS: ADAPTIVE TECHNOLOGY TO ASSIST WITH COMMUNICATION\nNote: By completing this category, the Respondent is agreeing to offer all procedures within the category."]
["Category",null,"Sub-Category","Procedure Code Description","Procedure Code","Min Age","Max Age","Current Florida Medicaid Coverage (Pediatrics)","Expanded Benefit Coverage (Units)","PMPM Cost"]
[null,null,null,null,null,null,null,null,null,null,null,{"$f":"IF(AND(NOT(ISBLANK(A18)),NOT(ISBLANK(C18)), NOT(ISBLANK(D18)), NOT(ISBLANK(E18)), NOT(ISBLANK(F18)), NOT(ISBLANK(G18)), NOT(ISBLANK(H18)), NOT(ISBLANK(I18)), NOT(ISBLANK(J18))), 1, 0)","v":0}]
[]
[]
[]
[]
[]
[]
[]
[]
[]
[]
[]
[]
[]
[]
[]
[]
[]
[]
[]
[]
[]
[]
[]
[]
["EXPANDED BENEFITS: BIOMETRIC EQUIPMENT\nNote: By completing this category, the Respondent is agreeing to offer all procedures within the category."]
["Category",null,"Sub-Category","Procedure Code Description","Procedure Code","Min Age","Max Age","Current Florida Medicaid Coverage (Pediatrics)","Expanded Benefit Coverage (Units)","PMPM Cost"]
[null,null,null,null,null,null,null,null,null,null,null,{"$f":"IF(AND(NOT(ISBLANK(A45)),NOT(ISBLANK(C45)), NOT(ISBLANK(D45)), NOT(ISBLANK(E45)), NOT(ISBLANK(F45)), NOT(ISBLANK(G45)), NOT(ISBLANK(H45)), NOT(ISBLANK(I45)), NOT(ISBLANK(J45))), 1, 0)","v":0}]
[]
[]
[]
[]
[]
[]
[]
[]
[]
[]
[]
[]
[]
[]
[]
[]
[]
[]
[]
[]
[]
[]
[]
[]
["EXPANDED BENEFITS: EDUCATION SUPPORT\nNote: By completing this category, the Respondent is agreeing to offer all procedures within the category."]
["Category",null,"Sub-Category","Procedure Code Description","Procedure Code","Min Age","Max Age","Current Florida Medicaid Coverage (Pediatrics)","Expanded Benefit Coverage (Units)","PMPM Cost"]
[null,null,null,null,null,null,null,null,null,null,null,{"$f":"IF(AND(NOT(ISBLANK(A72)),NOT(ISBLANK(C72)), NOT(ISBLANK(D72)), NOT(ISBLANK(E72)), NOT(ISBLANK(F72)), NOT(ISBLANK(G72)), NOT(ISBLANK(H72)), NOT(ISBLANK(I72)), NOT(ISBLANK(J72))), 1, 0)","v":0}]
[]
[]
[]
[]
[]
[]
[]
[]
[]
[]
[]
[]
[]
[]
[]
[]
[]
[]
[]
[]
[]
[]
[]
[]
["EXPANDED BENEFITS:  HOUSE CLEANING AND SANITIZATION (e.g. Carpet Cleaning, Flu/Pandemic Prevention Kits, HEPA Filter Vacuum Cleaner, or Hypoallergenic Bedding)\nNote: By completing this category, the Respondent is agreeing to offer all procedures within the category."]
["Category",null,"Sub-Category","Procedure Code Description","Procedure Code","Min Age","Max Age","Current Florida Medicaid Coverage (Pediatrics)","Expanded Benefit Coverage (Units)","PMPM Cost"]
[null,null,null,null,null,null,null,null,null,null,null,{"$f":"IF(AND(NOT(ISBLANK(A99)),NOT(ISBLANK(C99)), NOT(ISBLANK(D99)), NOT(ISBLANK(E99)), NOT(ISBLANK(F99)), NOT(ISBLANK(G99)), NOT(ISBLANK(H99)), NOT(ISBLANK(I99)), NOT(ISBLANK(J99))), 1, 0)","v":0}]
[]
[]
[]
[]
[]
[]
[]
[]
[]
[]
[]
[]
[]
[]
[]
[]
[]
[]
[]
[]
[]
[]
[]
[]
["EXPANDED BENEFITS: CAREGIVER SUPPORT, INCLUDING RESPITE AND CHILDCARE\nNote: By completing this category, the Respondent is agreeing to offer all procedures within the category."]
["Category",null,"Sub-Category","Procedure Code Description","Procedure Code","Min Age","Max Age","Current Florida Medicaid Coverage (Pediatrics)","Expanded Benefit Coverage (Units)","PMPM Cost"]
[null,null,null,null,null,null,null,null,null,null,null,{"$f":"IF(AND(NOT(ISBLANK(A126)),NOT(ISBLANK(C126)), NOT(ISBLANK(D126)), NOT(ISBLANK(E126)), NOT(ISBLANK(F126)), NOT(ISBLANK(G126)), NOT(ISBLANK(H126)), NOT(ISBLANK(I126)), NOT(ISBLANK(J126))), 1, 0)","v":0}]
[]
[]
[]
[]
[]
[]
[]
[]
[]
[]
[]
[]
[]
[]
[]
[]
[]
[]
[]
[]
[]
[]
[]
[]
["EXPANDED BENEFITS: SUPPORT FOR WELLNESS (e.g., SPORTS OR OTHER RECREATIONAL ACTIVITY FEES, COOKING CLASSES, ART AND MUSIC THERAPY)\nNote: By completing this category, the Respondent is agreeing to offer all procedures within the category."]
["Category",null,"Sub-Category","Procedure Code Description","Procedure Code","Min Age","Max Age","Current Florida Medicaid Coverage (Pediatrics)","Expanded Benefit Coverage (Units)","PMPM Cost"]
[null,null,null,null,null,null,null,null,null,null,null,{"$f":"IF(AND(NOT(ISBLANK(A153)),NOT(ISBLANK(C153)), NOT(ISBLANK(D153)), NOT(ISBLANK(E153)), NOT(ISBLANK(F153)), NOT(ISBLANK(G153)), NOT(ISBLANK(H153)), NOT(ISBLANK(I153)), NOT(ISBLANK(J153))), 1, 0)","v":0}]
[]
[]
[]
[]
[]
[]
[]
[]
[]
[]
[]
[]
[]
[]
[]
[]
[]
[]
[]
[]
[]
[]
[]
[]
["EXPANDED BENEFITS: OTHER\nNote: By completing this category, the Respondent is agreeing to offer all procedures within the category."]
["Category",null,"Sub-Category","Procedure Code Description","Procedure Code","Min Age","Max Age","Current Florida Medicaid Coverage (Pediatrics)","Expanded Benefit Coverage (Units)","PMPM Cost"]
[null,null,null,null,null,null,null,null,null,null,null,{"$f":"IF(AND(NOT(ISBLANK(A180)),NOT(ISBLANK(C180)), NOT(ISBLANK(D180)), NOT(ISBLANK(E180)), NOT(ISBLANK(F180)), NOT(ISBLANK(G180)), NOT(ISBLANK(H180)), NOT(ISBLANK(I180)), NOT(ISBLANK(J180))), 1, 0)","v":0}]
[]
[]
[]
[]
[]
[]
[]
[]
[]
[]
[]
[]
[]
[]
[]
[]
[]
[]
[]
[]
[]
[]
[]
["EXPANDED BENEFITS: OTHER\nNote: By completing this category, the Respondent is agreeing to offer all procedures within the category."]
["Category",null,"Sub-Category","Procedure Code Description","Procedure Code","Min Age","Max Age","Current Florida Medicaid Coverage (Pediatrics)","Expanded Benefit Coverage (Units)","PMPM Cost"]
[null,null,null,null,null,null,null,null,null,null,null,{"$f":"IF(AND(NOT(ISBLANK(A206)),NOT(ISBLANK(C206)), NOT(ISBLANK(D206)), NOT(ISBLANK(E206)), NOT(ISBLANK(F206)), NOT(ISBLANK(G206)), NOT(ISBLANK(H206)), NOT(ISBLANK(I206)), NOT(ISBLANK(J206))), 1, 0)","v":0}]
[]
[]
[]
[]
[]
[]
[]
[]
[]
[]
[]
[]
[]
[]
[]
[]
[]
[]
[]
[]
[]
[]
[]
["EXPANDED BENEFITS: OTHER\nNote: By completing this category, the Respondent is agreeing to offer all procedures within the category."]
["Category",null,"Sub-Category","Procedure Code Description","Procedure Code","Min Age","Max Age","Current Florida Medicaid Coverage (Pediatrics)","Expanded Benefit Coverage (Units)","PMPM Cost"]
[null,null,null,null,null,null,null,null,null,null,null,{"$f":"IF(AND(NOT(ISBLANK(A232)),NOT(ISBLANK(C232)), NOT(ISBLANK(D232)), NOT(ISBLANK(E232)), NOT(ISBLANK(F232)), NOT(ISBLANK(G232)), NOT(ISBLANK(H232)), NOT(ISBLANK(I232)), NOT(ISBLANK(J232))), 1, 0)","v":0}]
[]
[]
[]
[]
[]
[]
[]
[]
[]
[]
[]
[]
[]
[]
[]
[]
[]
[]
[]
[]
[]
[]
[]
[]
["Scores: "]
[]
["Criteria","Points Available","Points Earned"]
["Home Delivered Meals",15,{"$f":"IF(B12=\"Yes\", B260, 0)","v":0}]
["Newborn circumcision",15,{"$f":"IF(B13=\"Yes\", B261, 0)","v":0}]
["Non-Medical Transportation",15,{"$f":"IF(B14=\"Yes\", B262, 0)","v":0}]
["Over-the-Counter (OTC) Medications and Supplies",15,{"$f":"IF(B15=\"Yes\", B263, 0)","v":0}]
["Additional Proposed Expanded Benefits"]
["Adaptive Technology ",6,{"$f":"IF(L18>0, B265, 0)","v":0}]
["Biometric Equipment",6,{"$f":"IF(L45>0, B266, 0)","v":0}]
["Education Support",6,{"$f":"IF(L72>0, B267, 0)","v":0}]
["House Cleaning and Sanitization",6,{"$f":"IF(L99>0, B268, 0)","v":0}]
["Respite",10,{"$f":"IF(L126>0, B269, 0)","v":0}]
["Support for Wellness",6,{"$f":"IF(L153>0, B270, 0)","v":0}]
["Total Points Earned:",null,{"$f":"SUM(C260:C270)","v":0}]

{"sheet":"Chr Disease Management","index":5,"n_rows":48,"n_cols":9,"rows_kept":48,"cut":false,"hidden":false,"merged":[[0,2,0,3],[46,1,46,2],[47,0,47,2],[29,0,29,1],[36,1,36,2],[41,1,41,2],[42,0,46,0],[32,0,36,0],[37,0,41,0]]}
["SRC #18: Chronic Disease Management Program",null,"Back to Respondent Information"]
[]
["Item","Score"]
["Total Points Possible:",100]
["Points Earned:",{"$f":"D48","v":0}]
["Percent:",{"$f":"B5/B4","v":0}]
[]
[null,{"$f":"'Respondent Information'!C6","v":0},{"$f":"'Respondent Information'!C9","v":0},{"$f":"'Respondent Information'!C12","v":0}]
["Line of Business:",{"$f":"'Respondent Information'!E6","v":0},{"$f":"'Respondent Information'!E9","v":0},{"$f":"'Respondent Information'!E12","v":0}]
["Indicate the diseases for which management programs have been implemented under each contract: "]
["Cancer",null,null,null,null,{"$f":"IF(B11=\"Yes\", 2, 0)","v":0},{"$f":"IF(C11=\"Yes\", 2, 0)","v":0},0]
["Total Number of Enrollees with Cancer",null,null,null,null,null,null,null,"Yes"]
["Total number of enrollees with cancer who participated in chronic disease management program",null,null,null,null,null,null,null,"No"]
["Percent of enrollees with cancer who participated in chronic disease management program",{"$f":"IF(ISERROR(B13/B12), 0, B13/B12)","v":0},{"$f":"IF(ISERROR(C13/C12), 0, C13/C12)","v":0},0]
["Asthma",null,null,null,null,{"$f":"IF(B15=\"Yes\", 2, 0)","v":0},{"$f":"IF(C15=\"Yes\", 2, 0)","v":0},0]
["Total Number of Enrollees with Asthma"]
["Total number of enrollees with Asthma who participated in chronic disease management program"]
["Percent of enrollees with Asthma who participated in chronic disease management program",{"$f":"IF(ISERROR(B17/B16), 0, B17/B16)","v":0},{"$f":"IF(ISERROR(C17/C16), 0, C17/C16)","v":0},{"$f":"IF(ISERROR(D17/D16), 0, D17/D16)","v":0}]
["Behavioral Health Conditions (i.e. ADHD, Anxiety, Depression)",null,null,null,null,{"$f":"IF(B19=\"Yes\", 2, 0)","v":0},{"$f":"IF(C19=\"Yes\", 2, 0)","v":0},0]
["Total Number of Enrollees with behavioral health conditions"]
["Total number of enrollees who participated in chronic disease management program for the behavioral health conditions"]
["Percent of enrollees who participated in chronic disease management program for the behavioral health condition",{"$f":"IF(ISERROR(B21/B20), 0, B21/B20)","v":0},{"$f":"IF(ISERROR(C21/C20), 0, C21/C20)","v":0},{"$f":"IF(ISERROR(D21/D20), 0, D21/D20)","v":0}]
["Diabetes (Type 1 or Type 2)",null,null,null,null,{"$f":"IF(B23=\"Yes\", 2, 0)","v":0},{"$f":"IF(C23=\"Yes\", 2, 0)","v":0},0]
["HIV/AIDS",null,null,null,null,{"$f":"IF(B24=\"Yes\",2, 0)","v":0},{"$f":"IF(C24=\"Yes\",2, 0)","v":0},0]
["Bipolar disorder",null,null,null,null,{"$f":"IF(B25=\"Yes\",2, 0)","v":0},{"$f":"IF(C25=\"Yes\",2, 0)","v":0},{"$f":"IF(D25=\"Yes\",2, 0)","v":0}]
["Cardiovascular disease",null,null,null,null,0,0,0]
["Chronic kidney disease",null,null,null,null,0,0,0]
["Sickle cell disease",null,null,null,null,0,0,0]
[null,null,null,null,null,{"$f":"SUM(F11:F28)","v":0},{"$f":"SUM(G11:G28)","v":0},{"$f":"SUM(H11:H28)","v":0}]
["Scores: "]
[]
["State","Criteria","Points Available","Points Earned"]
[{"$f":"B8","v":0},"Chronic Disease Programs",18,{"$f":"F29","v":0}]
[null,"Percent of enrollees with cancer who participated in a chronic disease management program for cancer",5.1100000000000003,{"$f":"IF(B14>0.5, 5.11, IF(B14>0.2499, 3, IF(B14>0.0099, 1, 0)))","v":0}]
[null,"Percent of enrollees with Asthma who participated in a chronic disease management program for Asthma",5.1100000000000003,{"$f":"IF(B18>0.5, 5.11, IF(B18>0.2499, 3, IF(B18>0.0099, 1, 0)))","v":0}]
[null,"Percent of enrollees with behavioral health conditions who participated in a chronic disease management program for behavioral health conditions ",5.1100000000000003,{"$f":"IF(B22>0.5, 5.11, IF(B22>0.2499, 3, IF(B22>0.0099, 1, 0)))","v":0}]
[null,"State Points Earned:",null,{"$f":"SUM(D33:D36)","v":0}]
[{"$f":"C8","v":0},"Chronic Disease Programs",18,{"$f":"G29","v":0}]
[null,"Percent of enrollees with cancer who participated in a chronic disease management program for cancer",5.1100000000000003,{"$f":"IF(C14>0.5, 5.11, IF(C14>0.2499, 3, IF(C14>0.0099, 1, 0)))","v":0}]
[null,"Percent of enrollees with Asthma who participated in a chronic disease management program for Asthma",5.1100000000000003,{"$f":"IF(C18>0.5, 5.11, IF(C18>0.2499, 3, IF(C18>0.0099, 1, 0)))","v":0}]
[null,"Percent of enrollees with behavioral health conditions who participated in a chronic disease management program for behavioral health conditions ",5.1100000000000003,{"$f":"IF(C22>0.5, 5.11, IF(C22>0.2499, 3, IF(C22>0.0099, 1, 0)))","v":0}]
[null,"State Points Earned:",null,{"$f":"SUM(D38:D41)","v":0}]
[{"$f":"D8","v":0},"Chronic Disease Programs",18,{"$f":"H29","v":0}]
[null,"Percent of enrollees with cancer who participated in a chronic disease management program for cancer",5.1100000000000003,{"$f":"IF(D14>0.5, 5.11, IF(D14>0.2499, 3, IF(D14>0.0099, 1, 0)))","v":0}]
[null,"Percent of enrollees with Asthma who participated in a chronic disease management program for Asthma",5.1100000000000003,{"$f":"IF(D18>0.5, 5.11, IF(D18>0.2499, 3, IF(D18>0.0099, 1, 0)))","v":0}]
[null,"Percent of enrollees with behavioral health conditions who participated in a chronic disease management program for behavioral health conditions ",5.1100000000000003,{"$f":"IF(D22>0.5, 5.11, IF(D22>0.2499, 3, IF(D22>0.0099, 1, 0)))","v":0}]
[null,"State Points Earned:",null,{"$f":"SUM(D43:D46)","v":0}]
["Total Points Earned:",null,null,{"$f":"SUM(D37,D42,D47)","v":0}]

{"sheet":"HEDIS","index":6,"n_rows":44,"n_cols":26,"rows_kept":44,"cut":false,"hidden":false,"merged":[[25,0,25,1],[27,0,29,0],[28,4,28,5],[28,9,28,10],[8,20,8,22],[9,20,9,22],[28,1,28,3],[27,1,27,5],[27,6,27,10],[28,6,28,8],[27,11,27,15],[0,2,0,4],[7,1,7,3],[7,4,7,6],[7,7,7,9],[8,1,8,3],[8,4,8,6],[8,7,8,9],[43,1,43,15],[41,1,41,5],[41,6,41,10],[41,11,41,15],[28,11,28,13],[28,14,28,15],[42,1,42,5],[42,6,42,10],[42,11,42,15]]}
["SRC #19: HEDIS Measures",null,"Back to Respondent Information"]
[]
["Item","Score"]
["Total Points Possible:",100]
["Points Earned:",{"$f":"B44","v":0}]
["Percent:",{"$f":"B5/B4","v":0}]
[]
["State",{"$f":"'Respondent Information'!C6","v":0},null,null,{"$f":"'Respondent Information'!C9","v":0},null,null,{"$f":"'Respondent Information'!C12","v":0}]
["Line of Business",{"$f":"'Respondent Information'!E6","v":0},null,null,{"$f":"'Respondent Information'!E9","v":0},null,null,{"$f":"'Respondent Information'!E12","v":0},null,null,null,null,null,null,null,null,null,null,null,"National Means",{"$f":"'Respondent Information'!I12","v":0}]
["Geographic Area of Contract (Statewide vs. Not Statewide)",null,null,null,null,null,null,null,null,null,null,null,null,null,null,null,null,null,null,null,null,null,null,null,null,"Statewide"]
["Number of Florida Medicaid Regions Covered (if applicable)",null,null,null,null,null,null,null,null,null,null,null,null,null,null,null,null,null,null,null,"\\","\\","\\",null,null,"Not Statewide"]
["Measurement/Calendar Year",{"$f":"$U$13","v":2020},{"$f":"$V$13","v":2021},{"$f":"$W$13","v":2022},{"$f":"$U$13","v":2020},{"$f":"$V$13","v":2021},{"$f":"$W$13","v":2022},{"$f":"$U$13","v":2020},{"$f":"$V$13","v":2021},{"$f":"$W$13","v":2022}]
["HEDIS Measure",null,null,null,null,null,null,null,null,null,null,null,null,null,null,null,null,null,null,null,2020,2021,2022]
["Asthma Medication Ratio - Total",null,null,null,null,null,null,null,null,null,null,null,null,null,null,null,null,null,null,"Asthma Medication Ratio - Total",0.66,0.65,0.65529999999999999,null,null,1]
["Child and Adolescent Well-Care Visits - Ages 3-11",null,null,null,null,null,null,null,null,null,null,null,null,null,null,null,null,null,null,"Child and Adolescent Well-Care Visits - Ages 3-11",0.53,0.56999999999999995,0.56499999999999995,null,null,2]
["Child and Adolescent Well-Care Visits - Ages 12-17",null,null,null,null,null,null,null,null,null,null,null,null,null,null,null,null,null,null,"Child and Adolescent Well-Care Visits - Ages 12-17",0.47,0.52,0.49940000000000001,null,null,3]
["Child and Adolescent Well-Care Visits - Ages 18-21",null,null,null,null,null,null,null,null,null,null,null,null,null,null,null,null,null,null,"Child and Adolescent Well-Care Visits - Ages 18-21",0.27,0.27,0.25990000000000002,null,null,4]
["Childhood Immunization Status - Combo 3",null,null,null,null,null,null,null,null,null,null,null,null,null,null,null,null,null,null,"Childhood Immunization Status - Combo 3",0.68,0.63,0.63160000000000005,null,null,5]
["Follow-up after Hospitalization for Mental Illness - Total - 7-day Follow-up",null,null,null,null,null,null,null,null,null,null,null,null,null,null,null,null,null,null,"Follow-up after Hospitalization for Mental Illness - Total - 7-day Follow-up",0.4,0.39,0.36609999999999998,null,null,6]
["Immunizations for Adolescents - Combo 1",null,null,null,null,null,null,null,null,null,null,null,null,null,null,null,null,null,null,"Immunizations for Adolescents - Combo 1",0.8,0.78,0.78320000000000001,null,null,7]
["Well-Child Visits in the First 30 Months - Ages 0-15 Mos",null,null,null,null,null,null,null,null,null,null,null,null,null,null,null,null,null,null,"Well-Child Visits in the First 30 Months - Ages 0-15 Mos",0.53,0.54,0.56759999999999999,null,null,8]
["Well-Child Visits in the First 30 Months - Ages 15-30 Mos",null,null,null,null,null,null,null,null,null,null,null,null,null,null,null,null,null,null,"Well-Child Visits in the First 30 Months - Ages 15-30 Mos",0.71,0.66,0.66739999999999999,null,null,9]
["Follow-up Care for Children Prescribed ADHD Medication (ADD) – Initiation Phase",null,null,null,null,null,null,null,null,null,null,null,null,null,null,null,null,null,null,"Follow-up Care for Children Prescribed ADHD Medication (ADD) – Initiation Phase",0.43959999999999999,0.39679999999999999,0.43619999999999998,null,null,10]
["Metabolic Monitoring for Children and Adolescents on Antipsychotics – Total – Blood Glucose and Cholesterol Testing ",null,null,null,null,null,null,null,null,null,null,null,null,null,null,null,null,null,null,"Metabolic Monitoring for Children and Adolescents on Antipsychotics – Total – Blood Glucose and Cholesterol Testing ",0.32069999999999999,0.36570000000000003,0.3629,null,null,11]
[]
["Scores: "]
[]
["SCORING MATRIX: HEDIS Measures",{"$f":"B8","v":0},null,null,null,null,{"$f":"E8","v":0},null,null,null,null,{"$f":"H8","v":0}]
[null,"Exceeds National Mean",null,null,"Increased from Previous Year",null,"Exceeds National Mean",null,null,"Increased from Previous Year",null,"Exceeds National Mean",null,null,"Increased from Previous Year"]
[null,{"$f":"$U$13","v":2020},{"$f":"$V$13","v":2021},{"$f":"$W$13","v":2022},{"$f":"$V$13","v":2021},{"$f":"$W$13","v":2022},{"$f":"$U$13","v":2020},{"$f":"$V$13","v":2021},{"$f":"$W$13","v":2022},{"$f":"$V$13","v":2021},{"$f":"$W$13","v":2022},{"$f":"$U$13","v":2020},{"$f":"$V$13","v":2021},{"$f":"$W$13","v":2022},{"$f":"$V$13","v":2021},{"$f":"$W$13","v":2022}]
["Asthma Medication Ratio - Total",{"$f":"IF(B14>$U14,0.74, 0)","v":0},{"$f":"IF(C14>$V14, 0.74, 0)","v":0},{"$f":"IF(D14>$W14,0.74, 0)","v":0},{"$f":"IF(OR(ISBLANK(B14),B14=0),0,IF(C14>B14, 0.74,0))","v":0},{"$f":"IF(   OR(ISBLANK(C14),C14=0),  IF(OR(ISBLANK(B14),B14=0), 0, IF(D14>B14, 0.74,0)),   IF(D14>C14, 0.74,0)   )","v":0},{"$f":"IF(E14>$U14,0.74, 0)","v":0},{"$f":"IF(F14>$V14, 0.74, 0)","v":0},{"$f":"IF(G14>$W14,0.74, 0)","v":0},{"$f":"IF(OR(ISBLANK(E14),E14=0),0,IF(F14>E14, 0.74,0))","v":0},{"$f":"IF(   OR(ISBLANK(F14),F14=0),  IF(OR(ISBLANK(E14),E14=0), 0, IF(G14>E14, 0.74,0)),   IF(G14>F14, 0.74,0)   )","v":0},{"$f":"IF(H14>$U14,0.74, 0)","v":0},{"$f":"IF(I14>$V14, 0.74, 0)","v":0},{"$f":"IF(J14>$W14,0.74, 0)","v":0},{"$f":"IF(OR(ISBLANK(H14),H14=0),0,IF(I14>H14, 0.74,0))","v":0},{"$f":"IF(   OR(ISBLANK(I14),I14=0),  IF(OR(ISBLANK(H14),H14=0), 0, IF(J14>H14, 0.74,0)),   IF(J14>I14, 0.74,0)   )","v":0}]
["Child and Adolescent Well-Care Visits - Ages 3-11 (2020 and 2021 only)",{"$f":"IF(B15>$U15,2.22, 0)","v":0},{"$f":"IF(C15>$V15, 0.74, 0)","v":0},{"$f":"IF(D15>$W15,0.74, 0)","v":0},null,{"$f":"IF(   OR(ISBLANK(C15),C15=0),  IF(OR(ISBLANK(B15),B15=0), 0, IF(D15>B15, 0.74,0)),   IF(D15>C15, 0.74,0)   )","v":0},null,{"$f":"IF(F15>$V15, 0.74, 0)","v":0},{"$f":"IF(G15>$W15,0.74, 0)","v":0},null,{"$f":"IF(   OR(ISBLANK(F15),F15=0),  IF(OR(ISBLANK(E15),E15=0), 0, IF(G15>E15, 0.74,0)),   IF(G15>F15, 0.74,0)   )","v":0},null,{"$f":"IF(I15>$V15, 0.74, 0)","v":0},{"$f":"IF(J15>$W15,0.74, 0)","v":0},null,{"$f":"IF(   OR(ISBLANK(I15),I15=0),  IF(OR(ISBLANK(H15),H15=0), 0, IF(J15>H15, 0.74,0)),   IF(J15>I15, 0.74,0)   )","v":0}]
["Child and Adolescent Well-Care Visits - Ages 12-17 (2020 and 2021 only)",{"$f":"IF(B16>$U16,2.22, 0)","v":0},0,0,null,0,null,0,0,null,0,null,0,0,null,0]
["Child and Adolescent Well-Care Visits - Ages 18-21 (2020 and 2021 only)",0,0,0,null,0,null,0,0,null,0,null,0,0,null,0]
["Childhood Immunization Status - Combo 3",{"$f":"IF(B18>$U18,0.74, 0)","v":0},0,0,{"$f":"IF(OR(ISBLANK(B18),B18=0),0,IF(C18>B18, 0.74,0))","v":0},0,{"$f":"IF(E18>$U18,0.74, 0)","v":0},0,0,{"$f":"IF(OR(ISBLANK(E18),E18=0),0,IF(F18>E18, 0.74,0))","v":0},0,{"$f":"IF(H18>$U18,0.74, 0)","v":0},0,0,{"$f":"IF(OR(ISBLANK(H18),H18=0),0,IF(I18>H18, 0.74,0))","v":0},0]
["Follow-up after Hospitalization for Mental Illness - Total - 7-day Follow-up",{"$f":"IF(B19>$U19,0.74, 0)","v":0},0,0,0,0,{"$f":"IF(E19>$U19,0.74, 0)","v":0},0,0,{"$f":"IF(OR(ISBLANK(E19),E19=0),0,IF(F19>E19, 0.74,0))","v":0},0,{"$f":"IF(H19>$U19,0.74, 0)","v":0},0,0,{"$f":"IF(OR(ISBLANK(H19),H19=0),0,IF(I19>H19, 0.74,0))","v":0},0]
["Immunizations for Adolescents - Combo 1",0,0,0,0,0,0,0,0,0,0,0,0,0,0,0]
["Well-Child Visits in the First 30 Months - Ages 0-15 Mos (2020 and 2021 only)",null,0,0,null,0,null,0,0,null,0,null,0,0,null,0]
["Well-Child Visits in the First 30 Months - Ages 15-30 Mos (2020 and 2021 only)",null,0,0,null,0,null,0,0,null,0,null,0,0,null,0]
["Follow-up Care for Children Prescribed ADHD Medication (ADD) – Initiation Phase",{"$f":"IF(B23>$U23,0.74, 0)","v":0},0,0,{"$f":"IF(OR(ISBLANK(B23),B23=0),0,IF(C23>B23, 0.74,0))","v":0},0,{"$f":"IF(E23>$U23,0.74, 0)","v":0},0,0,{"$f":"IF(OR(ISBLANK(E23),E23=0),0,IF(F23>E23, 0.74,0))","v":0},0,{"$f":"IF(H23>$U23,0.74, 0)","v":0},0,0,{"$f":"IF(OR(ISBLANK(H23),H23=0),0,IF(I23>H23, 0.74,0))","v":0},0]
["Metabolic Monitoring for Children and Adolescents on Antipsychotics – Total – Blood Glucose and Cholesterol Testing ",0,0,0,{"$f":"IF(OR(ISBLANK(B24),B24=0),0,IF(C24>B24, 0.74,0))","v":0},0,0,0,0,0,0,0,0,0,0,0]
["Total Points Per Contract:",{"$f":"SUM(B31:F41)","v":0},null,null,null,null,{"$f":"SUM(G31:K41)","v":0},null,null,null,null,{"$f":"SUM(L31:P41)","v":0}]
["Weighted Points Per Contract:",{"$f":"IF(B28=\"Florida\",IF(D11>8,B42,IF(D11>4,B42*0.9,B42*0.8)),IF(D10=\"Statewide\",B42*0.9,B42*0.8))","v":0},null,null,null,null,{"$f":"IF(G28=\"Florida\",IF(G11>8,G42,IF(G11>4,G42*0.9,G42*0.8)),IF(G10=\"Statewide\",G42*0.9,G42*0.8))","v":0},null,null,null,null,{"$f":"IF(L28=\"Florida\",IF(J11>8,L42,IF(J11>4,L42*0.9,L42*0.8)),IF(J10=\"Statewide\",L42*0.9,L42*0.8))","v":0}]
["Total Points Earned:",{"$f":"SUM(B43:P43)","v":0}]

{"sheet":"Commitment to Quality","index":7,"n_rows":40,"n_cols":11,"rows_kept":40,"cut":false,"hidden":false,"merged":[[8,0,8,1],[8,2,8,3],[8,4,8,5],[24,0,24,1],[39,0,39,2],[30,1,30,2],[34,1,34,2],[38,1,38,2],[27,0,30,0],[31,0,34,0],[35,0,38,0]]}
["SRC #20: Organizational Commitment to Quality",null,null,"Back to Respondent Information"]
[]
["Item","Score"]
["Total Points Possible:",100]
["Points Earned:",{"$f":"D40","v":0}]
["Percent:",{"$f":"B5/B4","v":0}]
[]
[]
[{"$f":"'Respondent Information'!C6","v":0},null,{"$f":"'Respondent Information'!C9","v":0},null,{"$f":"'Respondent Information'!C12","v":0},null,null,null,null,null,"Mental Health"]
["Line of Business",{"$f":"'Respondent Information'!E6","v":0},"Line of Business",{"$f":"'Respondent Information'!E9","v":0},"Line of Business",{"$f":"'Respondent Information'!E12","v":0},null,null,null,null,"Disease Management"]
["Project Focus",null,"Project Focus",null,"Project Focus",null,null,null,null,null,"Medical Foster Care"]
["Key Metric",null,"Key Metric",null,"Key Metric",null,null,null,null,null,"Private Duty Nursing"]
["Desired Metric Change",null,"Desired Metric Change",null,"Desired Metric Change",null,null,null,null,null,"Other"]
["Baseline Key Metric Rate",null,"Baseline Key Metric Rate",null,"Baseline Key Metric Rate"]
["Key Metric Rate after Project",null,"Key Metric Rate after Project",null,"Key Metric Rate after Project"]
["Change in Key Metric Rate in %",{"$f":"IF(ISERROR(((B15-B14)/B14)),0,((B15-B14)/B14))","v":0},"Change in Key Metric Rate in %",{"$f":"IF(ISERROR(((D15-D14)/D14)),0,((D15-D14)/D14))","v":0},"Change in Key Metric Rate in %",{"$f":"IF(ISERROR(((F15-F14)/F14)),0,((F15-F14)/F14))","v":0},null,null,null,null,"Increase"]
["% of Enrolleees Targeted",null,"% of Enrolleees Targeted",null,"% of Enrolleees Targeted",null,null,null,null,null,"Decrease"]
[]
[]
[null,null,null,null,null,null,null,null,null,null,15]
[null,null,null,null,null,null,null,null,null,null,{"$f":"15*0.8","v":12}]
[null,null,null,null,null,null,null,null,null,null,{"$f":"15*0.6","v":9}]
[null,null,null,null,null,null,null,null,null,null,{"$f":"15*0.4","v":6}]
[null,null,null,null,null,null,null,null,null,null,{"$f":"15*0.2","v":3}]
["Scores: "]
[]
["State","Criteria","Points Available","Points Earned"]
[{"$f":"'Respondent Information'!C6","v":0},"Change in Key Metric Rate",15,{"$f":"IF(B13=\"Decrease\", IF(B16<=-0.2, K20, IF(B16<=-0.16, K20*0.8, IF(B16<=-0.11, K20*0.6, IF(B16<=-0.06, K20*0.4, IF(B16<=-0.01, K20*0.2, 0))))), IF(B16>=0.2, K20, IF(B16>=0.16, K20*0.8, IF(B16>=0.11, K20*0.6, IF(B16>=0.06, K20*0.4, IF(B16>=0.01, K20*0.2, 0))))))","v":0}]
[null,"% of Enrollees Targeted by QI Project",15,{"$f":"IF(B17>0.1999,15,IF(B17>0.1599,12,IF(B17>0.1099,9,IF(B17>0.0599,6,IF(B17>0.0099,3,0)))))","v":0}]
[null,"Project Focus",3.33,{"$f":"IF(ISBLANK(B11), 0, IF(B11<>\"Other\", 3.33, 0))","v":0}]
[null,"State Points Earned:",null,{"$f":"SUM(D28:D30)","v":0}]
[{"$f":"'Respondent Information'!C9","v":0},"Change in Key Metric Rate",15,{"$f":"IF(D13=\"Decrease\", IF(D16<=-0.2, K20, IF(D16<=-0.16, K20*0.8, IF(D16<=-0.11, K20*0.6, IF(D16<=-0.06, K20*0.4, IF(D16<=-0.01, K20*0.2, 0))))), IF(D16>=0.2, K20, IF(D16>=0.16, K20*0.8, IF(D16>=0.11, K20*0.6, IF(D16>=0.06, K20*0.4, IF(D16>=0.01, K20*0.2, 0))))))","v":0}]
[null,"% of Enrollees Targeted by QI Project",15,{"$f":"IF(D17>0.1999,15,IF(D17>0.1599,12,IF(D17>0.1099,9,IF(D17>0.0599,6,IF(D17>0.0099,3,0)))))","v":0}]
[null,"Project Focus",3.33,{"$f":"IF(ISBLANK(D11),0,(IF(D11<>\"Other\",3.33,0)))","v":0}]
[null,"State Points Earned:",null,{"$f":"SUM(D32:D34)","v":0}]
[{"$f":"'Respondent Information'!C12","v":0},"Change in Key Metric Rate",15,{"$f":"IF(F13=\"Decrease\", IF(F16<=-0.2, K20, IF(F16<=-0.16, K20*0.8, IF(F16<=-0.11, K20*0.6, IF(F16<=-0.06, K20*0.4, IF(F16<=-0.01, K20*0.2, 0))))), IF(F16>=0.2, K20, IF(F16>=0.16, K20*0.8, IF(F16>=0.11, K20*0.6, IF(F16>=0.06, K20*0.4, IF(F16>=0.01, K20*0.2, 0))))))","v":0}]
[null,"% of Enrollees Targeted by QI Project",15,{"$f":"IF(F17>0.1999,15,IF(F17>0.1599, 12,IF(F17>0.1099,9,IF(F17>0.0599,6,IF(F17>0.0099,3,0)))))","v":0}]
[null,"Project Focus",3.33,{"$f":"IF(ISBLANK(F11), 0, IF(F11<>\"Other\", 3.33, 0))","v":0}]
[null,"State Points Earned:",null,{"$f":" SUM(D36:D38)","v":0}]
["Total Points Earned: ",null,null,{"$f":"SUM(D31,D35,D39)","v":0}]

{"sheet":"Person-Centered Care","index":8,"n_rows":64,"n_cols":10,"rows_kept":64,"cut":false,"hidden":false,"merged":[[16,0,16,2],[17,0,17,2],[18,0,18,1],[20,5,20,6],[28,5,28,6],[19,0,19,1],[29,5,29,6],[22,5,22,6],[21,5,21,6],[27,5,27,6],[23,5,23,6],[24,5,24,6],[25,5,25,6],[26,5,26,6],[33,5,33,6],[30,5,30,6],[31,5,31,6],[32,5,32,6],[33,0,33,1],[32,0,32,1],[34,5,34,6],[35,5,35,6],[40,1,40,3],[37,0,37,1],[34,0,34,1],[35,0,35,1],[40,0,45,0],[43,1,43,3],[45,1,45,2],[63,0,63,2],[52,1,52,3],[58,1,58,3],[55,1,55,3],[57,1,57,2],[58,0,62,0],[61,1,61,3],[52,0,57,0],[51,1,51,2],[20,0,20,2],[21,0,21,1],[22,0,22,1],[24,0,24,1],[25,0,25,1],[26,0,26,1],[27,0,27,1],[46,0,51,0],[28,0,28,1],[29,0,29,1],[30,0,30,1],[31,0,31,1],[23,0,23,1],[46,1,46,3],[49,1,49,3]]}
["SRC #21: Person-Centered Care and Patient Centered Medical Homes",null,null,"Back to Respondent Information"]
[]
["Item","Score"]
["Total Points Possible: ",100]
["Points Earned:",{"$f":"D64","v":0}]
["Percent:",{"$f":"B5/B4","v":0}]
[]
[null,{"$f":"'Respondent Information'!C6","v":0},{"$f":"'Respondent Information'!C9","v":0},{"$f":"'Respondent Information'!C12","v":0}]
["Line of Business",{"$f":"'Respondent Information'!E6","v":0},{"$f":"'Respondent Information'!E9","v":0},{"$f":"'Respondent Information'!E12","v":0}]
["Most Recent Contract Year",{"$f":"IF(AND(ISBLANK('Respondent Information'!M5), ISBLANK('Respondent Information'!K5)), 'Respondent Information'!I5, IF(ISBLANK('Respondent Information'!M5), 'Respondent Information'!K5, 'Respondent Information'!M5))","v":0},{"$f":"IF(AND(ISBLANK('Respondent Information'!M9), ISBLANK('Respondent Information'!K9)), 'Respondent Information'!I9, IF(ISBLANK('Respondent Information'!M9), 'Respondent Information'!K9, 'Respondent Information'!M9))","v":0},{"$f":"IF(AND(ISBLANK('Respondent Information'!M12), ISBLANK('Respondent Information'!K12)), 'Respondent Information'!I12, IF(ISBLANK('Respondent Information'!M12), 'Respondent Information'!K12, 'Respondent Information'!M12))","v":0}]
[null,"Percentage who practiced in a certified person-centered medical home (PCMH) in the most recent complete contract year","Percentage who practiced in a certified person-centered medical home (PCMH) in the most recent complete contract year","Percentage who practiced in a certified person-centered medical home (PCMH) in the most recent complete contract year",null,null,null,null,null,"Yes"]
["Physician Specialties",null,null,null,null,null,null,null,null,"No"]
["Pediatrics"]
["Child Psychiatrists"]
["Percentage of enrollees that have had outpatient encounters with the same Primary Care Provider specializing in Pediatrics at least two times in the last three years, with at least one outpatient visit in CY2021 and one outpatient visit in CY2023"]
["For Prospective Contract with Florida Medicaid"]
["Percentage who practiced in a certified person-centered medical home (PCMH) at the time of application submission"]
["Physician Specialties"]
["Pediatrics"]
["Child Psychiatrists"]
["Indicate which of the following Florida children's hospitals you have a written contract with at the time of application submission that includes coordination of care in a multidisciplinary clinic for medically complex children "]
["John's Hopkins All Children's Hospital in St. Petersburg",null,null,null,null,null,null,null,"Contracts"]
["Nemours Children's Hospital in Orlando",null,null,null,null,null,null,null,{"$f":"IF(C22=\"Yes\", 1, 0)","v":0}]
["Nicklaus Children's Hospital in Miami",null,null,null,null,null,null,null,{"$f":"IF(C23=\"Yes\", 1, 0)","v":0}]
["Wolfson Children's Hospital in Jacksonville",null,null,null,null,null,null,null,0]
["Arnold Palmer Hospital for Children in Orlando",null,null,null,null,null,null,null,0]
["Florida Hospital for Children in Orlando",null,null,null,null,null,null,null,0]
["Joe DiMaggio Children's Hospital in Hollywood",null,null,null,null,null,null,null,0]
["St. Joseph's Children's Hospital in Tampa",null,null,null,null,null,null,null,0]
["UF Health Shands Children's Hospital",null,null,null,null,null,null,null,0]
["University of Miami Holtz Children's Hospital of Miami",null,null,null,null,null,null,null,0]
["Children's Medical Center at Tampa General Hospital",null,null,null,null,null,null,null,0]
["Golisano Children's Hospital of Southwest Florida",null,null,null,null,null,null,null,0]
["Palm Beach Children's Hospital at St. Mary's Medical Center",null,null,null,null,null,null,null,0]
["Salah Foundation Children's Hospital",null,null,null,null,null,null,null,0]
["Studer Family Children's Hospital",null,null,null,null,null,null,null,0]
[null,null,null,null,null,null,null,null,0]
["Scores: ",null,null,null,null,null,null,null,{"$f":"SUM(I23:I37)","v":0}]
[]
["State","Criteria","Points Available","Points Earned"]
[{"$f":"B8","v":0},"1. Percentage who practiced in a certified person-centered medical home (PCMH) in the most recent complete contract year"]
[null,"Pediatrics",8.33,{"$f":"IF(B13>0.5, 8.33, IF(B13>0.2499, 3, IF(B13>=0.01, 1, 0)))","v":0}]
[null,"Child Psychiatrists",8.33,{"$f":"IF(B14>0.5, 8.33, IF(B14>0.2499, 3, IF(B14>=0.01, 1, 0)))","v":0}]
[null,"2. Percentage of enrollees that have had outpatient encounters with the same Primary Care Provider specializing in Pediatrics at least two times in the last three years, with at least one outpatient visit in CY2021 and one outpatient visit in CY2023"]
[null,"% of Enrollees with Outpatient Encounters with the Same PCP",8.33,{"$f":"IF(B15>0.5, 8.33, IF(B15>0.2499, 3, IF(B15>=0.01, 1, 0)))","v":0}]
[null,"State Points Earned:",null,{"$f":"SUM(D42:D43,D45)","v":0}]
[{"$f":"C8","v":0},"1. Percentage who practiced in a certified person-centered medical home (PCMH) in the most recent complete contract year"]
[null,"Pediatrics",8.33,{"$f":"IF(C13>0.5, 8.33, IF(C13>0.2499, 3, IF(C13>=0.01, 1, 0)))","v":0}]
[null,"Child Psychiatrists",8.33,{"$f":"IF(C14>0.5, 8.33, IF(C14>0.2499, 3, IF(C14>=0.01, 1, 0)))","v":0}]
[null,"2. Percentage of enrollees that have had outpatient encounters with the same Primary Care Provider specializing in Pediatrics at least two times in the last three years, with at least one outpatient visit in CY2021 and one outpatient visit in CY2023"]
[null,"% of Enrollees with Outpatient Encounters with the Same PCP",8.33,{"$f":"IF(C15>0.5, 8.33, IF(C15>0.2499, 3, IF(C15>=0.01, 1, 0)))","v":0}]
[null,"State Points Earned:",null,{"$f":"SUM(D48:D49,D51:D51)","v":0}]
[{"$f":"D8","v":0},"1. Percentage who practiced in a certified person-centered medical home (PCMH) in the most recent complete contract year"]
[null,"Pediatrics",8.33,{"$f":"IF(D13>0.5, 8.33, IF(D13>0.2499, 3, IF(D13>=0.01, 1, 0)))","v":0}]
[null,"Child Psychiatrists",8.33,{"$f":"IF(D14>0.5, 8.33, IF(D14>0.2499, 3, IF(D14>=0.01, 1, 0)))","v":0}]
[null,"2. Percentage of enrollees that have had outpatient encounters with the same Primary Care Provider specializing in Pediatrics at least two times in the last three years, with at least one outpatient visit in CY2021 and one outpatient visit in CY2023"]
[null,"% of Enrollees with Outpatient Encounters with the Same PCP",8.33,{"$f":"IF(D15>0.5, 8.33, IF(D15>0.2499, 3, IF(D15>=0.01, 1, 0)))","v":0}]
[null,"State Points Earned:",null,{"$f":"SUM(D54:D55,D57:D57)","v":0}]
["Prospective Florida Medicaid","3. Percentage who practiced in a certified person-centered medical home (PCMH) at the time of application submission"]
[null,"Pediatrics",5,{"$f":"IF(C19>0.75, 5,  IF(C19>0.4999, 3, IF(C19>0.1999, 1, 0)))","v":0}]
[null,"Child Psychiatrists",5,{"$f":"IF(C20>0.75, 5, IF(C20>0.4999, 3, IF(C20>0.1999, 1, 0)))","v":0}]
[null,"4. Contracted Children's Hospitals"]
[null,"Number of Contracted Children's Hospitals",15,{"$f":"I38","v":0}]
["Total Points Earned: ",null,null,{"$f":"SUM(D58,D52,D46,D60:D61,D63)","v":0}]

{"sheet":"Behav Health-Prim Care Integ","index":9,"n_rows":123,"n_cols":19,"rows_kept":123,"cut":false,"hidden":false,"merged":[[25,1,25,2],[25,3,25,4],[25,5,25,6],[25,7,25,8],[25,9,25,10],[94,0,94,2],[68,0,70,0],[71,0,73,0],[74,0,76,0],[77,0,77,5],[70,1,70,4],[73,1,73,4],[76,1,76,4],[63,0,63,0],[64,0,64,0],[65,0,65,0],[93,1,93,4],[19,13,19,14],[19,15,19,16],[22,7,22,8],[22,9,22,10],[22,11,22,12],[22,13,22,14],[22,15,22,16],[22,17,22,18],[18,7,18,9],[25,11,25,12],[25,13,25,14],[25,15,25,16],[25,17,25,18],[15,10,15,12],[15,13,15,15],[15,16,15,18],[14,1,14,3],[14,4,14,6],[14,7,14,9],[14,10,14,12],[14,13,14,15],[16,13,16,18],[16,1,16,6],[17,4,17,6],[18,4,18,6],[19,1,19,2],[19,3,19,4],[19,5,19,6],[17,1,17,3],[18,1,18,3],[16,7,16,12],[17,16,17,18],[18,16,18,18],[0,2,0,3],[89,0,93,0],[84,0,88,0],[55,0,55,1],[79,0,83,0],[83,1,83,4],[88,1,88,4],[25,0,26,0],[7,1,7,3],[7,4,7,6],[9,1,9,3],[9,4,9,6],[11,1,11,3],[11,4,11,6],[13,1,13,3],[13,4,13,6],[61,0,61,3],[66,0,66,5],[19,0,20,0],[47,0,47,1],[22,0,23,0],[22,1,22,2],[22,3,22,4],[22,5,22,6],[7,7,7,9],[7,10,7,12],[7,13,7,15],[7,16,7,18],[8,1,8,3],[8,4,8,6],[8,7,8,9],[8,10,8,12],[8,13,8,15],[8,16,8,18],[9,7,9,9],[9,10,9,12],[9,13,9,15],[9,16,9,18],[10,1,10,3],[10,4,10,6],[10,7,10,9],[10,10,10,12],[10,13,10,15],[10,16,10,18],[102,0,102,1],[11,7,11,9],[11,10,11,12],[11,13,11,15],[11,16,11,18],[12,1,12,3],[12,4,12,6],[12,7,12,9],[12,10,12,12],[12,13,12,15],[12,16,12,18],[19,17,19,18],[17,13,17,15],[18,13,18,15],[17,10,17,12],[18,10,18,12],[19,7,19,8],[19,9,19,10],[19,11,19,12],[17,7,17,9],[14,16,14,18],[15,1,15,3],[15,4,15,6],[15,7,15,9]]}
["SRC #22: Behavioral Health/Primary Care Integration",null,"Back to Respondent Information"]
[]
["Item","Score"]
["Total Points Possible:",100]
["Points Earned:",{"$f":"C103","v":0}]
["Percent:",{"$f":"B5/B4","v":0}]
[]
["Item 1:  All Pediatricians (including Adolescent Medicine) who will have the following enrolled Medicaid provider type available within the building of their medical practice:","Total Number",null,null,"Percent"]
["Psychiatrist"]
["Psychologist"]
["Licensed Clinical Social Worker"]
["Licensed Professional Counselor"]
["Licensed Mental Health Counselor"]
["Licensed Marital and Family Therapist"]
["Item 2: Providers whose Practice has Earned national Committee for Quality Assurance (NCQA) Distinction in Behavioral Health Integration:","Total Number",null,null,"Percent"]
["Pediatricians (including Adolescent Medicine) in-network"]
[null,{"$f":"'Respondent Information'!C6","v":0},null,null,null,null,null,{"$f":"'Respondent Information'!C9","v":0},null,null,null,null,null,{"$f":"'Respondent Information'!C12","v":0}]
["Item 3: Providers who Submitted At Least One Claim for Screening, Brief Intervention, Referral for Treatment (SBIRT) in Calendar Year 2022:","Total Number",null,null,"Percent",null,null,"Total Number",null,null,"Percent",null,null,"Total Number",null,null,"Percent"]
["Pediatricians (including Adolescent Medicine) in-network"]
["Item 4a: Pediatricians who Submitted At Least One Claim for Behavioral Health Integration (BHI) for three consecutive calendar years (CPT Code 99484):",2020,null,2021,null,2022,null,2020,null,2021,null,2022,null,2020,null,2021,null,2022]
[null,"Total Number","Percent","Total Number","Percent","Total Number","Percent","Total Number","Percent","Total Number","Percent","Total Number","Percent","Total Number","Percent","Total Number","Percent","Total Number","Percent"]
["Pediatricians (including Adolescent Medicine) in-network"]
["Item 4b: Child Psychiatrists who Submitted At Least One Claim for Behavioral Health Integration (BHI) for three consecutive calendar years (CPT Code 99492):",2020,null,2021,null,2022,null,2020,null,2021,null,2022,null,2020,null,2021,null,2022]
[null,"Total Number","Percent","Total Number","Percent","Total Number","Percent","Total Number","Percent","Total Number","Percent","Total Number","Percent","Total Number","Percent","Total Number","Percent","Total Number","Percent"]
["Child Psychiatrists"]
["Item 5: Unutilized, Peripheral, Standard, and Core Physicians within-network for the Following Physician Specialties for three consecutive calendar years:",2020,null,2021,null,2022,null,2020,null,2021,null,2022,null,2020,null,2021,null,2022]
[null,"Total Number","Percent","Total Number","Percent","Total Number","Percent","Total Number","Percent","Total Number","Percent","Total Number","Percent","Total Number","Percent","Total Number","Percent","Total Number","Percent"]
["All Providers in Network"]
["Unutilized Physicians",null,{"$f":"IF(ISBLANK(B28), 0, B29/$B$28)","v":0},null,{"$f":"IF(ISBLANK(D29), 0, D29/D$28)","v":0},null,{"$f":"IF(ISBLANK($F$28), 0, F29/F$28)","v":0},null,{"$f":"IF(ISBLANK(H29), 0, H29/H$28)","v":0},null,{"$f":"IF(ISBLANK(J29), 0, J29/J$28)","v":0},null,{"$f":"IF(ISBLANK(L29), 0, L29/L$28)","v":0},null,{"$f":"IF(ISBLANK(N29), 0, N29/N$28)","v":0},null,{"$f":"IF(ISBLANK(P29), 0, P29/P$28)","v":0},null,{"$f":"IF(ISBLANK(R29), 0, R29/$R$28)","v":0}]
["Peripheral Physicians",null,{"$f":"IF(ISBLANK(B29), 0, B30/$B$28)","v":0},null,{"$f":"IF(ISBLANK(D30), 0, D30/D$28)","v":0},null,{"$f":"IF(ISBLANK(F30), 0, F30/F$28)","v":0},null,{"$f":"IF(ISBLANK(H30), 0, H30/H$28)","v":0},null,{"$f":"IF(ISBLANK(J30), 0, J30/J$28)","v":0},null,{"$f":"IF(ISBLANK(L30), 0, L30/L$28)","v":0},null,{"$f":"IF(ISBLANK(N30), 0, N30/N$28)","v":0},null,{"$f":"IF(ISBLANK(P30), 0, P30/P$28)","v":0},null,{"$f":"IF(ISBLANK(R30), 0, R30/$R$28)","v":0}]
["Standard Physicians",null,{"$f":"IF(ISBLANK(B30), 0, B31/$B$28)","v":0},null,{"$f":"IF(ISBLANK(D31), 0, D31/D$28)","v":0},null,{"$f":"IF(ISBLANK(F31), 0, F31/F$28)","v":0},null,{"$f":"IF(ISBLANK(H31), 0, H31/H$28)","v":0},null,{"$f":"IF(ISBLANK(J31), 0, J31/J$28)","v":0},null,{"$f":"IF(ISBLANK(L31), 0, L31/L$28)","v":0},null,{"$f":"IF(ISBLANK(N31), 0, N31/N$28)","v":0},null,{"$f":"IF(ISBLANK(P31), 0, P31/P$28)","v":0},null,{"$f":"IF(ISBLANK(R31), 0, R31/$R$28)","v":0}]
["Core Physicians",null,{"$f":"IF(ISBLANK(B31), 0, B32/$B$28)","v":0},null,{"$f":"IF(ISBLANK(D32), 0, D32/D$28)","v":0},null,{"$f":"IF(ISBLANK(F32), 0, F32/F$28)","v":0},null,{"$f":"IF(ISBLANK(H32), 0, H32/H$28)","v":0},null,{"$f":"IF(ISBLANK(J32), 0, J32/J$28)","v":0},null,{"$f":"IF(ISBLANK(L32), 0, L32/L$28)","v":0},null,{"$f":"IF(ISBLANK(N32), 0, N32/N$28)","v":0},null,{"$f":"IF(ISBLANK(P32), 0, P32/P$28)","v":0},null,{"$f":"IF(ISBLANK(R32), 0, R32/$R$28)","v":0}]
["All PCPs in-network",null,{"$f":"IF(ISBLANK(B32), 0, B33/$B$28)","v":0},null,{"$f":"IF(ISBLANK(D33), 0, D33/D$28)","v":0},null,{"$f":"IF(ISBLANK(F33), 0, F33/F$28)","v":0},null,{"$f":"IF(ISBLANK(H33), 0, H33/H$28)","v":0},null,{"$f":"IF(ISBLANK(J33), 0, J33/J$28)","v":0},null,{"$f":"IF(ISBLANK(L33), 0, L33/L$28)","v":0},null,{"$f":"IF(ISBLANK(N33), 0, N33/N$28)","v":0},null,{"$f":"IF(ISBLANK(P33), 0, P33/P$28)","v":0},null,{"$f":"IF(ISBLANK(R33), 0, R33/$R$28)","v":0}]
["Unutilized Physicians",null,{"$f":"IF(ISBLANK(B34), 0, B34/$B$33)","v":0},null,{"$f":"IF(ISBLANK(D34), 0, D34/D$33)","v":0},null,{"$f":"IF(ISBLANK(F34), 0, F34/F$33)","v":0},null,{"$f":"IF(ISBLANK(H34), 0, H34/H$33)","v":0},null,{"$f":"IF(ISBLANK(J34), 0, J34/J$33)","v":0},null,{"$f":"IF(ISBLANK(L34), 0, L34/L$33)","v":0},null,{"$f":"IF(ISBLANK(N34), 0, N34/N$33)","v":0},null,{"$f":"IF(ISBLANK(P34), 0, P34/P$33)","v":0},null,{"$f":"IF(ISBLANK(R34), 0, R34/$R$33)","v":0}]
["Peripheral Physicians",null,{"$f":"IF(ISBLANK(B35), 0, B35/$B$33)","v":0},null,{"$f":"IF(ISBLANK(D35), 0, D35/D$33)","v":0},null,{"$f":"IF(ISBLANK(F35), 0, F35/F$33)","v":0},null,{"$f":"IF(ISBLANK(H35), 0, H35/H$33)","v":0},null,{"$f":"IF(ISBLANK(J35), 0, J35/J$33)","v":0},null,{"$f":"IF(ISBLANK(L35), 0, L35/L$33)","v":0},null,{"$f":"IF(ISBLANK(N35), 0, N35/N$33)","v":0},null,{"$f":"IF(ISBLANK(P35), 0, P35/P$33)","v":0},null,{"$f":"IF(ISBLANK(R35), 0, R35/$R$33)","v":0}]
["Standard Physicians",null,{"$f":"IF(ISBLANK(B36), 0, B36/$B$33)","v":0},null,{"$f":"IF(ISBLANK(D36), 0, D36/D$33)","v":0},null,{"$f":"IF(ISBLANK(F36), 0, F36/F$33)","v":0},null,{"$f":"IF(ISBLANK(H36), 0, H36/H$33)","v":0},null,{"$f":"IF(ISBLANK(J36), 0, J36/J$33)","v":0},null,{"$f":"IF(ISBLANK(L36), 0, L36/L$33)","v":0},null,{"$f":"IF(ISBLANK(N36), 0, N36/N$33)","v":0},null,{"$f":"IF(ISBLANK(P36), 0, P36/P$33)","v":0},null,{"$f":"IF(ISBLANK(R36), 0, R36/$R$33)","v":0}]
["Core Physicians",null,{"$f":"IF(ISBLANK(B37), 0, B37/$B$33)","v":0},null,{"$f":"IF(ISBLANK(D37), 0, D37/D$33)","v":0},null,{"$f":"IF(ISBLANK(F37), 0, F37/F$33)","v":0},null,{"$f":"IF(ISBLANK(H37), 0, H37/H$33)","v":0},null,{"$f":"IF(ISBLANK(J37), 0, J37/J$33)","v":0},null,{"$f":"IF(ISBLANK(L37), 0, L37/L$33)","v":0},null,{"$f":"IF(ISBLANK(N37), 0, N37/N$33)","v":0},null,{"$f":"IF(ISBLANK(P37), 0, P37/P$33)","v":0},null,{"$f":"IF(ISBLANK(R37), 0, R37/$R$33)","v":0}]
["All Pediatricians (including Adolescent Medicine) in-network",null,{"$f":"IF(ISBLANK(B28), 0, B38/$B$28)","v":0},null,{"$f":"IF(ISBLANK(D38), 0, D38/D$28)","v":0},null,{"$f":"IF(ISBLANK(F38), 0, F38/F$28)","v":0},null,{"$f":"IF(ISBLANK(H38), 0, H38/H$28)","v":0},null,{"$f":"IF(ISBLANK(J38), 0, J38/J$28)","v":0},null,{"$f":"IF(ISBLANK(L38), 0, L38/L$28)","v":0},null,{"$f":"IF(ISBLANK(N38), 0, N38/N$28)","v":0},null,{"$f":"IF(ISBLANK(P38), 0, P38/P$28)","v":0},null,{"$f":"IF(ISBLANK(R38), 0, R38/$R$28)","v":0}]
["Unutilized Physicians",null,{"$f":"IF(ISBLANK(B39), 0, B39/$B$38)","v":0},null,{"$f":"IF(ISBLANK(D39), 0, D39/D$38)","v":0},null,{"$f":"IF(ISBLANK(F39), 0, F39/F$38)","v":0},null,{"$f":"IF(ISBLANK(H39), 0, H39/H$38)","v":0},null,{"$f":"IF(ISBLANK(J39), 0, J39/J$38)","v":0},null,{"$f":"IF(ISBLANK(L39), 0, L39/L$38)","v":0},null,{"$f":"IF(ISBLANK(N39), 0, N39/N$38)","v":0},null,{"$f":"IF(ISBLANK(P39), 0, P39/P$38)","v":0},null,{"$f":"IF(ISBLANK(R39), 0, R39/$R$38)","v":0}]
["Peripheral Physicians",null,{"$f":"IF(ISBLANK(B40), 0, B40/$B$38)","v":0},null,{"$f":"IF(ISBLANK(D40), 0, D40/D$38)","v":0},null,{"$f":"IF(ISBLANK(F40), 0, F40/F$38)","v":0},null,{"$f":"IF(ISBLANK(H40), 0, H40/H$38)","v":0},null,{"$f":"IF(ISBLANK(J40), 0, J40/J$38)","v":0},null,{"$f":"IF(ISBLANK(L40), 0, L40/L$38)","v":0},null,{"$f":"IF(ISBLANK(N40), 0, N40/N$38)","v":0},null,{"$f":"IF(ISBLANK(P40), 0, P40/P$38)","v":0},null,{"$f":"IF(ISBLANK(R40), 0, R40/$R$38)","v":0}]
["Standard Physicians",null,{"$f":"IF(ISBLANK(B41), 0, B41/$B$38)","v":0},null,{"$f":"IF(ISBLANK(D41), 0, D41/D$38)","v":0},null,{"$f":"IF(ISBLANK(F41), 0, F41/F$38)","v":0},null,{"$f":"IF(ISBLANK(H41), 0, H41/H$38)","v":0},null,{"$f":"IF(ISBLANK(J41), 0, J41/J$38)","v":0},null,{"$f":"IF(ISBLANK(L41), 0, L41/L$38)","v":0},null,{"$f":"IF(ISBLANK(N41), 0, N41/N$38)","v":0},null,{"$f":"IF(ISBLANK(P41), 0, P41/P$38)","v":0},null,{"$f":"IF(ISBLANK(R41), 0, R41/$R$38)","v":0}]
["Core Physicians",null,{"$f":"IF(ISBLANK(B42), 0, B42/$B$38)","v":0},null,{"$f":"IF(ISBLANK(D42), 0, D42/D$38)","v":0},null,{"$f":"IF(ISBLANK(F42), 0, F42/F$38)","v":0},null,{"$f":"IF(ISBLANK(H42), 0, H42/H$38)","v":0},null,{"$f":"IF(ISBLANK(J42), 0, J42/J$38)","v":0},null,{"$f":"IF(ISBLANK(L42), 0, L42/L$38)","v":0},null,{"$f":"IF(ISBLANK(N42), 0, N42/N$38)","v":0},null,{"$f":"IF(ISBLANK(P42), 0, P42/P$38)","v":0},null,{"$f":"IF(ISBLANK(R42), 0, R42/$R$38)","v":0}]
["All Child Psychiatrists in-network",null,{"$f":"IF(ISBLANK(B43), 0, B43/$B$28)","v":0},null,{"$f":"IF(ISBLANK(D43), 0, D43/D28)","v":0},null,{"$f":"IF(ISBLANK(F43), 0, F43/F28)","v":0},null,{"$f":"IF(ISBLANK(H43), 0, H43/H$28)","v":0},null,{"$f":"IF(ISBLANK(J43), 0, J43/J28)","v":0},null,{"$f":"IF(ISBLANK(L43), 0, L43/L28)","v":0},null,{"$f":"IF(ISBLANK(N43), 0, N43/N28)","v":0},null,{"$f":"IF(ISBLANK(P43), 0, P43/P28)","v":0},null,{"$f":"IF(ISBLANK(R43), 0, R43/R28)","v":0}]
["Unutilized Physicians",null,{"$f":"IF(ISBLANK(B44), 0, B44/$B$43)","v":0},null,{"$f":"IF(ISBLANK(D44), 0, D44/$D$43)","v":0},null,{"$f":"IF(ISBLANK(F44), 0, F44/$F$43)","v":0},null,{"$f":"IF(ISBLANK(H44), 0, H44/$H$43)","v":0},null,{"$f":"IF(ISBLANK(J44), 0, J44/$J$43)","v":0},null,{"$f":"IF(ISBLANK(L44), 0, L44/$L$43)","v":0},null,{"$f":"IF(ISBLANK(N44), 0, N44/$N$43)","v":0},null,{"$f":"IF(ISBLANK(P44), 0, P44/P43)","v":0},null,{"$f":"IF(ISBLANK(R44), 0, R44/$R$43)","v":0}]
["Peripheral Physicians",null,{"$f":"IF(ISBLANK(B45), 0, B45/$B$43)","v":0},null,{"$f":"IF(ISBLANK(D45), 0, D45/$D$43)","v":0},null,{"$f":"IF(ISBLANK(F45), 0, F45/$F$43)","v":0},null,{"$f":"IF(ISBLANK(H45), 0, H45/$H$43)","v":0},null,{"$f":"IF(ISBLANK(J45), 0, J45/$J$43)","v":0},null,{"$f":"IF(ISBLANK(L45), 0, L45/$L$43)","v":0},null,{"$f":"IF(ISBLANK(N45), 0, N45/$N$43)","v":0},null,{"$f":"IF(ISBLANK(P45), 0, P45/$P$43)","v":0},null,{"$f":"IF(ISBLANK(R45), 0, R45/$R$43)","v":0}]
["Standard Physicians",null,{"$f":"IF(ISBLANK(B46), 0, B46/$B$43)","v":0},null,{"$f":"IF(ISBLANK(D46), 0, D46/$D$43)","v":0},null,{"$f":"IF(ISBLANK(F46), 0, F46/$F$43)","v":0},null,{"$f":"IF(ISBLANK(H46), 0, H46/$H$43)","v":0},null,{"$f":"IF(ISBLANK(J46), 0, J46/$J$43)","v":0},null,{"$f":"IF(ISBLANK(L46), 0, L46/$L$43)","v":0},null,{"$f":"IF(ISBLANK(N46), 0, N46/$N$43)","v":0},null,{"$f":"IF(ISBLANK(P46), 0, P46/$P$43)","v":0},null,{"$f":"IF(ISBLANK(R46), 0, R46/$R$43)","v":0}]
["Core Physicians",null,{"$f":"IF(ISBLANK(B47), 0, B47/$B$43)","v":0},null,{"$f":"IF(ISBLANK(D47), 0, D47/$D$43)","v":0},null,{"$f":"IF(ISBLANK(F47), 0, F47/$F$43)","v":0},null,{"$f":"IF(ISBLANK(H47), 0, H47/$H$43)","v":0},null,{"$f":"IF(ISBLANK(J47), 0, J47/$J$43)","v":0},null,{"$f":"IF(ISBLANK(L47), 0, L47/$L$43)","v":0},null,{"$f":"IF(ISBLANK(N47), 0, N47/$N$43)","v":0},null,{"$f":"IF(ISBLANK(P47), 0, P47/$P$43)","v":0},null,{"$f":"IF(ISBLANK(R47), 0, R47/$R$43)","v":0}]
["Item 6: Contracts with the Following Florida Pediatric Mental Health Collaborative (FPMHC) Behavioral Health Hubs at the time of submission:"]
["University of South Florida’s Florida Center for Behavioral Health Improvements and Solutions"]
["Florida State University’s College of Medicine Center for Behavioral Health Integration and their partner the Tallahassee Pediatric Behavioral Health Center"]
["University of Florida’s Department of Psychiatry, Division of Child & Adolescent Psychiatry"]
["University of Miami’s Miller School of Medicine Department of Psychiatry and Behavioral Sciences"]
["Florida International University’s Herbert Wertheim College of Medicine Department of Psychiatry and Behavioral Health"]
["Nemours Children’s Hospital, Division of Developmental and Behavioral Pediatrics, Orlando Florida"]
[]
["Scores: "]
[]
["Item 1:  All Pediatricians who have a Medicaid-provider-enrolled as a:","Points Available","Points Earned"]
["Psychiatrist, Psychologist, LCSW, LPC, LMHC, or LMFT",6,{"$f":"IF(OR(E9>=0.5,E10>=0.5, E11>=0.5, E12>=0.5, E13>=0.5, E14>=0.5), 6, IF(OR(E9>=0.33,E10>=0.33, E11>=0.33, E12>=0.33, E13>=0.33, E14>=0.33), 3, IF(OR(E9>=0.15,E10>=0.15, E11>=0.15, E12>=0.15, E13>=0.15, E14>=0.15), 1, 0)))","v":0}]
["Item 2: Providers whose Practice has Earned national Committee for Quality Assurance (NCQA) Distinction in Behavioral Health Integration:","Points Available","Points Earned"]
["Pediatricians (including Adolescent Medicine) in-network",1,{"$f":"IF(E16>=0.5, 1, IF(E16>=0.33, 0.5, IF(E16>=0.15, 0.2, 0)))","v":0}]
["Item 3: All Providers who Submitted At Least One Claim for Screening, Brief Intervention, Referral for Treatment (SBIRT) in Calendar Year 2022:"]
["State","Provider Type","Points Available","Points Earned"]
[{"$f":"B17","v":0},"Pediatricians (including Adolescent Medicine) in-network",5,{"$f":"IF(E19>=0.3,5, IF(E19>0.1499,3, IF(E19>0.0499, 1, 0)))","v":0}]
[{"$f":"H17","v":0},"Pediatricians (including Adolescent Medicine) in-network",5,{"$f":"IF(K19>=0.3, 5, IF(K19>0.1499, 3, IF(K19>0.0499, 1, 0)))","v":0}]
[{"$f":"N17","v":0},"Pediatricians (including Adolescent Medicine) in-network",5,{"$f":"IF(Q19>=0.3, 5, IF(Q19>0.1499, 3, IF(Q19>0.0499,1, 0)))","v":0}]
["Item 4: All Providers who Submitted At Least One Claim for Behavioral Health Integration (BHI):"]
["State","Provider Type","Points Available Per Year","Points Earned - Year 1","Points Earned - Year 2","Points Earned - Year 3"]
[{"$f":"B17","v":0},"Pediatricians (including Adolescent Medicine) in-network",0.5,{"$f":"IF(C22>=0.3, 0.5, IF(C22>0.1499, 0.3, IF(C22>0.0499, 0.1, 0)))","v":0},{"$f":"IF(E22>=0.3, 0.5, IF(E22>0.1499, 0.3, IF(E22>0.0499, 0.1, 0)))","v":0},{"$f":"IF(G22>=0.3, 0.5, IF(G22>0.1499, 0.3, IF(G22>0.0499, 0.1, 0)))","v":0}]
[null,"Child Psychiatrists in network ",0.5,{"$f":"IF(C25>=0.3, 0.5, IF(C25>0.1499, 0.3, IF(C25>0.0499, 0.1, 0)))","v":0},{"$f":"IF(E25>=0.3, 0.5, IF(E25>0.1499, 0.3, IF(E25>0.0499, 0.1, 0)))","v":0},{"$f":"IF(G25>=0.3, 0.5, IF(G25>0.1499, 0.3, IF(G25>0.0499, 0.1, 0)))","v":0}]
[null,"State Points Earned: ",null,null,null,{"$f":"SUM(D69:F70)","v":0}]
[{"$f":"H17","v":0},"Pediatricians (including Adolescent Medicine) in-network",0.5,{"$f":"IF(I22>=0.3, 0.5, IF(I22>0.1499, 0.3, IF(I22>0.0499, 0.1, 0)))","v":0},{"$f":"IF(K22>=0.3,0.5, IF(K22>0.1499, 0.3, IF(K22>0.0499, 0.1, 0)))","v":0},{"$f":"IF(M22>=0.3, 0.5, IF(M22>0.1499, 0.3, IF(M22>0.0499, 0.1, 0)))","v":0}]
[null,"Child Psychiatrists in network ",0.5,{"$f":"IF(I25>=0.3, 0.5, IF(I25>0.1499, 0.3, IF(I25>0.0499, 0.1, 0)))","v":0},{"$f":"IF(K25>=0.3,0.5, IF(K25>0.1499, 0.3, IF(K25>0.0499, 0.1, 0)))","v":0},{"$f":"IF(M25>=0.3, 0.5, IF(M25>0.1499, 0.3, IF(M25>0.0499, 0.1, 0)))","v":0}]
[null,"State Points Earned: ",null,null,null,{"$f":"SUM(D72:F73)","v":0}]
[{"$f":"N17","v":0},"Pediatricians (including Adolescent Medicine) in-network",0.5,{"$f":"IF(O22>=0.3, 0.5, IF(O22>0.1499, 0.3, IF(O22>0.0499, 0.1, 0)))","v":0},{"$f":"IF(Q22>=0.3, 0.5, IF(Q22>0.1499, 0.3, IF(Q22>0.0499, 0.1, 0)))","v":0},{"$f":"IF(S22>=0.3, 0.5, IF(S22>0.1499, 0.3, IF(S22>0.0499, 0.1, 0)))","v":0}]
[null,"Child Psychiatrists in network ",0.5,{"$f":"IF(O25>=0.3, 0.5, IF(O25>0.1499, 0.3, IF(O25>0.0499, 0.1, 0)))","v":0},{"$f":"IF(Q25>=0.3, 0.5, IF(Q25>0.1499, 0.3, IF(Q25>0.0499, 0.1, 0)))","v":0},{"$f":"IF(S25>=0.3, 0.5, IF(S25>0.1499, 0.3, IF(S25>0.0499, 0.1, 0)))","v":0}]
[null,"State Points Earned: ",null,null,null,{"$f":"SUM(D75:F76)","v":0}]
["Item 5: Core, Standard, Peripheral, Unutilized"]
["State","Provider Type","Points Available Per Year","Points Earned - Year 1","Points Earned - Year 2","Points Earned - Year 3"]
[{"$f":"B17","v":0},"All Providers in Network",2,{"$f":"IF(SUM(C31:C32)>0.6999, 2, IF(SUM(C31:C32)>0.3999, 1, IF(SUM(C31:C32)>0.1999, 0.5, 0)))","v":0},{"$f":"IF(SUM(E31:E32)>0.6999, 2, IF(SUM(E31:E32)>0.3999, 1, IF(SUM(E31:E32)>0.1999, 0.5, 0)))","v":0},{"$f":"IF(SUM(G31:G32)>0.6999, 2, IF(SUM(G31:G32)>0.3999, 1, IF(SUM(G31:G32)>0.1999, 0.5, 0)))","v":0}]
[null,"All Primary Care Providers in network  ",2,{"$f":"IF(SUM(C36:C37)>0.6999, 2, IF(SUM(C36:C37)>0.3999, 1, IF(SUM(C36:C37)>0.1999, 0.5, 0)))","v":0},{"$f":"IF(SUM(E36:E37)>0.6999, 2, IF(SUM(E36:E37)>0.3999, 1, IF(SUM(E36:E37)>0.1999,0.51, 0)))","v":0},{"$f":"IF(SUM(G36:G37)>0.6999, 2, IF(SUM(G36:G37)>0.3999, 1, IF(SUM(G36:G37)>0.1999, 0.5, 0)))","v":0}]
[null,"Pediatricians (including Adolescent Medicine) in network",2,{"$f":"IF(SUM(C41:C42)>0.4999, 2, IF(SUM(C41:C42)>0.2999, 1, IF(SUM(C41:C42)>0.0999, 0.5, 0)))","v":0},{"$f":"IF(SUM(E41:E42)>0.4999, 2, IF(SUM(E41:E42)>0.2999, 1, IF(SUM(E41:E42)>0.0999, 0.5, 0)))","v":0},{"$f":"IF(SUM(G41:G42)>0.4999, 2, IF(SUM(G41:G42)>0.2999, 1, IF(SUM(G41:G42)>0.0999, 0.5, 0)))","v":0}]
[null,"Child Psychiatrists in network ",1,{"$f":"IF(SUM(C46:C47)>0.7999, 1, IF(SUM(C46:C47)>0.4999, 0.5, IF(SUM(C46:C47)>0.2999, 0.2, 0)))","v":0},{"$f":"IF(SUM(E46:E47)>0.7999, 1, IF(SUM(E46:E47)>0.4999, 0.5, IF(SUM(E46:E47)>0.2999, 0.2, 0)))","v":0},{"$f":"IF(SUM(G46:G47)>0.7999, 1, IF(SUM(G46:G47)>0.4999, 0.5, IF(SUM(G46:G47)>0.2999, 0.2, 0)))","v":0}]
[null,"State Points Earned: ",null,null,null,{"$f":"SUM(D80:F83)","v":0}]
[{"$f":"H17","v":0},"All Providers in Network",2,{"$f":"IF(SUM(I31:I32)>0.6999, 2, IF(SUM(I31:I32)>0.3999, 1, IF(SUM(I31:I32)>0.1999, 0.5, 0)))","v":0},{"$f":"IF(SUM(K31:K32)>0.6999, 2, IF(SUM(K31:K32)>0.3999, 1, IF(SUM(K31:K32)>0.1999, 0.5, 0)))","v":0},{"$f":"IF(SUM(M31:M32)>0.6999, 2, IF(SUM(M31:M32)>0.3999, 1, IF(SUM(M31:M32)>0.1999, 0.5, 0)))","v":0}]
[null,"All Primary Care Providers in network  ",2,{"$f":"IF(SUM(I36:I37)>0.6999, 2, IF(SUM(I36:I37)>0.3999, 1, IF(SUM(I36:I37)>0.1999, 0.5, 0)))","v":0},{"$f":"IF(SUM(K36:K37)>0.6999, 2, IF(SUM(K36:K37)>0.3999, 1, IF(SUM(K36:K37)>0.1999, 0.5, 0)))","v":0},{"$f":"IF(SUM(M36:M37)>0.6999, 2, IF(SUM(M36:M37)>0.3999, 1, IF(SUM(M36:M37)>0.1999, 0.5, 0)))","v":0}]
[null,"Pediatricians (including Adolescent Medicine) in network",2,{"$f":"IF(SUM(I41:I42)>0.4999, 2, IF(SUM(I41:I42)>0.2999, 1, IF(SUM(I41:I42)>0.0999, 0.5, 0)))","v":0},{"$f":"IF(SUM(K41:K42)>0.4999, 2, IF(SUM(K41:K42)>0.2999, 1, IF(SUM(K41:K42)>0.0999, 0.5, 0)))","v":0},{"$f":"IF(SUM(M41:M42)>0.4999, 2, IF(SUM(M41:M42)>0.2999, 1, IF(SUM(M41:M42)>0.0999, 0.5, 0)))","v":0}]
[null,"Child Psychiatrists in network ",1,{"$f":"IF(SUM(I46:I47)>0.7999, 1, IF(SUM(I46:I47)>0.4999, 0.5, IF(SUM(I46:I47)>0.2999, 0.2, 0)))","v":0},{"$f":"IF(SUM(K46:K47)>0.7999, 1, IF(SUM(K46:K47)>0.4999, 0.5, IF(SUM(K46:K47)>0.2999, 0.2, 0)))","v":0},{"$f":"IF(SUM(M46:M47)>0.7999, 1, IF(SUM(M46:M47)>0.4999, 0.5, IF(SUM(M46:M47)>0.2999, 0.2, 0)))","v":0}]
[null,"State Points Earned: ",null,null,null,{"$f":"SUM(D85:F88)","v":0}]
[{"$f":"N17","v":0},"All Providers in Network",2,{"$f":"IF(SUM(O31:O32)>0.6999, 2, IF(SUM(O31:O32)>0.3999, 1, IF(SUM(O31:O32)>0.1999, 0.5, 0)))","v":0},{"$f":"IF(SUM(Q31:Q32)>0.6999, 2, IF(SUM(Q31:Q32)>0.3999, 1, IF(SUM(Q31:Q32)>0.1999, 0.5, 0)))","v":0},{"$f":"IF(SUM(S31:S32)>0.6999, 2, IF(SUM(S31:S32)>0.3999, 1, IF(SUM(S31:S32)>0.1999, 0.5, 0)))","v":0}]
[null,"All Primary Care Providers in network  ",2,{"$f":"IF(SUM(O36:O37)>0.6999, 2, IF(SUM(O36:O37)>0.3999, 1, IF(SUM(O36:O37)>0.1999, 0.5, 0)))","v":0},{"$f":"IF(SUM(Q36:Q37)>0.6999, 2, IF(SUM(Q36:Q37)>0.3999, 1, IF(SUM(Q36:Q37)>0.1999, 0.5, 0)))","v":0},{"$f":"IF(SUM(S36:S37)>0.6999, 2, IF(SUM(S36:S37)>0.3999, 1, IF(SUM(S36:S37)>0.1999, 0.5, 0)))","v":0}]
[null,"Pediatricians (including Adolescent Medicine) in network",2,{"$f":"IF(SUM(O41:O42)>0.4999, 2, IF(SUM(O41:O42)>0.2999, 1, IF(SUM(O41:O42)>0.0999, 0.5, 0)))","v":0},{"$f":"IF(SUM(Q41:Q42)>0.4999, 2, IF(SUM(Q41:Q42)>0.2999, 1, IF(SUM(Q41:Q42)>0.0999, 0.5, 0)))","v":0},{"$f":"IF(SUM(S41:S42)>0.4999, 2, IF(SUM(S41:S42)>0.2999, 1, IF(SUM(S41:S42)>0.0999, 0.5, 0)))","v":0}]
[null,"Child Psychiatrists in network ",1,{"$f":"IF(SUM(O46:O47)>0.7999, 1, IF(SUM(O46:O47)>0.4999, 0.5, IF(SUM(O46:O47)>0.2999, 0.2, 0)))","v":0},{"$f":"IF(SUM(Q46:Q47)>0.7999, 1, IF(SUM(Q46:Q47)>0.4999, 0.5, IF(SUM(Q46:Q47)>0.2999, 0.2, 0)))","v":0},{"$f":"IF(SUM(S46:S47)>0.7999, 1, IF(SUM(S46:S47)>0.4999, 0.5, IF(SUM(S46:S47)>0.2999, 0.2, 0)))","v":0}]
[null,"State Points Earned: ",null,null,null,{"$f":"SUM(D90:F93)","v":0}]
["Item 6: FPMHC Hubs"]
["Contract Hub","Points Available ","Points Earned"]
["University of South Florida’s Florida Center for Behavioral Health Improvements and Solutions",1,{"$f":"IF(B49=\"Yes\", 1, 0)","v":0}]
["Florida State University’s College of Medicine Center for Behavioral Health Integration and their partner the Tallahassee Pediatric Behavioral Health Center",1,{"$f":"IF(B50=\"Yes\", 1, 0)","v":0}]
["University of Florida’s Department of Psychiatry, Division of Child & Adolescent Psychiatry",1,0]
["University of Miami’s Miller School of Medicine Department of Psychiatry and Behavioral Sciences",1,0]
["Florida International University’s Herbert Wertheim College of Medicine Department of Psychiatry and Behavioral Health",1,0]
["Nemours Children’s Hospital, Division of Developmental and Behavioral Pediatrics, Orlando Florida",1,0]
["Total Points Earned: ",null,{"$f":"SUM(C59:C59,C61,D64:D66,F71,F74,F77,F84,F89,F94,C97:C102)","v":0}]
[]
[]
[]
[]
[]
[]
[]
[]
[]
[]
[]
[]
[]
[]
[]
[]
[]
[]
[null,null,null,null,null,null,"Yes"]
[null,null,null,null,null,null,"No"]

{"sheet":"Health Homes","index":10,"n_rows":54,"n_cols":15,"rows_kept":54,"cut":false,"hidden":false,"merged":[[7,0,7,1],[23,0,23,1],[31,0,31,1],[53,0,53,1]]}
["SRC #23: Health Homes for Children with Medically Complex Conditions",null,null,null,null,"Back to Respondent Information"]
[]
["Item","Score"]
["Total Points Possible:",100]
["Points Earned:",{"$f":"C54","v":0}]
["Percent:",{"$f":"B5/B4","v":0}]
[]
["Item 1: Indicate which of the Florida children’s hospitals listed below you have an agreement or written contract with, at the time of application submission, that includes specific contracting for health home services for children with MCC:",null,null,null,null,null,null,null,null,null,null,null,"Yes"]
["John's Hopkins All Children's Hospital in St. Petersburg",null,null,null,null,null,null,null,null,null,null,null,"No"]
["Nemours Children's Hospital in Orlando"]
["Nicklaus Children's Hospital in Miami"]
["Wolfson Children's Hospital in Jacksonville",null,null,null,null,null,null,null,null,null,null,null,"Greater than 75%"]
["Arnold Palmer Hospital for Children in Orlando",null,null,null,null,null,null,null,null,null,null,null,"50-75%"]
["Florida Hospital for Children in Orlando",null,null,null,null,null,null,null,null,null,null,null,"25-49.99%"]
["Joe DiMaggio Children's Hospital in Hollywood",null,null,null,null,null,null,null,null,null,null,null,"10-24.99%"]
["St. Joseph's Children's Hospital in Tampa",null,null,null,null,null,null,null,null,null,null,null,"1-9.99%"]
["UF Health Shands Children's Hospital",null,null,null,null,null,null,null,null,null,null,null,"Less than 1%"]
["University of Miami Holtz Children's Hospital of Miami"]
["Children's Medical Center at Tampa General Hospital"]
["Golisano Children's Hospital of Southwest Florida"]
["Palm Beach Children's Hospital at St. Mary's Medical Center"]
["Salah Foundation Children's Hospital"]
["Studer Family Children's Hospital"]
["Item 2: Recommendations for specific outcome measures of effective health homes for children with MCC and yearly targets"]
["Measure","Yearly Target"]
[null,null,null,null,null,null,null,null,null,null,null,null,{"$f":"IF(ISBLANK(A26:B26), 0, 1)","v":0},0,{"$f":"IF(SUM(_xlfn.ANCHORARRAY(M26))>1, 1, 0)","v":0}]
[null,null,null,null,null,null,null,null,null,null,null,null,{"$f":"IF(ISBLANK(A27:B27), 0, 1)","v":0},0,{"$f":"IF(SUM(_xlfn.ANCHORARRAY(M27))>1, 1, 0)","v":0}]
[null,null,null,null,null,null,null,null,null,null,null,null,{"$f":"IF(ISBLANK(A28:B28), 0, 1)","v":0},0,0]
[null,null,null,null,null,null,null,null,null,null,null,null,{"$f":"IF(ISBLANK(A29:B29), 0, 1)","v":0},0,0]
["Item 3: Percentage of children with MCC who will receive health home services in the health home clinics listed in Item 1",null,null,null,null,null,null,null,null,null,null,null,null,null,{"$f":"SUM(O26:O29)","v":0}]
[]
["Scores: "]
[]
["Item 1:  Florida children's hospitals contracted with for home health services for children with MCC","Points Available","Points Earned"]
["John's Hopkins All Children's Hospital in St. Petersburg",4,{"$f":"IF(B9=\"Yes\", 4, 0)","v":0}]
["Nemours Children's Hospital in Orlando",4,{"$f":"IF(B10=\"Yes\", 4, 0)","v":0}]
["Nicklaus Children's Hospital in Miami",4,0]
["Wolfson Children's Hospital in Jacksonville",4,0]
["Arnold Palmer Hospital for Children in Orlando",4,0]
["Florida Hospital for Children in Orlando",4,0]
["Joe DiMaggio Children's Hospital in Hollywood",4,0]
["St. Joseph's Children's Hospital in Tampa",4,0]
["UF Health Shands Children's Hospital",4,0]
["University of Miami Holtz Children's Hospital of Miami",4,0]
["Children's Medical Center at Tampa General Hospital",4,0]
["Golisano Children's Hospital of Southwest Florida",4,0]
["Palm Beach Children's Hospital at St. Mary's Medical Center",4,0]
["Salah Foundation Children's Hospital",4,0]
["Studer Family Children's Hospital",4,0]
["Item 2: Recommendations for specific outcome measures of effective health homes for children with MCC and yearly targets","Points Available","Points Earned"]
["Number of Outcomes and Yearly Targets",12,{"$f":"IF(O30=4, 12, IF(O30=3, 9, IF(O30=2, 6, IF(O30=1, 3, 0))))","v":0}]
["Item 3: Percentage of children with MCC who will receive health home services in the health home clinics","Points Available","Points Earned"]
["% of Children who Will Receive Health Home Services",28,{"$f":"IF(B30=\"Greater than 75%\", 28, IF(B30=\"50-75%\", 14, IF(B30=\"25-49.99%\", 7, IF(B30=\"10-24.99%\", 3, IF(B30=\"1-9.99%\", 1, 0)))))","v":0}]
["Total Points Earned: ",null,{"$f":"SUM(C35:C49,C51,C53)","v":0}]

{"sheet":"Telemedicine","index":11,"n_rows":69,"n_cols":6,"rows_kept":69,"cut":false,"hidden":false,"merged":[[10,0,10,1],[10,2,10,3],[10,4,10,5],[7,0,7,1],[7,2,7,3],[7,4,7,5],[68,0,68,2],[67,1,67,2],[59,0,67,0],[19,0,19,1],[32,1,32,3],[32,0,40,0],[41,0,49,0],[40,1,40,2],[41,1,41,3],[49,1,49,2],[50,1,50,3],[59,1,59,3],[58,1,58,2],[50,0,58,0],[29,0,29,1]]}
["SRC #27: Telemedicine",null,null,"Back to Respondent Information"]
[]
["Item","Score"]
["Total Points Possible:",100]
["Points Earned:",{"$f":"D69","v":0}]
["Percent:",{"$f":"B5/B4","v":0}]
[]
[{"$f":"'Respondent Information'!C6","v":0},null,{"$f":"'Respondent Information'!C9","v":0},null,{"$f":"'Respondent Information'!C12","v":0}]
["Line of Business:",{"$f":"'Respondent Information'!E6","v":0},"Line of Business:",{"$f":"'Respondent Information'!E9","v":0},"Line of Business:",{"$f":"'Respondent Information'!E12","v":0}]
["Year:",{"$f":"'Respondent Information'!M5","v":0},"Year:",{"$f":"'Respondent Information'!M9","v":0},"Year:",{"$f":"'Respondent Information'!M12","v":0}]
["Physician Specialties",null,"Physician Specialties",null,"Physician Specialties"]
["Provider Type","% Who Made a Claim for at Least One Telemedicine Encounter","Provider Type","% Who Made a Claim for at Least One Telemedicine Encounter","Provider Type","% Who Made a Claim for at Least One Telemedicine Encounter"]
["Family Practice",null,"Family Practice",null,"Family Practice"]
["Internal Medicine",null,"Internal Medicine",null,"Internal Medicine"]
["Pediatrics",null,"Pediatrics",null,"Pediatrics"]
["Infectious Diseases",null,"Infectious Diseases",null,"Infectious Diseases"]
["Child Psychiatrists",null,"Child Psychiatrists",null,"Child Psychiatrists"]
["Emergency Medical Physicians",null,"Emergency Medical Physicians",null,"Emergency Medical Physicians"]
["Mental Health Therapists",null,"Mental Health Therapists",null,"Mental Health Therapists"]
["PROPOSED PROVIDER NETWORK: Physician Specialties"]
["Provider Type","% Who Will Offer Telemedicine Visits"]
["Family Practice"]
["Internal Medicine"]
["Pediatrics"]
["Infectious Diseases"]
["Child Psychiatrists"]
["Emergency Medical Physicians"]
["Mental Health Therapists"]
[]
["Scores: "]
[]
["State","Provider Type","% with At Least One Telemedicine Encounter-- Points Available","% with At Least One Telemedicine Encounter-- Points Earned"]
[{"$f":"A8","v":0},"Physician Specialties",null,null,null," "]
[null,"Family Practice",3.09,{"$f":"IF(B13>0.0999, 3.09, IF(B13>0.0299, 2, IF(B13>0.0099, 1, 0)))","v":0}]
[null,"Internal Medicine",3.09,0]
[null,"Pediatrics",3.09,0]
[null,"Infectious Diseases",3.09,0]
[null,"Child Psychiatrists",3.09,0]
[null,"Emergency Medical Physicians",3.09,0]
[null,"Mental Health Therapists",3.09,0]
[null,"State Points Earned:",null,{"$f":"SUM($D$34:$D$40)","v":0}]
[{"$f":"C8","v":0},"Physician Specialties"]
[null,"Family Practice",3.09,{"$f":"IF(D13>0.0999, 3.09, IF(D13>0.0299, 2, IF(D13>0.0099, 1, 0)))","v":0}]
[null,"Internal Medicine",3.09,0]
[null,"Pediatrics",3.09,0]
[null,"Infectious Diseases",3.09,0]
[null,"Child Psychiatrists",3.09,0]
[null,"Emergency Medical Physicians",3.09,0]
[null,"Mental Health Therapists",3.09,0]
[null,"State Points Earned:",null,{"$f":"SUM($D$43:$D$49)","v":0}]
[{"$f":"E8","v":0},"Physician Specialties"]
[null,"Family Practice",3.09,{"$f":"IF(F13>0.0999, 3.09, IF(F13>0.0299, 2, IF(F13>0.0099, 1, 0)))","v":0}]
[null,"Internal Medicine",3.09,0]
[null,"Pediatrics",3.09,0]
[null,"Infectious Diseases",3.09,0]
[null,"Child Psychiatrists",3.09,0]
[null,"Emergency Medical Physicians",3.09,0]
[null,"Mental Health Therapists",3.09,0]
[null,"State Points Earned:",null,{"$f":"SUM(D52:D58)","v":0}]
["Proposed Florida Contract","Proposed Provider Network: Physician Specialties"]
[null,"Family Practice",5,{"$f":"IF(B22>=0.1, 5, IF(B22>=0.03, 3, IF(B22>=0.01, 1, 0)))","v":0}]
[null,"Internal Medicine",5,0]
[null,"Pediatrics",5,0]
[null,"Infectious Diseases",5,0]
[null,"Child Psychiatrists",5,0]
[null,"Emergency Medical Physicians",5,0]
[null,"Mental Health Therapists",5,0]
[null,"State Points Earned:",null,{"$f":"SUM(D61:D67)","v":0}]
["Total Points Earned:",null,null,{"$f":"SUM(D41,D50,D59,D68)","v":0}]

{"sheet":"EBP Child Intense Behav","index":12,"n_rows":39,"n_cols":6,"rows_kept":39,"cut":false,"hidden":false,"merged":[[0,3,0,4],[7,1,7,2],[8,1,8,2],[9,0,9,2],[38,0,38,1]]}
["SRC #28: Evidence-Based Programs for Children with Intense Behaviors",null,null,"Back to Respondent Information"]
[]
["Item","Score",null,null,null,"Yes"]
["Total Points Possible:",{"$f":"SUM(B27:B38)","v":99.96},null,null,null,"No"]
["Points Earned:",{"$f":"C39","v":0}]
["Percent:",{"$f":"B5/B4","v":0}]
[]
[null,"Florida"]
["Line of Business:","Medicaid"]
["Indicate which of the following Evidence-Based Programs for Children with Intense Behaviors will be offered to Enrollees and the proposed billing code for each service:"]
[null,"Offered","CPT or HCPCS Code"]
["Homebuilders"]
["Motivational Interviewing"]
["Multisystemic Therapy"]
["Parent-Child Interaction Therapy"]
["Functional Family Therapy"]
["Parents as Teachers"]
["Brief Strategic Family Therapy"]
["Healthy Families"]
["Nurse Family Partnership"]
["Community Action Teams"]
["Hi-Fidelity Wrap-Around Services"]
[]
["Scores:"]
[]
["Criteria","Points Available","Points Earned"]
["Homebuilders",8.33,{"$f":"IF(B12=\"Yes\", 8.33, 0)","v":0}]
["Motivational Interviewing",8.33,0]
["Multisystemic Therapy",8.33,0]
["Parent-Child Interaction Therapy",8.33,0]
["Functional Family Therapy",8.33,0]
["Parents as Teachers",8.33,0]
["Brief Strategic Family Therapy",8.33,0]
["Healthy Families",8.33,0]
["Nurse Family Partnership",8.33,0]
["Community Action Teams",8.33,0]
["Hi-Fidelity Wrap-Around Services",8.33,0]
["Recipient Selected All Services",8.33,{"$f":"IF(SUM(C27:C37)=(B4-8.33), 8.33, 0)","v":0}]
["Points Earned:",null,{"$f":"SUM(C27:C38)","v":0}]

{"sheet":"Essential Providers","index":13,"n_rows":43,"n_cols":18,"rows_kept":43,"cut":false,"hidden":false,"merged":[[31,2,31,5],[32,2,32,5],[7,0,7,5],[26,2,26,5],[27,2,27,5],[28,2,28,5],[29,2,29,5],[30,2,30,5],[21,2,21,5],[22,2,22,5],[23,2,23,5],[24,2,24,5],[25,2,25,5],[30,0,30,1],[31,0,31,1],[32,0,32,1],[8,2,8,5],[9,2,9,5],[10,2,10,5],[11,2,11,5],[12,2,12,5],[19,2,19,5],[20,2,20,5],[25,0,25,1],[26,0,26,1],[13,2,13,5],[14,2,14,5],[15,2,15,5],[16,2,16,5],[17,2,17,5],[29,0,29,1],[20,0,20,1],[21,0,21,1],[22,0,22,1],[23,0,23,1],[24,0,24,1],[0,2,0,3],[8,0,8,1],[9,0,9,1],[27,0,27,1],[28,0,28,1],[10,0,10,1],[11,0,11,1],[12,0,12,1],[13,0,13,1],[14,0,14,1],[15,0,15,1],[16,0,16,1],[17,0,17,1],[18,0,18,1],[19,0,19,1],[18,2,18,5],[36,2,36,3],[40,2,40,3],[37,4,42,5],[41,2,42,3],[37,2,39,2],[37,3,39,3],[36,4,36,5]]}
["SRC #29: Essential Provider Networks",null,"Back to Respondent Information"]
[]
["Item","Score"]
["Total Points Possible:",100]
["Points Earned:",{"$f":"E38","v":0}]
["Percent:",{"$f":"B5/B4","v":0}]
[]
["Please indicate which of the following Statewide Essential Providers have a fully executed agreement/contract in place: "]
["Hospital Name",null,"Agreement/Contract In Place"]
["Tampa General Hospital",null,null,null,null,null,null,null,null,null,null,null,null,null,null,null,{"$f":"IF(C10=\"Yes\", 1, 0)","v":0}]
["Shands Teaching Hospital",null,null,null,null,null,null,null,null,null,null,null,null,null,null,null,{"$f":"IF(C11=\"Yes\", 1, 0)","v":0},"Yes"]
["Shands-Jacksonville",null,null,null,null,null,null,null,null,null,null,null,null,null,null,null,0,"No"]
["Jackson Memorial Hospital, Jackson Health System",null,null,null,null,null,null,null,null,null,null,null,null,null,null,null,0]
["Sacred Heart Hospital",null,null,null,null,null,null,null,null,null,null,null,null,null,null,null,0]
["Winnie Palmer Hospital at Arnold Palmer Medical Center, Orlando Health",null,null,null,null,null,null,null,null,null,null,null,null,null,null,null,0]
["NEO: All Children's Hospital",null,null,null,null,null,null,null,null,null,null,null,null,null,null,null,0]
["OB: Bayfront Medical Center",null,null,null,null,null,null,null,null,null,null,null,null,null,null,null,0]
["St. Mary's Medical Center",null,null,null,null,null,null,null,null,null,null,null,null,null,null,null,0]
["Broward General Medical Center",null,null,null,null,null,null,null,null,null,null,null,null,null,null,null,0]
["Memorial Regional Medical Center-Lee Memorial Health System",null,null,null,null,null,null,null,null,null,null,null,null,null,null,null,0]
["University of Florida-Gainesville",null,null,null,null,null,null,null,null,null,null,null,null,null,null,null,0]
["University of Florida-Jacksonville",null,null,null,null,null,null,null,null,null,null,null,null,null,null,null,0]
["University of Miami",null,null,null,null,null,null,null,null,null,null,null,null,null,null,null,0]
["University of South Florida",null,null,null,null,null,null,null,null,null,null,null,null,null,null,null,0]
["University of Central Florida",null,null,null,null,null,null,null,null,null,null,null,null,null,null,null,0]
["Florical Medical Practice Plan Inc. (FSU)",null,null,null,null,null,null,null,null,null,null,null,null,null,null,null,0]
["Florida International University",null,null,null,null,null,null,null,null,null,null,null,null,null,null,null,0]
["John Hopkins All Children's Hospital",null,null,null,null,null,null,null,null,null,null,null,null,null,null,null,0]
["Wolfson's Children's Hospital",null,null,null,null,null,null,null,null,null,null,null,null,null,null,null,0]
["Nemours Children's Hospital",null,null,null,null,null,null,null,null,null,null,null,null,null,null,null,0]
["Nicklaus Children's Hospital",null,null,null,null,null,null,null,null,null,null,null,null,null,null,null,0]
["H. Lee Moffitt Cancer and Research Institute",null,null,null,null,null,null,null,null,null,null,null,null,null,null,null,0]
["University of Miami Hospital and Clinics-Sylvester Comprehensive",null,null,null,null,null,null,null,null,null,null,null,null,null,null,null,0]
[null,null,null,null,null,null,null,null,null,null,null,null,null,null,null,null,{"$f":"SUM(Q10:Q33)","v":0}]
["Scores:"]
[]
["Percentage of Agreements/Contracts","Points Available","Agreements/Contracts in Place",null,"Points Earned"]
["0-39%",0,{"$f":"COUNTIF(C10:C33,\"Yes\")","v":0},"of 24",{"$f":"IF(C42>0.9999, 100, IF(C42>0.8999, 80, IF(C42>0.7499, 60, IF(C42>0.5999, 40, IF(C42>0.3999, 20, 0)))))","v":0}]
["40-59%",20]
["60-74%",40]
["75-89%",60,"% of Statewide Essential Providers"]
["90-99%",80,{"$f":"C38/24","v":0}]
[1,100]

{"sheet":"Autism Services","index":14,"n_rows":37,"n_cols":8,"rows_kept":37,"cut":false,"hidden":false,"merged":[[22,0,22,1],[11,0,11,1],[7,0,7,2],[0,2,0,3],[10,0,10,1],[9,0,9,1],[8,0,8,1],[12,0,12,2],[13,0,13,2]]}
["SRC #30 Autism Spectrum Disorder Services",null,"Back to Respondent Information"]
[]
["Item","Score"]
["Total Points Possible:",{"$f":"SUM(B19:B22)","v":100}]
["Points Earned:",{"$f":"C23","v":0}]
["Percent:",{"$f":"B5/B4","v":0}]
[]
["Criteria"]
["Average time from initial assessment to start of intervention services",null,null,null,"avg 28 days",null,"avg 30.7 days, min 0 (same!), max 302, median 22, mode 14"]
["Percentage of individuals with Autism utilizing case management services",null,null,null,"avg 80%"]
["Percentage of children who have received a comprehensive Autism assessment",null,null,null,"avg 68.4%",null,"or 76.2%?","for XXI"]
["Percentage of individuals with Autism seen by a PCP for annual well-visits for 2+ years",null,null,null,"avg 66.58%",null,"or 86.2%?"]
["Social support services provided for adolescents with autism (Unscored)"]
[]
[]
["Scores:"]
[]
["Percentage of Agreements/Contracts","Points Available","Points Earned"]
["Average time from assessment to start of services",30,{"$f":"IFERROR(VLOOKUP(C9,$A$26:$B$30,2,FALSE),0)","v":0}]
["Individuals utilizing case management services",25,{"$f":"IF(C10>=$A$37,$C$37,IF(C10>=$A$36,$C$36,IF(C10>=$A$35,$C$35,IF(C10>=$A$34,$C$34,$C$33))))","v":0}]
["Children received comprehensive Autism assessments",25,{"$f":"IF(C11>=$A$37,$C$37,IF(C11>=$A$36,$C$36,IF(C11>=$A$35,$C$35,IF(C11>=$A$34,$C$34,$C$33))))","v":0}]
["Individuals receiving annual well-visits with PCP for 2+ years",20,{"$f":"IF(C12>=$A$37,$B$37,IF(C12>=$A$36,$B$36,IF(C12>=$A$35,$B$35,IF(C12>=$A$34,$B$34,$B$33))))","v":0}]
["Total Points Earned:",null,{"$f":"SUM(C19:C22)","v":0}]
[]
["day tier","points"]
["0-10 Days",30]
["11-20 Days",26]
["21-30 Days",22]
["31-40 Days",18]
["> 40 Days",0]
[]
["next tier starts at","20 pt scale","25 pt scale"]
[0,0,0]
[0.6,8,10]
[0.65,12,15]
[0.75,16,20]
[0.85,20,25]

{"sheet":"Community Partnerships","index":15,"n_rows":232,"n_cols":190,"rows_kept":232,"cut":false,"hidden":false,"merged":[[160,0,160,1],[152,32,154,37],[155,32,156,37],[157,32,157,37],[158,32,158,37],[179,0,179,1],[163,0,167,0],[163,2,167,2],[168,0,169,0],[170,0,174,0],[170,2,174,2],[151,33,151,37],[144,33,145,37],[0,32,0,37],[132,33,132,37],[133,33,133,37],[134,33,134,37],[135,33,135,37],[136,32,140,37],[141,33,143,37],[146,32,146,37],[147,33,147,37],[148,33,148,37],[149,33,149,37],[150,33,150,37]]}
["SRC #31: Community Partnerships",null,null,"Back to Respondent Information"]
[]
["Item","Score",null,"Click Here to Go to Scoring Table"]
["Total Points Possible:",100]
["Points Earned:",{"$f":"C180","v":0}]
["Percent:",{"$f":"B5/B4","v":0}]
[null,null,null,null,null,null,null,null,null,null,null,null,null,null,null,null,null,null,null,null,null,null,null,null,null,null,null,null,null,null,null,null,null,null,null,"Row 1","Row 2","Row 3","Row 4","Row 5","Row 6","Row 7","Row 8","Row 9","Row 10","Row 11","Row 12","Row 13","Row 14","Row 15","Row 16","Row 17","Row 18","Row 19","Row 20","Row 21","Row 22","Row 23","Row 24","Row 25","Row 26","Row 27","Row 28","Row 29","Row 30","Row 31","Row 32","Row 33","Row 34","Row 35","Row 36","Row 37","Row 38","Row 39","Row 40","Row 41","Row 42","Row 43","Row 44","Row 45","Row 46","Row 47","Row 48","Row 49","Row 50","Row 51","Row 52","Row 53","Row 54","Row 55","Row 56","Row 57","Row 58","Row 59","Row 60","Row 61","Row 62","Row 63","Row 64","Row 65","Row 66","Row 67","Row 68","Row 69","Row 70","Row 71","Row 72","Row 73","Row 74","Row 75","Row 76","Row 77","Row 78","Row 79","Row 80","Row 81","Row 82","Row 83","Row 84","Row 85","Row 86","Row 87","Row 88","Row 89","Row 90","Row 91","Row 92","Row 93","Row 94","Row 95","Row 96","Row 97","Row 98","Row 99","Row 100","Row 101","Row 102","Row 103","Row 104","Row 105","Row 106","Row 107","Row 108","Row 109","Row 110","Row 111","Row 112","Row 113","Row 114","Row 115","Row 116","Row 117","Row 118","Row 119","Row 120","Row 121","Row 122","Row 123","Row 124","Row 125","Row 126","Row 127","Row 128","Row 129","Row 130","Row 131","Row 132","Row 133","Row 134","Row 135","Row 136","Row 137","Row 138","Row 139","Row 140","Row 141","Row 142","Row 143","Row 144","Row 145","Row 146","Row 147","Row 148","Row 149","Row 150","Row 151",null,null,null,"COUNTY Present"]
["CBO Name","CBO FEIN","CBO FDOC Document Number","CBO Principal Address","CBO Mailing Address","Contract Identification Number","Contract Execution Date","Description of Enrollee Population(s) Being Served","Description of Services and Supports","Supporting Living in the Least Restrictive Setting/Improving Community Integration","Supporting Educational Advancement","Improving Mental Health of Children/Adolescents","Improving Access to Health-Related Social Needs","Regions","Number of Regions","Counties","Number of Counties","Closed Loop Referral and Verification","Financial Investment","In-Kind Investment","CBO Representative(s) in Respondent Committee(s) or Advisory Board(s)","Total Cbo","Services1",null,"FinInvest","In-Kind","CBO Rep","Loop Ref",null,null,null,"A","Alachua",null,null,{"$f":"IF(ISNUMBER(SEARCH(AG8,$P$9)),1,0)","v":0},{"$f":"IF(ISNUMBER(SEARCH(AG8,$P$10)),1,0)","v":0},{"$f":"IF(ISNUMBER(SEARCH($AG8,$P$11)),1,0)","v":0},{"$f":"IF(ISNUMBER(SEARCH($AG8,$P$12)),1,0)","v":0},{"$f":"IF(ISNUMBER(SEARCH($AG8,$P$13)),1,0)","v":0},{"$f":"IF(ISNUMBER(SEARCH($AG8,$P$14)),1,0)","v":0},{"$f":"IF(ISNUMBER(SEARCH($AG8,$P$15)),1,0)","v":0},{"$f":"IF(ISNUMBER(SEARCH($AG8,$P$16)),1,0)","v":0},{"$f":"IF(ISNUMBER(SEARCH($AG8,$P$17)),1,0)","v":0},{"$f":"IF(ISNUMBER(SEARCH($AG8,$P$18)),1,0)","v":0},{"$f":"IF(ISNUMBER(SEARCH($AG8,$P$19)),1,0)","v":0},{"$f":"IF(ISNUMBER(SEARCH($AG8,$P$20)),1,0)","v":0},{"$f":"IF(ISNUMBER(SEARCH($AG8,$P$21)),1,0)","v":0},{"$f":"IF(ISNUMBER(SEARCH($AG8,$P$22)),1,0)","v":0},{"$f":"IF(ISNUMBER(SEARCH($AG8,$P$23)),1,0)","v":0},{"$f":"IF(ISNUMBER(SEARCH($AG8,$P$24)),1,0)","v":0},{"$f":"IF(ISNUMBER(SEARCH($AG8,$P$25)),1,0)","v":0},{"$f":"IF(ISNUMBER(SEARCH($AG8,$P$26)),1,0)","v":0},{"$f":"IF(ISNUMBER(SEARCH($AG8,$P$27)),1,0)","v":0},{"$f":"IF(ISNUMBER(SEARCH($AG8,$P$28)),1,0)","v":0},{"$f":"IF(ISNUMBER(SEARCH($AG8,$P$29)),1,0)","v":0},{"$f":"IF(ISNUMBER(SEARCH($AG8,$P$30)),1,0)","v":0},{"$f":"IF(ISNUMBER(SEARCH($AG8,$P$31)),1,0)","v":0},{"$f":"IF(ISNUMBER(SEARCH($AG8,$P$32)),1,0)","v":0},{"$f":"IF(ISNUMBER(SEARCH($AG8,$P$33)),1,0)","v":0},{"$f":"IF(ISNUMBER(SEARCH($AG8,$P$34)),1,0)","v":0},{"$f":"IF(ISNUMBER(SEARCH($AG8,$P$35)),1,0)","v":0},{"$f":"IF(ISNUMBER(SEARCH($AG8,$P$36)),1,0)","v":0},{"$f":"IF(ISNUMBER(SEARCH($AG8,$P$37)),1,0)","v":0},{"$f":"IF(ISNUMBER(SEARCH($AG8,$P$38)),1,0)","v":0},{"$f":"IF(ISNUMBER(SEARCH($AG8,$P$39)),1,0)","v":0},{"$f":"IF(ISNUMBER(SEARCH($AG8,$P$40)),1,0)","v":0},{"$f":"IF(ISNUMBER(SEARCH($AG8,$P$41)),1,0)","v":0},{"$f":"IF(ISNUMBER(SEARCH($AG8,$P$42)),1,0)","v":0},{"$f":"IF(ISNUMBER(SEARCH($AG8,$P$43)),1,0)","v":0},{"$f":"IF(ISNUMBER(SEARCH($AG8,$P$44)),1,0)","v":0},{"$f":"IF(ISNUMBER(SEARCH($AG8,$P$45)),1,0)","v":0},{"$f":"IF(ISNUMBER(SEARCH($AG8,$P$46)),1,0)","v":0},{"$f":"IF(ISNUMBER(SEARCH($AG8,$P$47)),1,0)","v":0},{"$f":"IF(ISNUMBER(SEARCH($AG8,$P$48)),1,0)","v":0},{"$f":"IF(ISNUMBER(SEARCH($AG8,$P$49)),1,0)","v":0},{"$f":"IF(ISNUMBER(SEARCH($AG8,$P$50)),1,0)","v":0},{"$f":"IF(ISNUMBER(SEARCH($AG8,$P$51)),1,0)","v":0},{"$f":"IF(ISNUMBER(SEARCH($AG8,$P$52)),1,0)","v":0},{"$f":"IF(ISNUMBER(SEARCH($AG8,$P$53)),1,0)","v":0},{"$f":"IF(ISNUMBER(SEARCH($AG8,$P$54)),1,0)","v":0},{"$f":"IF(ISNUMBER(SEARCH($AG8,$P$55)),1,0)","v":0},{"$f":"IF(ISNUMBER(SEARCH($AG8,$P$56)),1,0)","v":0},{"$f":"IF(ISNUMBER(SEARCH($AG8,$P$57)),1,0)","v":0},{"$f":"IF(ISNUMBER(SEARCH($AG8,$P$58)),1,0)","v":0},{"$f":"IF(ISNUMBER(SEARCH($AG8,$P$59)),1,0)","v":0},{"$f":"IF(ISNUMBER(SEARCH($AG8,$P$60)),1,0)","v":0},{"$f":"IF(ISNUMBER(SEARCH($AG8,$P$61)),1,0)","v":0},{"$f":"IF(ISNUMBER(SEARCH($AG8,$P$62)),1,0)","v":0},{"$f":"IF(ISNUMBER(SEARCH($AG8,$P$63)),1,0)","v":0},{"$f":"IF(ISNUMBER(SEARCH($AG8,$P$64)),1,0)","v":0},{"$f":"IF(ISNUMBER(SEARCH($AG8,$P$65)),1,0)","v":0},{"$f":"IF(ISNUMBER(SEARCH($AG8,$P$66)),1,0)","v":0},{"$f":"IF(ISNUMBER(SEARCH($AG8,$P$67)),1,0)","v":0},{"$f":"IF(ISNUMBER(SEARCH($AG8,$P$68)),1,0)","v":0},{"$f":"IF(ISNUMBER(SEARCH($AG8,$P$69)),1,0)","v":0},{"$f":"IF(ISNUMBER(SEARCH($AG8,$P$70)),1,0)","v":0},{"$f":"IF(ISNUMBER(SEARCH($AG8,$P$71)),1,0)","v":0},{"$f":"IF(ISNUMBER(SEARCH($AG8,$P$72)),1,0)","v":0},{"$f":"IF(ISNUMBER(SEARCH($AG8,$P$73)),1,0)","v":0},{"$f":"IF(ISNUMBER(SEARCH($AG8,$P$74)),1,0)","v":0},{"$f":"IF(ISNUMBER(SEARCH($AG8,$P$75)),1,0)","v":0},{"$f":"IF(ISNUMBER(SEARCH($AG8,$P$76)),1,0)","v":0},{"$f":"IF(ISNUMBER(SEARCH($AG8,$P$77)),1,0)","v":0},{"$f":"IF(ISNUMBER(SEARCH($AG8,$P$78)),1,0)","v":0},{"$f":"IF(ISNUMBER(SEARCH($AG8,$P$79)),1,0)","v":0},{"$f":"IF(ISNUMBER(SEARCH($AG8,$P$80)),1,0)","v":0},{"$f":"IF(ISNUMBER(SEARCH($AG8,$P$81)),1,0)","v":0},{"$f":"IF(ISNUMBER(SEARCH($AG8,$P$82)),1,0)","v":0},{"$f":"IF(ISNUMBER(SEARCH($AG8,$P$83)),1,0)","v":0},{"$f":"IF(ISNUMBER(SEARCH($AG8,$P$84)),1,0)","v":0},{"$f":"IF(ISNUMBER(SEARCH($AG8,$P$85)),1,0)","v":0},{"$f":"IF(ISNUMBER(SEARCH($AG8,$P$86)),1,0)","v":0},{"$f":"IF(ISNUMBER(SEARCH($AG8,$P$87)),1,0)","v":0},{"$f":"IF(ISNUMBER(SEARCH($AG8,$P$88)),1,0)","v":0},{"$f":"IF(ISNUMBER(SEARCH($AG8,$P$89)),1,0)","v":0},{"$f":"IF(ISNUMBER(SEARCH($AG8,$P$90)),1,0)","v":0},{"$f":"IF(ISNUMBER(SEARCH($AG8,$P$91)),1,0)","v":0},{"$f":"IF(ISNUMBER(SEARCH($AG8,$P$92)),1,0)","v":0},{"$f":"IF(ISNUMBER(SEARCH($AG8,$P$93)),1,0)","v":0},{"$f":"IF(ISNUMBER(SEARCH($AG8,$P$94)),1,0)","v":0},{"$f":"IF(ISNUMBER(SEARCH($AG8,$P$95)),1,0)","v":0},{"$f":"IF(ISNUMBER(SEARCH($AG8,$P$96)),1,0)","v":0},{"$f":"IF(ISNUMBER(SEARCH($AG8,$P$97)),1,0)","v":0},{"$f":"IF(ISNUMBER(SEARCH($AG8,$P$98)),1,0)","v":0},{"$f":"IF(ISNUMBER(SEARCH($AG8,$P$99)),1,0)","v":0},{"$f":"IF(ISNUMBER(SEARCH($AG8,$P$100)),1,0)","v":0},{"$f":"IF(ISNUMBER(SEARCH($AG8,$P$101)),1,0)","v":0},{"$f":"IF(ISNUMBER(SEARCH($AG8,$P$102)),1,0)","v":0},{"$f":"IF(ISNUMBER(SEARCH($AG8,$P$103)),1,0)","v":0},{"$f":"IF(ISNUMBER(SEARCH($AG8,$P$104)),1,0)","v":0},{"$f":"IF(ISNUMBER(SEARCH($AG8,$P$105)),1,0)","v":0},{"$f":"IF(ISNUMBER(SEARCH($AG8,$P$106)),1,0)","v":0},{"$f":"IF(ISNUMBER(SEARCH($AG8,$P$107)),1,0)","v":0},{"$f":"IF(ISNUMBER(SEARCH($AG8,$P$108)),1,0)","v":0},{"$f":"IF(ISNUMBER(SEARCH($AG8,$P$109)),1,0)","v":0},{"$f":"IF(ISNUMBER(SEARCH($AG8,$P$110)),1,0)","v":0},{"$f":"IF(ISNUMBER(SEARCH($AG8,$P$111)),1,0)","v":0},{"$f":"IF(ISNUMBER(SEARCH($AG8,$P$112)),1,0)","v":0},{"$f":"IF(ISNUMBER(SEARCH($AG8,$P$113)),1,0)","v":0},{"$f":"IF(ISNUMBER(SEARCH($AG8,$P$114)),1,0)","v":0},{"$f":"IF(ISNUMBER(SEARCH($AG8,$P$115)),1,0)","v":0},{"$f":"IF(ISNUMBER(SEARCH($AG8,$P$116)),1,0)","v":0},{"$f":"IF(ISNUMBER(SEARCH($AG8,$P$117)),1,0)","v":0},{"$f":"IF(ISNUMBER(SEARCH($AG8,$P$118)),1,0)","v":0},{"$f":"IF(ISNUMBER(SEARCH($AG8,$P$119)),1,0)","v":0},{"$f":"IF(ISNUMBER(SEARCH($AG8,$P$120)),1,0)","v":0},{"$f":"IF(ISNUMBER(SEARCH($AG8,$P$121)),1,0)","v":0},{"$f":"IF(ISNUMBER(SEARCH($AG8,$P$122)),1,0)","v":0},{"$f":"IF(ISNUMBER(SEARCH($AG8,$P$123)),1,0)","v":0},{"$f":"IF(ISNUMBER(SEARCH($AG8,$P$124)),1,0)","v":0},{"$f":"IF(ISNUMBER(SEARCH($AG8,$P$125)),1,0)","v":0},{"$f":"IF(ISNUMBER(SEARCH($AG8,$P$126)),1,0)","v":0},{"$f":"IF(ISNUMBER(SEARCH($AG8,$P$127)),1,0)","v":0},{"$f":"IF(ISNUMBER(SEARCH($AG8,$P$128)),1,0)","v":0},{"$f":"IF(ISNUMBER(SEARCH($AG8,$P$129)),1,0)","v":0},{"$f":"IF(ISNUMBER(SEARCH($AG8,$P$130)),1,0)","v":0},{"$f":"IF(ISNUMBER(SEARCH($AG8,$P$131)),1,0)","v":0},{"$f":"IF(ISNUMBER(SEARCH($AG8,$P$132)),1,0)","v":0},{"$f":"IF(ISNUMBER(SEARCH($AG8,$P$133)),1,0)","v":0},{"$f":"IF(ISNUMBER(SEARCH($AG8,$P$134)),1,0)","v":0},{"$f":"IF(ISNUMBER(SEARCH($AG8,$P$135)),1,0)","v":0},{"$f":"IF(ISNUMBER(SEARCH($AG8,$P$136)),1,0)","v":0},{"$f":"IF(ISNUMBER(SEARCH($AG8,$P$137)),1,0)","v":0},{"$f":"IF(ISNUMBER(SEARCH($AG8,$P$138)),1,0)","v":0},{"$f":"IF(ISNUMBER(SEARCH($AG8,$P$139)),1,0)","v":0},{"$f":"IF(ISNUMBER(SEARCH($AG8,$P$140)),1,0)","v":0},{"$f":"IF(ISNUMBER(SEARCH($AG8,$P$141)),1,0)","v":0},{"$f":"IF(ISNUMBER(SEARCH($AG8,$P$142)),1,0)","v":0},{"$f":"IF(ISNUMBER(SEARCH($AG8,$P$143)),1,0)","v":0},{"$f":"IF(ISNUMBER(SEARCH($AG8,$P$144)),1,0)","v":0},{"$f":"IF(ISNUMBER(SEARCH($AG8,$P$145)),1,0)","v":0},{"$f":"IF(ISNUMBER(SEARCH($AG8,$P$146)),1,0)","v":0},{"$f":"IF(ISNUMBER(SEARCH($AG8,$P$147)),1,0)","v":0},{"$f":"IF(ISNUMBER(SEARCH($AG8,$P$148)),1,0)","v":0},{"$f":"IF(ISNUMBER(SEARCH($AG8,$P$149)),1,0)","v":0},{"$f":"IF(ISNUMBER(SEARCH($AG8,$P$150)),1,0)","v":0},{"$f":"IF(ISNUMBER(SEARCH($AG8,$P$151)),1,0)","v":0},{"$f":"IF(ISNUMBER(SEARCH($AG8,$P$152)),1,0)","v":0},{"$f":"IF(ISNUMBER(SEARCH($AG8,$P$153)),1,0)","v":0},{"$f":"IF(ISNUMBER(SEARCH($AG8,$P$154)),1,0)","v":0},{"$f":"IF(ISNUMBER(SEARCH($AG8,$P$155)),1,0)","v":0},{"$f":"IF(ISNUMBER(SEARCH($AG8,$P$156)),1,0)","v":0},{"$f":"IF(ISNUMBER(SEARCH($AG8,$P$157)),1,0)","v":0},{"$f":"IF(ISNUMBER(SEARCH($AG8,$P$158)),1,0)","v":0},{"$f":"IF(ISNUMBER(SEARCH($AG8,$P$159)),1,0)","v":0},null,null,null,{"$f":"IF(SUM(AJ8:GD8)>=1,1,0)","v":0}]
[null,null,null,null,null,null,null,null,null,null,null,null,null,null,{"$f":"IF(ISBLANK(N9),\"\",LEN(TRIM(N9))-LEN(SUBSTITUTE(TRIM(N9),\",\",\"\"))+1)","v":""},null,{"$f":"IF(ISBLANK(P9),\"\",LEN(TRIM(P9))-LEN(SUBSTITUTE(TRIM(P9),\",\",\"\"))+1)","v":""},null,null,null,null,{"$f":"IF(A9<>\"\",1,0)","v":0},{"$f":"IF(OR(J9=\"Yes\",K9=\"Yes\",L9=\"Yes\",M9=\"Yes\"), 1, 0)","v":0},null,{"$f":"IF(S9=\"Yes\", 1, 0)","v":0},{"$f":"IF(T9=\"Yes\", 1, 0)","v":0},{"$f":"IF(U9=\"Yes\", 1, 0)","v":0},{"$f":"IF(R9=\"Yes\", 1,0)","v":0},null,null,null,"B","Baker",null,null,0,0,0,0,0,0,0,0,0,0,0,0,0,0,0,0,0,0,0,0,0,0,0,0,0,0,0,0,0,0,0,0,0,0,0,0,0,0,0,0,0,0,0,0,0,0,0,0,0,0,0,0,0,0,0,0,0,0,0,0,0,0,0,0,0,0,0,0,0,0,0,0,0,0,0,0,0,0,0,0,0,0,0,0,0,0,0,0,0,0,0,0,0,0,0,0,0,0,0,0,0,0,0,0,0,0,0,0,0,0,0,0,0,0,0,0,0,0,0,0,0,0,0,0,0,0,0,0,0,0,0,0,0,0,0,0,0,0,0,0,0,0,0,0,0,0,0,0,0,0,0,null,null,null,0]
[null,null,null,null,null,null,null,null,null,null,null,null,null,null,{"$f":"IF(ISBLANK(N10),\"\",LEN(TRIM(N10))-LEN(SUBSTITUTE(TRIM(N10),\",\",\"\"))+1)","v":""},null,"",null,null,null,null,0,{"$f":"IF(OR(J10=\"Yes\",K10=\"Yes\",L10=\"Yes\",M10=\"Yes\"), 1, 0)","v":0},null,0,0,0,0,null,null,null,"C","Bay",null,null,0,0,0,0,0,0,0,0,0,0,0,0,0,0,0,0,0,0,0,0,0,0,0,0,0,0,0,0,0,0,0,0,0,0,0,0,0,0,0,0,0,0,0,0,0,0,0,0,0,0,0,0,0,0,0,0,0,0,0,0,0,0,0,0,0,0,0,0,0,0,0,0,0,0,0,0,0,0,0,0,0,0,0,0,0,0,0,0,0,0,0,0,0,0,0,0,0,0,0,0,0,0,0,0,0,0,0,0,0,0,0,0,0,0,0,0,0,0,0,0,0,0,0,0,0,0,0,0,0,0,0,0,0,0,0,0,0,0,0,0,0,0,0,0,0,0,0,0,0,0,0,null,null,null,0]
[null,null,null,null,null,null,null,null,null,null,null,null,null,null,"",null,"",null,null,null,null,0,0,null,0,0,0,0,null,null,null,"D","Bradford",null,null,0,0,0,0,0,0,0,0,0,0,0,0,0,0,0,0,0,0,0,0,0,0,0,0,0,0,0,0,0,0,0,0,0,0,0,0,0,0,0,0,0,0,0,0,0,0,0,0,0,0,0,0,0,0,0,0,0,0,0,0,0,0,0,0,0,0,0,0,0,0,0,0,0,0,0,0,0,0,0,0,0,0,0,0,0,0,0,0,0,0,0,0,0,0,0,0,0,0,0,0,0,0,0,0,0,0,0,0,0,0,0,0,0,0,0,0,0,0,0,0,0,0,0,0,0,0,0,0,0,0,0,0,0,0,0,0,0,0,0,0,0,0,0,0,0,0,0,0,0,0,0,null,null,null,0]
[null,null,null,null,null,null,null,null,null,null,null,null,null,null,"",null,"",null,null,null,null,0,0,null,0,0,0,0,null,null,null,"E","Brevard",null,null,0,0,0,0,0,0,0,0,0,0,0,0,0,0,0,0,0,0,0,0,0,0,0,0,0,0,0,0,0,0,0,0,0,0,0,0,0,0,0,0,0,0,0,0,0,0,0,0,0,0,0,0,0,0,0,0,0,0,0,0,0,0,0,0,0,0,0,0,0,0,0,0,0,0,0,0,0,0,0,0,0,0,0,0,0,0,0,0,0,0,0,0,0,0,0,0,0,0,0,0,0,0,0,0,0,0,0,0,0,0,0,0,0,0,0,0,0,0,0,0,0,0,0,0,0,0,0,0,0,0,0,0,0,0,0,0,0,0,0,0,0,0,0,0,0,0,0,0,0,0,0,null,null,null,0]
[null,null,null,null,null,null,null,null,null,null,null,null,null,null,"",null,"",null,null,null,null,0,0,null,0,0,0,0,null,null,null,"F","Broward",null,null,0,0,0,0,0,0,0,0,0,0,0,0,0,0,0,0,0,0,0,0,0,0,0,0,0,0,0,0,0,0,0,0,0,0,0,0,0,0,0,0,0,0,0,0,0,0,0,0,0,0,0,0,0,0,0,0,0,0,0,0,0,0,0,0,0,0,0,0,0,0,0,0,0,0,0,0,0,0,0,0,0,0,0,0,0,0,0,0,0,0,0,0,0,0,0,0,0,0,0,0,0,0,0,0,0,0,0,0,0,0,0,0,0,0,0,0,0,0,0,0,0,0,0,0,0,0,0,0,0,0,0,0,0,0,0,0,0,0,0,0,0,0,0,0,0,0,0,0,0,0,0,null,null,null,0]
[null,null,null,null,null,null,null,null,null,null,null,null,null,null,"",null,"",null,null,null,null,0,0,null,0,0,0,0,null,null,null,"G","Calhoun",null,null,0,0,0,0,0,0,0,0,0,0,0,0,0,0,0,0,0,0,0,0,0,0,0,0,0,0,0,0,0,0,0,0,0,0,0,0,0,0,0,0,0,0,0,0,0,0,0,0,0,0,0,0,0,0,0,0,0,0,0,0,0,0,0,0,0,0,0,0,0,0,0,0,0,0,0,0,0,0,0,0,0,0,0,0,0,0,0,0,0,0,0,0,0,0,0,0,0,0,0,0,0,0,0,0,0,0,0,0,0,0,0,0,0,0,0,0,0,0,0,0,0,0,0,0,0,0,0,0,0,0,0,0,0,0,0,0,0,0,0,0,0,0,0,0,0,0,0,0,0,0,0,null,null,null,0]
[null,null,null,null,null,null,null,null,null,null,null,null,null,null,"",null,"",null,null,null,null,0,0,null,0,0,0,0,null,null,null,"H","Charlotte",null,null,0,0,0,0,0,0,0,0,0,0,0,0,0,0,0,0,0,0,0,0,0,0,0,0,0,0,0,0,0,0,0,0,0,0,0,0,0,0,0,0,0,0,0,0,0,0,0,0,0,0,0,0,0,0,0,0,0,0,0,0,0,0,0,0,0,0,0,0,0,0,0,0,0,0,0,0,0,0,0,0,0,0,0,0,0,0,0,0,0,0,0,0,0,0,0,0,0,0,0,0,0,0,0,0,0,0,0,0,0,0,0,0,0,0,0,0,0,0,0,0,0,0,0,0,0,0,0,0,0,0,0,0,0,0,0,0,0,0,0,0,0,0,0,0,0,0,0,0,0,0,0,null,null,null,0]
[null,null,null,null,null,null,null,null,null,null,null,null,null,null,"",null,"",null,null,null,null,0,0,null,0,0,0,0,null,null,null,"I","Citrus",null,null,0,0,0,0,0,0,0,0,0,0,0,0,0,0,0,0,0,0,0,0,0,0,0,0,0,0,0,0,0,0,0,0,0,0,0,0,0,0,0,0,0,0,0,0,0,0,0,0,0,0,0,0,0,0,0,0,0,0,0,0,0,0,0,0,0,0,0,0,0,0,0,0,0,0,0,0,0,0,0,0,0,0,0,0,0,0,0,0,0,0,0,0,0,0,0,0,0,0,0,0,0,0,0,0,0,0,0,0,0,0,0,0,0,0,0,0,0,0,0,0,0,0,0,0,0,0,0,0,0,0,0,0,0,0,0,0,0,0,0,0,0,0,0,0,0,0,0,0,0,0,0,null,null,null,0]
[null,null,null,null,null,null,null,null,null,null,null,null,null,null,"",null,"",null,null,null,null,0,0,null,0,0,0,0,null,null,null,null,"Clay",null,null,0,0,0,0,0,0,0,0,0,0,0,0,0,0,0,0,0,0,0,0,0,0,0,0,0,0,0,0,0,0,0,0,0,0,0,0,0,0,0,0,0,0,0,0,0,0,0,0,0,0,0,0,0,0,0,0,0,0,0,0,0,0,0,0,0,0,0,0,0,0,0,0,0,0,0,0,0,0,0,0,0,0,0,0,0,0,0,0,0,0,0,0,0,0,0,0,0,0,0,0,0,0,0,0,0,0,0,0,0,0,0,0,0,0,0,0,0,0,0,0,0,0,0,0,0,0,0,0,0,0,0,0,0,0,0,0,0,0,0,0,0,0,0,0,0,0,0,0,0,0,0,null,null,null,0]
[null,null,null,null,null,null,null,null,null,null,null,null,null,null,"",null,"",null,null,null,null,0,0,null,0,0,0,0,null,null,null,null,"Collier",null,null,0,0,0,0,0,0,0,0,0,0,0,0,0,0,0,0,0,0,0,0,0,0,0,0,0,0,0,0,0,0,0,0,0,0,0,0,0,0,0,0,0,0,0,0,0,0,0,0,0,0,0,0,0,0,0,0,0,0,0,0,0,0,0,0,0,0,0,0,0,0,0,0,0,0,0,0,0,0,0,0,0,0,0,0,0,0,0,0,0,0,0,0,0,0,0,0,0,0,0,0,0,0,0,0,0,0,0,0,0,0,0,0,0,0,0,0,0,0,0,0,0,0,0,0,0,0,0,0,0,0,0,0,0,0,0,0,0,0,0,0,0,0,0,0,0,0,0,0,0,0,0,null,null,null,0]
[null,null,null,null,null,null,null,null,null,null,null,null,null,null,"",null,"",null,null,null,null,0,0,null,0,0,0,0,null,null,null,null,"Columbia",null,null,0,0,0,0,0,0,0,0,0,0,0,0,0,0,0,0,0,0,0,0,0,0,0,0,0,0,0,0,0,0,0,0,0,0,0,0,0,0,0,0,0,0,0,0,0,0,0,0,0,0,0,0,0,0,0,0,0,0,0,0,0,0,0,0,0,0,0,0,0,0,0,0,0,0,0,0,0,0,0,0,0,0,0,0,0,0,0,0,0,0,0,0,0,0,0,0,0,0,0,0,0,0,0,0,0,0,0,0,0,0,0,0,0,0,0,0,0,0,0,0,0,0,0,0,0,0,0,0,0,0,0,0,0,0,0,0,0,0,0,0,0,0,0,0,0,0,0,0,0,0,0,null,null,null,0]
[null,null,null,null,null,null,null,null,null,null,null,null,null,null,"",null,"",null,null,null,null,0,0,null,0,0,0,0,null,null,null,null,"DeSoto",null,null,0,0,0,0,0,0,0,0,0,0,0,0,0,0,0,0,0,0,0,0,0,0,0,0,0,0,0,0,0,0,0,0,0,0,0,0,0,0,0,0,0,0,0,0,0,0,0,0,0,0,0,0,0,0,0,0,0,0,0,0,0,0,0,0,0,0,0,0,0,0,0,0,0,0,0,0,0,0,0,0,0,0,0,0,0,0,0,0,0,0,0,0,0,0,0,0,0,0,0,0,0,0,0,0,0,0,0,0,0,0,0,0,0,0,0,0,0,0,0,0,0,0,0,0,0,0,0,0,0,0,0,0,0,0,0,0,0,0,0,0,0,0,0,0,0,0,0,0,0,0,0,null,null,null,0]
[null,null,null,null,null,null,null,null,null,null,null,null,null,null,"",null,"",null,null,null,null,0,0,null,0,0,0,0,null,null,null,null,"Dixie",null,null,0,0,0,0,0,0,0,0,0,0,0,0,0,0,0,0,0,0,0,0,0,0,0,0,0,0,0,0,0,0,0,0,0,0,0,0,0,0,0,0,0,0,0,0,0,0,0,0,0,0,0,0,0,0,0,0,0,0,0,0,0,0,0,0,0,0,0,0,0,0,0,0,0,0,0,0,0,0,0,0,0,0,0,0,0,0,0,0,0,0,0,0,0,0,0,0,0,0,0,0,0,0,0,0,0,0,0,0,0,0,0,0,0,0,0,0,0,0,0,0,0,0,0,0,0,0,0,0,0,0,0,0,0,0,0,0,0,0,0,0,0,0,0,0,0,0,0,0,0,0,0,null,null,null,0]
[null,null,null,null,null,null,null,null,null,null,null,null,null,null,"",null,"",null,null,null,null,0,0,null,0,0,0,0,null,null,null,null,"Duval",null,null,0,0,0,0,0,0,0,0,0,0,0,0,0,0,0,0,0,0,0,0,0,0,0,0,0,0,0,0,0,0,0,0,0,0,0,0,0,0,0,0,0,0,0,0,0,0,0,0,0,0,0,0,0,0,0,0,0,0,0,0,0,0,0,0,0,0,0,0,0,0,0,0,0,0,0,0,0,0,0,0,0,0,0,0,0,0,0,0,0,0,0,0,0,0,0,0,0,0,0,0,0,0,0,0,0,0,0,0,0,0,0,0,0,0,0,0,0,0,0,0,0,0,0,0,0,0,0,0,0,0,0,0,0,0,0,0,0,0,0,0,0,0,0,0,0,0,0,0,0,0,0,null,null,null,0]
[null,null,null,null,null,null,null,null,null,null,null,null,null,null,"",null,"",null,null,null,null,0,0,null,0,0,0,0,null,null,null,null,"Escambia",null,null,0,0,0,0,0,0,0,0,0,0,0,0,0,0,0,0,0,0,0,0,0,0,0,0,0,0,0,0,0,0,0,0,0,0,0,0,0,0,0,0,0,0,0,0,0,0,0,0,0,0,0,0,0,0,0,0,0,0,0,0,0,0,0,0,0,0,0,0,0,0,0,0,0,0,0,0,0,0,0,0,0,0,0,0,0,0,0,0,0,0,0,0,0,0,0,0,0,0,0,0,0,0,0,0,0,0,0,0,0,0,0,0,0,0,0,0,0,0,0,0,0,0,0,0,0,0,0,0,0,0,0,0,0,0,0,0,0,0,0,0,0,0,0,0,0,0,0,0,0,0,0,null,null,null,0]
[null,null,null,null,null,null,null,null,null,null,null,null,null,null,"",null,"",null,null,null,null,0,0,null,0,0,0,0,null,null,null,null,"Flagler",null,null,0,0,0,0,0,0,0,0,0,0,0,0,0,0,0,0,0,0,0,0,0,0,0,0,0,0,0,0,0,0,0,0,0,0,0,0,0,0,0,0,0,0,0,0,0,0,0,0,0,0,0,0,0,0,0,0,0,0,0,0,0,0,0,0,0,0,0,0,0,0,0,0,0,0,0,0,0,0,0,0,0,0,0,0,0,0,0,0,0,0,0,0,0,0,0,0,0,0,0,0,0,0,0,0,0,0,0,0,0,0,0,0,0,0,0,0,0,0,0,0,0,0,0,0,0,0,0,0,0,0,0,0,0,0,0,0,0,0,0,0,0,0,0,0,0,0,0,0,0,0,0,null,null,null,0]
[null,null,null,null,null,null,null,null,null,null,null,null,null,null,"",null,"",null,null,null,null,0,0,null,0,0,0,0,null,null,null,null,"Franklin",null,null,0,0,0,0,0,0,0,0,0,0,0,0,0,0,0,0,0,0,0,0,0,0,0,0,0,0,0,0,0,0,0,0,0,0,0,0,0,0,0,0,0,0,0,0,0,0,0,0,0,0,0,0,0,0,0,0,0,0,0,0,0,0,0,0,0,0,0,0,0,0,0,0,0,0,0,0,0,0,0,0,0,0,0,0,0,0,0,0,0,0,0,0,0,0,0,0,0,0,0,0,0,0,0,0,0,0,0,0,0,0,0,0,0,0,0,0,0,0,0,0,0,0,0,0,0,0,0,0,0,0,0,0,0,0,0,0,0,0,0,0,0,0,0,0,0,0,0,0,0,0,0,null,null,null,0]
[null,null,null,null,null,null,null,null,null,null,null,null,null,null,"",null,"",null,null,null,null,0,0,null,0,0,0,0,null,null,null,null,"Gadsden",null,null,0,0,0,0,0,0,0,0,0,0,0,0,0,0,0,0,0,0,0,0,0,0,0,0,0,0,0,0,0,0,0,0,0,0,0,0,0,0,0,0,0,0,0,0,0,0,0,0,0,0,0,0,0,0,0,0,0,0,0,0,0,0,0,0,0,0,0,0,0,0,0,0,0,0,0,0,0,0,0,0,0,0,0,0,0,0,0,0,0,0,0,0,0,0,0,0,0,0,0,0,0,0,0,0,0,0,0,0,0,0,0,0,0,0,0,0,0,0,0,0,0,0,0,0,0,0,0,0,0,0,0,0,0,0,0,0,0,0,0,0,0,0,0,0,0,0,0,0,0,0,0,null,null,null,0]
[null,null,null,null,null,null,null,null,null,null,null,null,null,null,"",null,"",null,null,null,null,0,0,null,0,0,0,0,null,null,null,null,"Gilchrist",null,null,0,0,0,0,0,0,0,0,0,0,0,0,0,0,0,0,0,0,0,0,0,0,0,0,0,0,0,0,0,0,0,0,0,0,0,0,0,0,0,0,0,0,0,0,0,0,0,0,0,0,0,0,0,0,0,0,0,0,0,0,0,0,0,0,0,0,0,0,0,0,0,0,0,0,0,0,0,0,0,0,0,0,0,0,0,0,0,0,0,0,0,0,0,0,0,0,0,0,0,0,0,0,0,0,0,0,0,0,0,0,0,0,0,0,0,0,0,0,0,0,0,0,0,0,0,0,0,0,0,0,0,0,0,0,0,0,0,0,0,0,0,0,0,0,0,0,0,0,0,0,0,null,null,null,0]
[null,null,null,null,null,null,null,null,null,null,null,null,null,null,"",null,"",null,null,null,null,0,0,null,0,0,0,0,null,null,null,null,"Glades",null,null,0,0,0,0,0,0,0,0,0,0,0,0,0,0,0,0,0,0,0,0,0,0,0,0,0,0,0,0,0,0,0,0,0,0,0,0,0,0,0,0,0,0,0,0,0,0,0,0,0,0,0,0,0,0,0,0,0,0,0,0,0,0,0,0,0,0,0,0,0,0,0,0,0,0,0,0,0,0,0,0,0,0,0,0,0,0,0,0,0,0,0,0,0,0,0,0,0,0,0,0,0,0,0,0,0,0,0,0,0,0,0,0,0,0,0,0,0,0,0,0,0,0,0,0,0,0,0,0,0,0,0,0,0,0,0,0,0,0,0,0,0,0,0,0,0,0,0,0,0,0,0,null,null,null,0]
[null,null,null,null,null,null,null,null,null,null,null,null,null,null,"",null,"",null,null,null,null,0,0,null,0,0,0,0,null,null,null,null,"Gulf",null,null,0,0,0,0,0,0,0,0,0,0,0,0,0,0,0,0,0,0,0,0,0,0,0,0,0,0,0,0,0,0,0,0,0,0,0,0,0,0,0,0,0,0,0,0,0,0,0,0,0,0,0,0,0,0,0,0,0,0,0,0,0,0,0,0,0,0,0,0,0,0,0,0,0,0,0,0,0,0,0,0,0,0,0,0,0,0,0,0,0,0,0,0,0,0,0,0,0,0,0,0,0,0,0,0,0,0,0,0,0,0,0,0,0,0,0,0,0,0,0,0,0,0,0,0,0,0,0,0,0,0,0,0,0,0,0,0,0,0,0,0,0,0,0,0,0,0,0,0,0,0,0,null,null,null,0]
[null,null,null,null,null,null,null,null,null,null,null,null,null,null,"",null,"",null,null,null,null,0,0,null,0,0,0,0,null,null,null,null,"Hamilton",null,null,0,0,0,0,0,0,0,0,0,0,0,0,0,0,0,0,0,0,0,0,0,0,0,0,0,0,0,0,0,0,0,0,0,0,0,0,0,0,0,0,0,0,0,0,0,0,0,0,0,0,0,0,0,0,0,0,0,0,0,0,0,0,0,0,0,0,0,0,0,0,0,0,0,0,0,0,0,0,0,0,0,0,0,0,0,0,0,0,0,0,0,0,0,0,0,0,0,0,0,0,0,0,0,0,0,0,0,0,0,0,0,0,0,0,0,0,0,0,0,0,0,0,0,0,0,0,0,0,0,0,0,0,0,0,0,0,0,0,0,0,0,0,0,0,0,0,0,0,0,0,0,null,null,null,0]
[null,null,null,null,null,null,null,null,null,null,null,null,null,null,"",null,"",null,null,null,null,0,0,null,0,0,0,0,null,null,null,null,"Hardee",null,null,0,0,0,0,0,0,0,0,0,0,0,0,0,0,0,0,0,0,0,0,0,0,0,0,0,0,0,0,0,0,0,0,0,0,0,0,0,0,0,0,0,0,0,0,0,0,0,0,0,0,0,0,0,0,0,0,0,0,0,0,0,0,0,0,0,0,0,0,0,0,0,0,0,0,0,0,0,0,0,0,0,0,0,0,0,0,0,0,0,0,0,0,0,0,0,0,0,0,0,0,0,0,0,0,0,0,0,0,0,0,0,0,0,0,0,0,0,0,0,0,0,0,0,0,0,0,0,0,0,0,0,0,0,0,0,0,0,0,0,0,0,0,0,0,0,0,0,0,0,0,0,null,null,null,0]
[null,null,null,null,null,null,null,null,null,null,null,null,null,null,"",null,"",null,null,null,null,0,0,null,0,0,0,0,null,null,null,null,"Hendry",null,null,0,0,0,0,0,0,0,0,0,0,0,0,0,0,0,0,0,0,0,0,0,0,0,0,0,0,0,0,0,0,0,0,0,0,0,0,0,0,0,0,0,0,0,0,0,0,0,0,0,0,0,0,0,0,0,0,0,0,0,0,0,0,0,0,0,0,0,0,0,0,0,0,0,0,0,0,0,0,0,0,0,0,0,0,0,0,0,0,0,0,0,0,0,0,0,0,0,0,0,0,0,0,0,0,0,0,0,0,0,0,0,0,0,0,0,0,0,0,0,0,0,0,0,0,0,0,0,0,0,0,0,0,0,0,0,0,0,0,0,0,0,0,0,0,0,0,0,0,0,0,0,null,null,null,0]
[null,null,null,null,null,null,null,null,null,null,null,null,null,null,"",null,"",null,null,null,null,0,0,null,0,0,0,0,null,null,null,null,"Hernando",null,null,0,0,0,0,0,0,0,0,0,0,0,0,0,0,0,0,0,0,0,0,0,0,0,0,0,0,0,0,0,0,0,0,0,0,0,0,0,0,0,0,0,0,0,0,0,0,0,0,0,0,0,0,0,0,0,0,0,0,0,0,0,0,0,0,0,0,0,0,0,0,0,0,0,0,0,0,0,0,0,0,0,0,0,0,0,0,0,0,0,0,0,0,0,0,0,0,0,0,0,0,0,0,0,0,0,0,0,0,0,0,0,0,0,0,0,0,0,0,0,0,0,0,0,0,0,0,0,0,0,0,0,0,0,0,0,0,0,0,0,0,0,0,0,0,0,0,0,0,0,0,0,null,null,null,0]
[null,null,null,null,null,null,null,null,null,null,null,null,null,null,"",null,"",null,null,null,null,0,0,null,0,0,0,0,null,null,null,null,"Highlands",null,null,0,0,0,0,0,0,0,0,0,0,0,0,0,0,0,0,0,0,0,0,0,0,0,0,0,0,0,0,0,0,0,0,0,0,0,0,0,0,0,0,0,0,0,0,0,0,0,0,0,0,0,0,0,0,0,0,0,0,0,0,0,0,0,0,0,0,0,0,0,0,0,0,0,0,0,0,0,0,0,0,0,0,0,0,0,0,0,0,0,0,0,0,0,0,0,0,0,0,0,0,0,0,0,0,0,0,0,0,0,0,0,0,0,0,0,0,0,0,0,0,0,0,0,0,0,0,0,0,0,0,0,0,0,0,0,0,0,0,0,0,0,0,0,0,0,0,0,0,0,0,0,null,null,null,0]
[null,null,null,null,null,null,null,null,null,null,null,null,null,null,"",null,"",null,null,null,null,0,0,null,0,0,0,0,null,null,null,null,"Hillsborough",null,null,0,0,0,0,0,0,0,0,0,0,0,0,0,0,0,0,0,0,0,0,0,0,0,0,0,0,0,0,0,0,0,0,0,0,0,0,0,0,0,0,0,0,0,0,0,0,0,0,0,0,0,0,0,0,0,0,0,0,0,0,0,0,0,0,0,0,0,0,0,0,0,0,0,0,0,0,0,0,0,0,0,0,0,0,0,0,0,0,0,0,0,0,0,0,0,0,0,0,0,0,0,0,0,0,0,0,0,0,0,0,0,0,0,0,0,0,0,0,0,0,0,0,0,0,0,0,0,0,0,0,0,0,0,0,0,0,0,0,0,0,0,0,0,0,0,0,0,0,0,0,0,null,null,null,0]
[null,null,null,null,null,null,null,null,null,null,null,null,null,null,"",null,"",null,null,null,null,0,0,null,0,0,0,0,null,null,null,null,"Holmes",null,null,0,0,0,0,0,0,0,0,0,0,0,0,0,0,0,0,0,0,0,0,0,0,0,0,0,0,0,0,0,0,0,0,0,0,0,0,0,0,0,0,0,0,0,0,0,0,0,0,0,0,0,0,0,0,0,0,0,0,0,0,0,0,0,0,0,0,0,0,0,0,0,0,0,0,0,0,0,0,0,0,0,0,0,0,0,0,0,0,0,0,0,0,0,0,0,0,0,0,0,0,0,0,0,0,0,0,0,0,0,0,0,0,0,0,0,0,0,0,0,0,0,0,0,0,0,0,0,0,0,0,0,0,0,0,0,0,0,0,0,0,0,0,0,0,0,0,0,0,0,0,0,null,null,null,0]
[null,null,null,null,null,null,null,null,null,null,null,null,null,null,"",null,"",null,null,null,null,0,0,null,0,0,0,0,null,null,null,null,"Indian River",null,null,0,0,0,0,0,0,0,0,0,0,0,0,0,0,0,0,0,0,0,0,0,0,0,0,0,0,0,0,0,0,0,0,0,0,0,0,0,0,0,0,0,0,0,0,0,0,0,0,0,0,0,0,0,0,0,0,0,0,0,0,0,0,0,0,0,0,0,0,0,0,0,0,0,0,0,0,0,0,0,0,0,0,0,0,0,0,0,0,0,0,0,0,0,0,0,0,0,0,0,0,0,0,0,0,0,0,0,0,0,0,0,0,0,0,0,0,0,0,0,0,0,0,0,0,0,0,0,0,0,0,0,0,0,0,0,0,0,0,0,0,0,0,0,0,0,0,0,0,0,0,0,null,null,null,0]
[null,null,null,null,null,null,null,null,null,null,null,null,null,null,"",null,"",null,null,null,null,0,0,null,0,0,0,0,null,null,null,null,"Jackson",null,null,0,0,0,0,0,0,0,0,0,0,0,0,0,0,0,0,0,0,0,0,0,0,0,0,0,0,0,0,0,0,0,0,0,0,0,0,0,0,0,0,0,0,0,0,0,0,0,0,0,0,0,0,0,0,0,0,0,0,0,0,0,0,0,0,0,0,0,0,0,0,0,0,0,0,0,0,0,0,0,0,0,0,0,0,0,0,0,0,0,0,0,0,0,0,0,0,0,0,0,0,0,0,0,0,0,0,0,0,0,0,0,0,0,0,0,0,0,0,0,0,0,0,0,0,0,0,0,0,0,0,0,0,0,0,0,0,0,0,0,0,0,0,0,0,0,0,0,0,0,0,0,null,null,null,0]
[null,null,null,null,null,null,null,null,null,null,null,null,null,null,"",null,"",null,null,null,null,0,0,null,0,0,0,0,null,null,null,null,"Jefferson",null,null,0,0,0,0,0,0,0,0,0,0,0,0,0,0,0,0,0,0,0,0,0,0,0,0,0,0,0,0,0,0,0,0,0,0,0,0,0,0,0,0,0,0,0,0,0,0,0,0,0,0,0,0,0,0,0,0,0,0,0,0,0,0,0,0,0,0,0,0,0,0,0,0,0,0,0,0,0,0,0,0,0,0,0,0,0,0,0,0,0,0,0,0,0,0,0,0,0,0,0,0,0,0,0,0,0,0,0,0,0,0,0,0,0,0,0,0,0,0,0,0,0,0,0,0,0,0,0,0,0,0,0,0,0,0,0,0,0,0,0,0,0,0,0,0,0,0,0,0,0,0,0,null,null,null,0]
[null,null,null,null,null,null,null,null,null,null,null,null,null,null,"",null,"",null,null,null,null,0,0,null,0,0,0,0,null,null,null,null,"Lafayette",null,null,{"$f":"IF(ISNUMBER(SEARCH(AG40,$P$9)),1,0)","v":0},{"$f":"IF(ISNUMBER(SEARCH(AG40,$P$10)),1,0)","v":0},{"$f":"IF(ISNUMBER(SEARCH($AG40,$P$11)),1,0)","v":0},{"$f":"IF(ISNUMBER(SEARCH($AG40,$P$12)),1,0)","v":0},{"$f":"IF(ISNUMBER(SEARCH($AG40,$P$13)),1,0)","v":0},{"$f":"IF(ISNUMBER(SEARCH($AG40,$P$14)),1,0)","v":0},{"$f":"IF(ISNUMBER(SEARCH($AG40,$P$15)),1,0)","v":0},{"$f":"IF(ISNUMBER(SEARCH($AG40,$P$16)),1,0)","v":0},{"$f":"IF(ISNUMBER(SEARCH($AG40,$P$17)),1,0)","v":0},{"$f":"IF(ISNUMBER(SEARCH($AG40,$P$18)),1,0)","v":0},{"$f":"IF(ISNUMBER(SEARCH($AG40,$P$19)),1,0)","v":0},{"$f":"IF(ISNUMBER(SEARCH($AG40,$P$20)),1,0)","v":0},{"$f":"IF(ISNUMBER(SEARCH($AG40,$P$21)),1,0)","v":0},{"$f":"IF(ISNUMBER(SEARCH($AG40,$P$22)),1,0)","v":0},{"$f":"IF(ISNUMBER(SEARCH($AG40,$P$23)),1,0)","v":0},{"$f":"IF(ISNUMBER(SEARCH($AG40,$P$24)),1,0)","v":0},{"$f":"IF(ISNUMBER(SEARCH($AG40,$P$25)),1,0)","v":0},{"$f":"IF(ISNUMBER(SEARCH($AG40,$P$26)),1,0)","v":0},{"$f":"IF(ISNUMBER(SEARCH($AG40,$P$27)),1,0)","v":0},{"$f":"IF(ISNUMBER(SEARCH($AG40,$P$28)),1,0)","v":0},{"$f":"IF(ISNUMBER(SEARCH($AG40,$P$29)),1,0)","v":0},{"$f":"IF(ISNUMBER(SEARCH($AG40,$P$30)),1,0)","v":0},{"$f":"IF(ISNUMBER(SEARCH($AG40,$P$31)),1,0)","v":0},{"$f":"IF(ISNUMBER(SEARCH($AG40,$P$32)),1,0)","v":0},{"$f":"IF(ISNUMBER(SEARCH($AG40,$P$33)),1,0)","v":0},{"$f":"IF(ISNUMBER(SEARCH($AG40,$P$34)),1,0)","v":0},{"$f":"IF(ISNUMBER(SEARCH($AG40,$P$35)),1,0)","v":0},{"$f":"IF(ISNUMBER(SEARCH($AG40,$P$36)),1,0)","v":0},{"$f":"IF(ISNUMBER(SEARCH($AG40,$P$37)),1,0)","v":0},{"$f":"IF(ISNUMBER(SEARCH($AG40,$P$38)),1,0)","v":0},{"$f":"IF(ISNUMBER(SEARCH($AG40,$P$39)),1,0)","v":0},{"$f":"IF(ISNUMBER(SEARCH($AG40,$P$40)),1,0)","v":0},{"$f":"IF(ISNUMBER(SEARCH($AG40,$P$41)),1,0)","v":0},{"$f":"IF(ISNUMBER(SEARCH($AG40,$P$42)),1,0)","v":0},{"$f":"IF(ISNUMBER(SEARCH($AG40,$P$43)),1,0)","v":0},{"$f":"IF(ISNUMBER(SEARCH($AG40,$P$44)),1,0)","v":0},{"$f":"IF(ISNUMBER(SEARCH($AG40,$P$45)),1,0)","v":0},{"$f":"IF(ISNUMBER(SEARCH($AG40,$P$46)),1,0)","v":0},{"$f":"IF(ISNUMBER(SEARCH($AG40,$P$47)),1,0)","v":0},{"$f":"IF(ISNUMBER(SEARCH($AG40,$P$48)),1,0)","v":0},{"$f":"IF(ISNUMBER(SEARCH($AG40,$P$49)),1,0)","v":0},{"$f":"IF(ISNUMBER(SEARCH($AG40,$P$50)),1,0)","v":0},{"$f":"IF(ISNUMBER(SEARCH($AG40,$P$51)),1,0)","v":0},{"$f":"IF(ISNUMBER(SEARCH($AG40,$P$52)),1,0)","v":0},{"$f":"IF(ISNUMBER(SEARCH($AG40,$P$53)),1,0)","v":0},{"$f":"IF(ISNUMBER(SEARCH($AG40,$P$54)),1,0)","v":0},{"$f":"IF(ISNUMBER(SEARCH($AG40,$P$55)),1,0)","v":0},{"$f":"IF(ISNUMBER(SEARCH($AG40,$P$56)),1,0)","v":0},{"$f":"IF(ISNUMBER(SEARCH($AG40,$P$57)),1,0)","v":0},{"$f":"IF(ISNUMBER(SEARCH($AG40,$P$58)),1,0)","v":0},{"$f":"IF(ISNUMBER(SEARCH($AG40,$P$59)),1,0)","v":0},{"$f":"IF(ISNUMBER(SEARCH($AG40,$P$60)),1,0)","v":0},{"$f":"IF(ISNUMBER(SEARCH($AG40,$P$61)),1,0)","v":0},{"$f":"IF(ISNUMBER(SEARCH($AG40,$P$62)),1,0)","v":0},{"$f":"IF(ISNUMBER(SEARCH($AG40,$P$63)),1,0)","v":0},{"$f":"IF(ISNUMBER(SEARCH($AG40,$P$64)),1,0)","v":0},{"$f":"IF(ISNUMBER(SEARCH($AG40,$P$65)),1,0)","v":0},{"$f":"IF(ISNUMBER(SEARCH($AG40,$P$66)),1,0)","v":0},{"$f":"IF(ISNUMBER(SEARCH($AG40,$P$67)),1,0)","v":0},{"$f":"IF(ISNUMBER(SEARCH($AG40,$P$68)),1,0)","v":0},{"$f":"IF(ISNUMBER(SEARCH($AG40,$P$69)),1,0)","v":0},{"$f":"IF(ISNUMBER(SEARCH($AG40,$P$70)),1,0)","v":0},{"$f":"IF(ISNUMBER(SEARCH($AG40,$P$71)),1,0)","v":0},{"$f":"IF(ISNUMBER(SEARCH($AG40,$P$72)),1,0)","v":0},{"$f":"IF(ISNUMBER(SEARCH($AG40,$P$73)),1,0)","v":0},{"$f":"IF(ISNUMBER(SEARCH($AG40,$P$74)),1,0)","v":0},{"$f":"IF(ISNUMBER(SEARCH($AG40,$P$75)),1,0)","v":0},{"$f":"IF(ISNUMBER(SEARCH($AG40,$P$76)),1,0)","v":0},{"$f":"IF(ISNUMBER(SEARCH($AG40,$P$77)),1,0)","v":0},{"$f":"IF(ISNUMBER(SEARCH($AG40,$P$78)),1,0)","v":0},{"$f":"IF(ISNUMBER(SEARCH($AG40,$P$79)),1,0)","v":0},{"$f":"IF(ISNUMBER(SEARCH($AG40,$P$80)),1,0)","v":0},{"$f":"IF(ISNUMBER(SEARCH($AG40,$P$81)),1,0)","v":0},{"$f":"IF(ISNUMBER(SEARCH($AG40,$P$82)),1,0)","v":0},{"$f":"IF(ISNUMBER(SEARCH($AG40,$P$83)),1,0)","v":0},{"$f":"IF(ISNUMBER(SEARCH($AG40,$P$84)),1,0)","v":0},{"$f":"IF(ISNUMBER(SEARCH($AG40,$P$85)),1,0)","v":0},{"$f":"IF(ISNUMBER(SEARCH($AG40,$P$86)),1,0)","v":0},{"$f":"IF(ISNUMBER(SEARCH($AG40,$P$87)),1,0)","v":0},{"$f":"IF(ISNUMBER(SEARCH($AG40,$P$88)),1,0)","v":0},{"$f":"IF(ISNUMBER(SEARCH($AG40,$P$89)),1,0)","v":0},{"$f":"IF(ISNUMBER(SEARCH($AG40,$P$90)),1,0)","v":0},{"$f":"IF(ISNUMBER(SEARCH($AG40,$P$91)),1,0)","v":0},{"$f":"IF(ISNUMBER(SEARCH($AG40,$P$92)),1,0)","v":0},{"$f":"IF(ISNUMBER(SEARCH($AG40,$P$93)),1,0)","v":0},{"$f":"IF(ISNUMBER(SEARCH($AG40,$P$94)),1,0)","v":0},{"$f":"IF(ISNUMBER(SEARCH($AG40,$P$95)),1,0)","v":0},{"$f":"IF(ISNUMBER(SEARCH($AG40,$P$96)),1,0)","v":0},{"$f":"IF(ISNUMBER(SEARCH($AG40,$P$97)),1,0)","v":0},{"$f":"IF(ISNUMBER(SEARCH($AG40,$P$98)),1,0)","v":0},{"$f":"IF(ISNUMBER(SEARCH($AG40,$P$99)),1,0)","v":0},{"$f":"IF(ISNUMBER(SEARCH($AG40,$P$100)),1,0)","v":0},{"$f":"IF(ISNUMBER(SEARCH($AG40,$P$101)),1,0)","v":0},{"$f":"IF(ISNUMBER(SEARCH($AG40,$P$102)),1,0)","v":0},{"$f":"IF(ISNUMBER(SEARCH($AG40,$P$103)),1,0)","v":0},{"$f":"IF(ISNUMBER(SEARCH($AG40,$P$104)),1,0)","v":0},{"$f":"IF(ISNUMBER(SEARCH($AG40,$P$105)),1,0)","v":0},{"$f":"IF(ISNUMBER(SEARCH($AG40,$P$106)),1,0)","v":0},{"$f":"IF(ISNUMBER(SEARCH($AG40,$P$107)),1,0)","v":0},{"$f":"IF(ISNUMBER(SEARCH($AG40,$P$108)),1,0)","v":0},{"$f":"IF(ISNUMBER(SEARCH($AG40,$P$109)),1,0)","v":0},{"$f":"IF(ISNUMBER(SEARCH($AG40,$P$110)),1,0)","v":0},{"$f":"IF(ISNUMBER(SEARCH($AG40,$P$111)),1,0)","v":0},{"$f":"IF(ISNUMBER(SEARCH($AG40,$P$112)),1,0)","v":0},{"$f":"IF(ISNUMBER(SEARCH($AG40,$P$113)),1,0)","v":0},{"$f":"IF(ISNUMBER(SEARCH($AG40,$P$114)),1,0)","v":0},{"$f":"IF(ISNUMBER(SEARCH($AG40,$P$115)),1,0)","v":0},{"$f":"IF(ISNUMBER(SEARCH($AG40,$P$116)),1,0)","v":0},{"$f":"IF(ISNUMBER(SEARCH($AG40,$P$117)),1,0)","v":0},{"$f":"IF(ISNUMBER(SEARCH($AG40,$P$118)),1,0)","v":0},{"$f":"IF(ISNUMBER(SEARCH($AG40,$P$119)),1,0)","v":0},{"$f":"IF(ISNUMBER(SEARCH($AG40,$P$120)),1,0)","v":0},{"$f":"IF(ISNUMBER(SEARCH($AG40,$P$121)),1,0)","v":0},{"$f":"IF(ISNUMBER(SEARCH($AG40,$P$122)),1,0)","v":0},{"$f":"IF(ISNUMBER(SEARCH($AG40,$P$123)),1,0)","v":0},{"$f":"IF(ISNUMBER(SEARCH($AG40,$P$124)),1,0)","v":0},{"$f":"IF(ISNUMBER(SEARCH($AG40,$P$125)),1,0)","v":0},{"$f":"IF(ISNUMBER(SEARCH($AG40,$P$126)),1,0)","v":0},{"$f":"IF(ISNUMBER(SEARCH($AG40,$P$127)),1,0)","v":0},{"$f":"IF(ISNUMBER(SEARCH($AG40,$P$128)),1,0)","v":0},{"$f":"IF(ISNUMBER(SEARCH($AG40,$P$129)),1,0)","v":0},{"$f":"IF(ISNUMBER(SEARCH($AG40,$P$130)),1,0)","v":0},{"$f":"IF(ISNUMBER(SEARCH($AG40,$P$131)),1,0)","v":0},{"$f":"IF(ISNUMBER(SEARCH($AG40,$P$132)),1,0)","v":0},{"$f":"IF(ISNUMBER(SEARCH($AG40,$P$133)),1,0)","v":0},{"$f":"IF(ISNUMBER(SEARCH($AG40,$P$134)),1,0)","v":0},{"$f":"IF(ISNUMBER(SEARCH($AG40,$P$135)),1,0)","v":0},{"$f":"IF(ISNUMBER(SEARCH($AG40,$P$136)),1,0)","v":0},{"$f":"IF(ISNUMBER(SEARCH($AG40,$P$137)),1,0)","v":0},{"$f":"IF(ISNUMBER(SEARCH($AG40,$P$138)),1,0)","v":0},{"$f":"IF(ISNUMBER(SEARCH($AG40,$P$139)),1,0)","v":0},{"$f":"IF(ISNUMBER(SEARCH($AG40,$P$140)),1,0)","v":0},{"$f":"IF(ISNUMBER(SEARCH($AG40,$P$141)),1,0)","v":0},{"$f":"IF(ISNUMBER(SEARCH($AG40,$P$142)),1,0)","v":0},{"$f":"IF(ISNUMBER(SEARCH($AG40,$P$143)),1,0)","v":0},{"$f":"IF(ISNUMBER(SEARCH($AG40,$P$144)),1,0)","v":0},{"$f":"IF(ISNUMBER(SEARCH($AG40,$P$145)),1,0)","v":0},{"$f":"IF(ISNUMBER(SEARCH($AG40,$P$146)),1,0)","v":0},{"$f":"IF(ISNUMBER(SEARCH($AG40,$P$147)),1,0)","v":0},{"$f":"IF(ISNUMBER(SEARCH($AG40,$P$148)),1,0)","v":0},{"$f":"IF(ISNUMBER(SEARCH($AG40,$P$149)),1,0)","v":0},{"$f":"IF(ISNUMBER(SEARCH($AG40,$P$150)),1,0)","v":0},{"$f":"IF(ISNUMBER(SEARCH($AG40,$P$151)),1,0)","v":0},{"$f":"IF(ISNUMBER(SEARCH($AG40,$P$152)),1,0)","v":0},{"$f":"IF(ISNUMBER(SEARCH($AG40,$P$153)),1,0)","v":0},{"$f":"IF(ISNUMBER(SEARCH($AG40,$P$154)),1,0)","v":0},{"$f":"IF(ISNUMBER(SEARCH($AG40,$P$155)),1,0)","v":0},{"$f":"IF(ISNUMBER(SEARCH($AG40,$P$156)),1,0)","v":0},{"$f":"IF(ISNUMBER(SEARCH($AG40,$P$157)),1,0)","v":0},{"$f":"IF(ISNUMBER(SEARCH($AG40,$P$158)),1,0)","v":0},{"$f":"IF(ISNUMBER(SEARCH($AG40,$P$159)),1,0)","v":0},null,null,null,{"$f":"IF(SUM(AJ40:GD40)>=1,1,0)","v":0}]
[null,null,null,null,null,null,null,null,null,null,null,null,null,null,"",null,"",null,null,null,null,{"$f":"IF(A41<>\"\",1,0)","v":0},0,null,{"$f":"IF(S41=\"Yes\", 1, 0)","v":0},{"$f":"IF(T41=\"Yes\", 1, 0)","v":0},{"$f":"IF(U41=\"Yes\", 1, 0)","v":0},{"$f":"IF(R41=\"Yes\", 1,0)","v":0},null,null,null,null,"Lake",null,null,0,0,0,0,0,0,0,0,0,0,0,0,0,0,0,0,0,0,0,0,0,0,0,0,0,0,0,0,0,0,0,0,0,0,0,0,0,0,0,0,0,0,0,0,0,0,0,0,0,0,0,0,0,0,0,0,0,0,0,0,0,0,0,0,0,0,0,0,0,0,0,0,0,0,0,0,0,0,0,0,0,0,0,0,0,0,0,0,0,0,0,0,0,0,0,0,0,0,0,0,0,0,0,0,0,0,0,0,0,0,0,0,0,0,0,0,0,0,0,0,0,0,0,0,0,0,0,0,0,0,0,0,0,0,0,0,0,0,0,0,0,0,0,0,0,0,0,0,0,0,0,null,null,null,0]
[null,null,null,null,null,null,null,null,null,null,null,null,null,null,"",null,"",null,null,null,null,0,0,null,0,0,0,0,null,null,null,null,"Lee",null,null,0,0,0,0,0,0,0,0,0,0,0,0,0,0,0,0,0,0,0,0,0,0,0,0,0,0,0,0,0,0,0,0,0,0,0,0,0,0,0,0,0,0,0,0,0,0,0,0,0,0,0,0,0,0,0,0,0,0,0,0,0,0,0,0,0,0,0,0,0,0,0,0,0,0,0,0,0,0,0,0,0,0,0,0,0,0,0,0,0,0,0,0,0,0,0,0,0,0,0,0,0,0,0,0,0,0,0,0,0,0,0,0,0,0,0,0,0,0,0,0,0,0,0,0,0,0,0,0,0,0,0,0,0,0,0,0,0,0,0,0,0,0,0,0,0,0,0,0,0,0,0,null,null,null,0]
[null,null,null,null,null,null,null,null,null,null,null,null,null,null,"",null,"",null,null,null,null,0,0,null,0,0,0,0,null,null,null,null,"Leon",null,null,0,0,0,0,0,0,0,0,0,0,0,0,0,0,0,0,0,0,0,0,0,0,0,0,0,0,0,0,0,0,0,0,0,0,0,0,0,0,0,0,0,0,0,0,0,0,0,0,0,0,0,0,0,0,0,0,0,0,0,0,0,0,0,0,0,0,0,0,0,0,0,0,0,0,0,0,0,0,0,0,0,0,0,0,0,0,0,0,0,0,0,0,0,0,0,0,0,0,0,0,0,0,0,0,0,0,0,0,0,0,0,0,0,0,0,0,0,0,0,0,0,0,0,0,0,0,0,0,0,0,0,0,0,0,0,0,0,0,0,0,0,0,0,0,0,0,0,0,0,0,0,null,null,null,0]
[null,null,null,null,null,null,null,null,null,null,null,null,null,null,"",null,"",null,null,null,null,0,0,null,0,0,0,0,null,null,null,null,"Levy",null,null,0,0,0,0,0,0,0,0,0,0,0,0,0,0,0,0,0,0,0,0,0,0,0,0,0,0,0,0,0,0,0,0,0,0,0,0,0,0,0,0,0,0,0,0,0,0,0,0,0,0,0,0,0,0,0,0,0,0,0,0,0,0,0,0,0,0,0,0,0,0,0,0,0,0,0,0,0,0,0,0,0,0,0,0,0,0,0,0,0,0,0,0,0,0,0,0,0,0,0,0,0,0,0,0,0,0,0,0,0,0,0,0,0,0,0,0,0,0,0,0,0,0,0,0,0,0,0,0,0,0,0,0,0,0,0,0,0,0,0,0,0,0,0,0,0,0,0,0,0,0,0,null,null,null,0]
[null,null,null,null,null,null,null,null,null,null,null,null,null,null,"",null,"",null,null,null,null,0,0,null,0,0,0,0,null,null,null,null,"Liberty",null,null,0,0,0,0,0,0,0,0,0,0,0,0,0,0,0,0,0,0,0,0,0,0,0,0,0,0,0,0,0,0,0,0,0,0,0,0,0,0,0,0,0,0,0,0,0,0,0,0,0,0,0,0,0,0,0,0,0,0,0,0,0,0,0,0,0,0,0,0,0,0,0,0,0,0,0,0,0,0,0,0,0,0,0,0,0,0,0,0,0,0,0,0,0,0,0,0,0,0,0,0,0,0,0,0,0,0,0,0,0,0,0,0,0,0,0,0,0,0,0,0,0,0,0,0,0,0,0,0,0,0,0,0,0,0,0,0,0,0,0,0,0,0,0,0,0,0,0,0,0,0,0,null,null,null,0]
[null,null,null,null,null,null,null,null,null,null,null,null,null,null,"",null,"",null,null,null,null,0,0,null,0,0,0,0,null,null,null,null,"Madison",null,null,0,0,0,0,0,0,0,0,0,0,0,0,0,0,0,0,0,0,0,0,0,0,0,0,0,0,0,0,0,0,0,0,0,0,0,0,0,0,0,0,0,0,0,0,0,0,0,0,0,0,0,0,0,0,0,0,0,0,0,0,0,0,0,0,0,0,0,0,0,0,0,0,0,0,0,0,0,0,0,0,0,0,0,0,0,0,0,0,0,0,0,0,0,0,0,0,0,0,0,0,0,0,0,0,0,0,0,0,0,0,0,0,0,0,0,0,0,0,0,0,0,0,0,0,0,0,0,0,0,0,0,0,0,0,0,0,0,0,0,0,0,0,0,0,0,0,0,0,0,0,0,null,null,null,0]
[null,null,null,null,null,null,null,null,null,null,null,null,null,null,"",null,"",null,null,null,null,0,0,null,0,0,0,0,null,null,null,null,"Manatee",null,null,0,0,0,0,0,0,0,0,0,0,0,0,0,0,0,0,0,0,0,0,0,0,0,0,0,0,0,0,0,0,0,0,0,0,0,0,0,0,0,0,0,0,0,0,0,0,0,0,0,0,0,0,0,0,0,0,0,0,0,0,0,0,0,0,0,0,0,0,0,0,0,0,0,0,0,0,0,0,0,0,0,0,0,0,0,0,0,0,0,0,0,0,0,0,0,0,0,0,0,0,0,0,0,0,0,0,0,0,0,0,0,0,0,0,0,0,0,0,0,0,0,0,0,0,0,0,0,0,0,0,0,0,0,0,0,0,0,0,0,0,0,0,0,0,0,0,0,0,0,0,0,null,null,null,0]
[null,null,null,null,null,null,null,null,null,null,null,null,null,null,"",null,"",null,null,null,null,0,0,null,0,0,0,0,null,null,null,null,"Marion",null,null,0,0,0,0,0,0,0,0,0,0,0,0,0,0,0,0,0,0,0,0,0,0,0,0,0,0,0,0,0,0,0,0,0,0,0,0,0,0,0,0,0,0,0,0,0,0,0,0,0,0,0,0,0,0,0,0,0,0,0,0,0,0,0,0,0,0,0,0,0,0,0,0,0,0,0,0,0,0,0,0,0,0,0,0,0,0,0,0,0,0,0,0,0,0,0,0,0,0,0,0,0,0,0,0,0,0,0,0,0,0,0,0,0,0,0,0,0,0,0,0,0,0,0,0,0,0,0,0,0,0,0,0,0,0,0,0,0,0,0,0,0,0,0,0,0,0,0,0,0,0,0,null,null,null,0]
[null,null,null,null,null,null,null,null,null,null,null,null,null,null,"",null,"",null,null,null,null,0,0,null,0,0,0,0,null,null,null,null,"Martin",null,null,0,0,0,0,0,0,0,0,0,0,0,0,0,0,0,0,0,0,0,0,0,0,0,0,0,0,0,0,0,0,0,0,0,0,0,0,0,0,0,0,0,0,0,0,0,0,0,0,0,0,0,0,0,0,0,0,0,0,0,0,0,0,0,0,0,0,0,0,0,0,0,0,0,0,0,0,0,0,0,0,0,0,0,0,0,0,0,0,0,0,0,0,0,0,0,0,0,0,0,0,0,0,0,0,0,0,0,0,0,0,0,0,0,0,0,0,0,0,0,0,0,0,0,0,0,0,0,0,0,0,0,0,0,0,0,0,0,0,0,0,0,0,0,0,0,0,0,0,0,0,0,null,null,null,0]
[null,null,null,null,null,null,null,null,null,null,null,null,null,null,"",null,"",null,null,null,null,0,0,null,0,0,0,0,null,null,null,null,"Miami-Dade",null,null,0,0,0,0,0,0,0,0,0,0,0,0,0,0,0,0,0,0,0,0,0,0,0,0,0,0,0,0,0,0,0,0,0,0,0,0,0,0,0,0,0,0,0,0,0,0,0,0,0,0,0,0,0,0,0,0,0,0,0,0,0,0,0,0,0,0,0,0,0,0,0,0,0,0,0,0,0,0,0,0,0,0,0,0,0,0,0,0,0,0,0,0,0,0,0,0,0,0,0,0,0,0,0,0,0,0,0,0,0,0,0,0,0,0,0,0,0,0,0,0,0,0,0,0,0,0,0,0,0,0,0,0,0,0,0,0,0,0,0,0,0,0,0,0,0,0,0,0,0,0,0,null,null,null,0]
[null,null,null,null,null,null,null,null,null,null,null,null,null,null,"",null,"",null,null,null,null,0,0,null,0,0,0,0,null,null,null,null,"Monroe",null,null,0,0,0,0,0,0,0,0,0,0,0,0,0,0,0,0,0,0,0,0,0,0,0,0,0,0,0,0,0,0,0,0,0,0,0,0,0,0,0,0,0,0,0,0,0,0,0,0,0,0,0,0,0,0,0,0,0,0,0,0,0,0,0,0,0,0,0,0,0,0,0,0,0,0,0,0,0,0,0,0,0,0,0,0,0,0,0,0,0,0,0,0,0,0,0,0,0,0,0,0,0,0,0,0,0,0,0,0,0,0,0,0,0,0,0,0,0,0,0,0,0,0,0,0,0,0,0,0,0,0,0,0,0,0,0,0,0,0,0,0,0,0,0,0,0,0,0,0,0,0,0,null,null,null,0]
[null,null,null,null,null,null,null,null,null,null,null,null,null,null,"",null,"",null,null,null,null,0,0,null,0,0,0,0,null,null,null,null,"Nassau",null,null,0,0,0,0,0,0,0,0,0,0,0,0,0,0,0,0,0,0,0,0,0,0,0,0,0,0,0,0,0,0,0,0,0,0,0,0,0,0,0,0,0,0,0,0,0,0,0,0,0,0,0,0,0,0,0,0,0,0,0,0,0,0,0,0,0,0,0,0,0,0,0,0,0,0,0,0,0,0,0,0,0,0,0,0,0,0,0,0,0,0,0,0,0,0,0,0,0,0,0,0,0,0,0,0,0,0,0,0,0,0,0,0,0,0,0,0,0,0,0,0,0,0,0,0,0,0,0,0,0,0,0,0,0,0,0,0,0,0,0,0,0,0,0,0,0,0,0,0,0,0,0,null,null,null,0]
[null,null,null,null,null,null,null,null,null,null,null,null,null,null,"",null,"",null,null,null,null,0,0,null,0,0,0,0,null,null,null,null,"Okaloosa",null,null,0,0,0,0,0,0,0,0,0,0,0,0,0,0,0,0,0,0,0,0,0,0,0,0,0,0,0,0,0,0,0,0,0,0,0,0,0,0,0,0,0,0,0,0,0,0,0,0,0,0,0,0,0,0,0,0,0,0,0,0,0,0,0,0,0,0,0,0,0,0,0,0,0,0,0,0,0,0,0,0,0,0,0,0,0,0,0,0,0,0,0,0,0,0,0,0,0,0,0,0,0,0,0,0,0,0,0,0,0,0,0,0,0,0,0,0,0,0,0,0,0,0,0,0,0,0,0,0,0,0,0,0,0,0,0,0,0,0,0,0,0,0,0,0,0,0,0,0,0,0,0,null,null,null,0]
[null,null,null,null,null,null,null,null,null,null,null,null,null,null,"",null,"",null,null,null,null,0,0,null,0,0,0,0,null,null,null,null,"Okeechobee",null,null,0,0,0,0,0,0,0,0,0,0,0,0,0,0,0,0,0,0,0,0,0,0,0,0,0,0,0,0,0,0,0,0,0,0,0,0,0,0,0,0,0,0,0,0,0,0,0,0,0,0,0,0,0,0,0,0,0,0,0,0,0,0,0,0,0,0,0,0,0,0,0,0,0,0,0,0,0,0,0,0,0,0,0,0,0,0,0,0,0,0,0,0,0,0,0,0,0,0,0,0,0,0,0,0,0,0,0,0,0,0,0,0,0,0,0,0,0,0,0,0,0,0,0,0,0,0,0,0,0,0,0,0,0,0,0,0,0,0,0,0,0,0,0,0,0,0,0,0,0,0,0,null,null,null,0]
[null,null,null,null,null,null,null,null,null,null,null,null,null,null,"",null,"",null,null,null,null,0,0,null,0,0,0,0,null,null,null,null,"Orange",null,null,0,0,0,0,0,0,0,0,0,0,0,0,0,0,0,0,0,0,0,0,0,0,0,0,0,0,0,0,0,0,0,0,0,0,0,0,0,0,0,0,0,0,0,0,0,0,0,0,0,0,0,0,0,0,0,0,0,0,0,0,0,0,0,0,0,0,0,0,0,0,0,0,0,0,0,0,0,0,0,0,0,0,0,0,0,0,0,0,0,0,0,0,0,0,0,0,0,0,0,0,0,0,0,0,0,0,0,0,0,0,0,0,0,0,0,0,0,0,0,0,0,0,0,0,0,0,0,0,0,0,0,0,0,0,0,0,0,0,0,0,0,0,0,0,0,0,0,0,0,0,0,null,null,null,0]
[null,null,null,null,null,null,null,null,null,null,null,null,null,null,"",null,"",null,null,null,null,0,0,null,0,0,0,0,null,null,null,null,"Osceola",null,null,0,0,0,0,0,0,0,0,0,0,0,0,0,0,0,0,0,0,0,0,0,0,0,0,0,0,0,0,0,0,0,0,0,0,0,0,0,0,0,0,0,0,0,0,0,0,0,0,0,0,0,0,0,0,0,0,0,0,0,0,0,0,0,0,0,0,0,0,0,0,0,0,0,0,0,0,0,0,0,0,0,0,0,0,0,0,0,0,0,0,0,0,0,0,0,0,0,0,0,0,0,0,0,0,0,0,0,0,0,0,0,0,0,0,0,0,0,0,0,0,0,0,0,0,0,0,0,0,0,0,0,0,0,0,0,0,0,0,0,0,0,0,0,0,0,0,0,0,0,0,0,null,null,null,0]
[null,null,null,null,null,null,null,null,null,null,null,null,null,null,"",null,"",null,null,null,null,0,0,null,0,0,0,0,null,null,null,null,"Palm Beach",null,null,0,0,0,0,0,0,0,0,0,0,0,0,0,0,0,0,0,0,0,0,0,0,0,0,0,0,0,0,0,0,0,0,0,0,0,0,0,0,0,0,0,0,0,0,0,0,0,0,0,0,0,0,0,0,0,0,0,0,0,0,0,0,0,0,0,0,0,0,0,0,0,0,0,0,0,0,0,0,0,0,0,0,0,0,0,0,0,0,0,0,0,0,0,0,0,0,0,0,0,0,0,0,0,0,0,0,0,0,0,0,0,0,0,0,0,0,0,0,0,0,0,0,0,0,0,0,0,0,0,0,0,0,0,0,0,0,0,0,0,0,0,0,0,0,0,0,0,0,0,0,0,null,null,null,0]
[null,null,null,null,null,null,null,null,null,null,null,null,null,null,"",null,"",null,null,null,null,0,0,null,0,0,0,0,null,null,null,null,"Pasco",null,null,0,0,0,0,0,0,0,0,0,0,0,0,0,0,0,0,0,0,0,0,0,0,0,0,0,0,0,0,0,0,0,0,0,0,0,0,0,0,0,0,0,0,0,0,0,0,0,0,0,0,0,0,0,0,0,0,0,0,0,0,0,0,0,0,0,0,0,0,0,0,0,0,0,0,0,0,0,0,0,0,0,0,0,0,0,0,0,0,0,0,0,0,0,0,0,0,0,0,0,0,0,0,0,0,0,0,0,0,0,0,0,0,0,0,0,0,0,0,0,0,0,0,0,0,0,0,0,0,0,0,0,0,0,0,0,0,0,0,0,0,0,0,0,0,0,0,0,0,0,0,0,null,null,null,0]
[null,null,null,null,null,null,null,null,null,null,null,null,null,null,"",null,"",null,null,null,null,0,0,null,0,0,0,0,null,null,null,null,"Pinellas",null,null,0,0,0,0,0,0,0,0,0,0,0,0,0,0,0,0,0,0,0,0,0,0,0,0,0,0,0,0,0,0,0,0,0,0,0,0,0,0,0,0,0,0,0,0,0,0,0,0,0,0,0,0,0,0,0,0,0,0,0,0,0,0,0,0,0,0,0,0,0,0,0,0,0,0,0,0,0,0,0,0,0,0,0,0,0,0,0,0,0,0,0,0,0,0,0,0,0,0,0,0,0,0,0,0,0,0,0,0,0,0,0,0,0,0,0,0,0,0,0,0,0,0,0,0,0,0,0,0,0,0,0,0,0,0,0,0,0,0,0,0,0,0,0,0,0,0,0,0,0,0,0,null,null,null,0]
[null,null,null,null,null,null,null,null,null,null,null,null,null,null,"",null,"",null,null,null,null,0,0,null,0,0,0,0,null,null,null,null,"Polk",null,null,0,0,0,0,0,0,0,0,0,0,0,0,0,0,0,0,0,0,0,0,0,0,0,0,0,0,0,0,0,0,0,0,0,0,0,0,0,0,0,0,0,0,0,0,0,0,0,0,0,0,0,0,0,0,0,0,0,0,0,0,0,0,0,0,0,0,0,0,0,0,0,0,0,0,0,0,0,0,0,0,0,0,0,0,0,0,0,0,0,0,0,0,0,0,0,0,0,0,0,0,0,0,0,0,0,0,0,0,0,0,0,0,0,0,0,0,0,0,0,0,0,0,0,0,0,0,0,0,0,0,0,0,0,0,0,0,0,0,0,0,0,0,0,0,0,0,0,0,0,0,0,null,null,null,0]
[null,null,null,null,null,null,null,null,null,null,null,null,null,null,"",null,"",null,null,null,null,0,0,null,0,0,0,0,null,null,null,null,"Putnam",null,null,0,0,0,0,0,0,0,0,0,0,0,0,0,0,0,0,0,0,0,0,0,0,0,0,0,0,0,0,0,0,0,0,0,0,0,0,0,0,0,0,0,0,0,0,0,0,0,0,0,0,0,0,0,0,0,0,0,0,0,0,0,0,0,0,0,0,0,0,0,0,0,0,0,0,0,0,0,0,0,0,0,0,0,0,0,0,0,0,0,0,0,0,0,0,0,0,0,0,0,0,0,0,0,0,0,0,0,0,0,0,0,0,0,0,0,0,0,0,0,0,0,0,0,0,0,0,0,0,0,0,0,0,0,0,0,0,0,0,0,0,0,0,0,0,0,0,0,0,0,0,0,null,null,null,0]
[null,null,null,null,null,null,null,null,null,null,null,null,null,null,"",null,"",null,null,null,null,0,0,null,0,0,0,0,null,null,null,null,"St. Johns",null,null,0,0,0,0,0,0,0,0,0,0,0,0,0,0,0,0,0,0,0,0,0,0,0,0,0,0,0,0,0,0,0,0,0,0,0,0,0,0,0,0,0,0,0,0,0,0,0,0,0,0,0,0,0,0,0,0,0,0,0,0,0,0,0,0,0,0,0,0,0,0,0,0,0,0,0,0,0,0,0,0,0,0,0,0,0,0,0,0,0,0,0,0,0,0,0,0,0,0,0,0,0,0,0,0,0,0,0,0,0,0,0,0,0,0,0,0,0,0,0,0,0,0,0,0,0,0,0,0,0,0,0,0,0,0,0,0,0,0,0,0,0,0,0,0,0,0,0,0,0,0,0,null,null,null,0]
[null,null,null,null,null,null,null,null,null,null,null,null,null,null,"",null,"",null,null,null,null,0,0,null,0,0,0,0,null,null,null,null,"St. Lucie",null,null,0,0,0,0,0,0,0,0,0,0,0,0,0,0,0,0,0,0,0,0,0,0,0,0,0,0,0,0,0,0,0,0,0,0,0,0,0,0,0,0,0,0,0,0,0,0,0,0,0,0,0,0,0,0,0,0,0,0,0,0,0,0,0,0,0,0,0,0,0,0,0,0,0,0,0,0,0,0,0,0,0,0,0,0,0,0,0,0,0,0,0,0,0,0,0,0,0,0,0,0,0,0,0,0,0,0,0,0,0,0,0,0,0,0,0,0,0,0,0,0,0,0,0,0,0,0,0,0,0,0,0,0,0,0,0,0,0,0,0,0,0,0,0,0,0,0,0,0,0,0,0,null,null,null,0]
[null,null,null,null,null,null,null,null,null,null,null,null,null,null,"",null,"",null,null,null,null,0,0,null,0,0,0,0,null,null,null,null,"Santa Rosa",null,null,0,0,0,0,0,0,0,0,0,0,0,0,0,0,0,0,0,0,0,0,0,0,0,0,0,0,0,0,0,0,0,0,0,0,0,0,0,0,0,0,0,0,0,0,0,0,0,0,0,0,0,0,0,0,0,0,0,0,0,0,0,0,0,0,0,0,0,0,0,0,0,0,0,0,0,0,0,0,0,0,0,0,0,0,0,0,0,0,0,0,0,0,0,0,0,0,0,0,0,0,0,0,0,0,0,0,0,0,0,0,0,0,0,0,0,0,0,0,0,0,0,0,0,0,0,0,0,0,0,0,0,0,0,0,0,0,0,0,0,0,0,0,0,0,0,0,0,0,0,0,0,null,null,null,0]
[null,null,null,null,null,null,null,null,null,null,null,null,null,null,"",null,"",null,null,null,null,0,0,null,0,0,0,0,null,null,null,null,"Sarasota",null,null,0,0,0,0,0,0,0,0,0,0,0,0,0,0,0,0,0,0,0,0,0,0,0,0,0,0,0,0,0,0,0,0,0,0,0,0,0,0,0,0,0,0,0,0,0,0,0,0,0,0,0,0,0,0,0,0,0,0,0,0,0,0,0,0,0,0,0,0,0,0,0,0,0,0,0,0,0,0,0,0,0,0,0,0,0,0,0,0,0,0,0,0,0,0,0,0,0,0,0,0,0,0,0,0,0,0,0,0,0,0,0,0,0,0,0,0,0,0,0,0,0,0,0,0,0,0,0,0,0,0,0,0,0,0,0,0,0,0,0,0,0,0,0,0,0,0,0,0,0,0,0,null,null,null,0]
[null,null,null,null,null,null,null,null,null,null,null,null,null,null,"",null,"",null,null,null,null,0,0,null,0,0,0,0,null,null,null,null,"Seminole",null,null,0,0,0,0,0,0,0,0,0,0,0,0,0,0,0,0,0,0,0,0,0,0,0,0,0,0,0,0,0,0,0,0,0,0,0,0,0,0,0,0,0,0,0,0,0,0,0,0,0,0,0,0,0,0,0,0,0,0,0,0,0,0,0,0,0,0,0,0,0,0,0,0,0,0,0,0,0,0,0,0,0,0,0,0,0,0,0,0,0,0,0,0,0,0,0,0,0,0,0,0,0,0,0,0,0,0,0,0,0,0,0,0,0,0,0,0,0,0,0,0,0,0,0,0,0,0,0,0,0,0,0,0,0,0,0,0,0,0,0,0,0,0,0,0,0,0,0,0,0,0,0,null,null,null,0]
[null,null,null,null,null,null,null,null,null,null,null,null,null,null,"",null,"",null,null,null,null,0,0,null,0,0,0,0,null,null,null,null,"Sumter",null,null,0,0,0,0,0,0,0,0,0,0,0,0,0,0,0,0,0,0,0,0,0,0,0,0,0,0,0,0,0,0,0,0,0,0,0,0,0,0,0,0,0,0,0,0,0,0,0,0,0,0,0,0,0,0,0,0,0,0,0,0,0,0,0,0,0,0,0,0,0,0,0,0,0,0,0,0,0,0,0,0,0,0,0,0,0,0,0,0,0,0,0,0,0,0,0,0,0,0,0,0,0,0,0,0,0,0,0,0,0,0,0,0,0,0,0,0,0,0,0,0,0,0,0,0,0,0,0,0,0,0,0,0,0,0,0,0,0,0,0,0,0,0,0,0,0,0,0,0,0,0,0,null,null,null,0]
[null,null,null,null,null,null,null,null,null,null,null,null,null,null,"",null,"",null,null,null,null,0,0,null,0,0,0,0,null,null,null,null,"Suwannee",null,null,0,0,0,0,0,0,0,0,0,0,0,0,0,0,0,0,0,0,0,0,0,0,0,0,0,0,0,0,0,0,0,0,0,0,0,0,0,0,0,0,0,0,0,0,0,0,0,0,0,0,0,0,0,0,0,0,0,0,0,0,0,0,0,0,0,0,0,0,0,0,0,0,0,0,0,0,0,0,0,0,0,0,0,0,0,0,0,0,0,0,0,0,0,0,0,0,0,0,0,0,0,0,0,0,0,0,0,0,0,0,0,0,0,0,0,0,0,0,0,0,0,0,0,0,0,0,0,0,0,0,0,0,0,0,0,0,0,0,0,0,0,0,0,0,0,0,0,0,0,0,0,null,null,null,0]
[null,null,null,null,null,null,null,null,null,null,null,null,null,null,"",null,"",null,null,null,null,0,0,null,0,0,0,0,null,null,null,null,"Taylor",null,null,0,0,0,0,0,0,0,0,0,0,0,0,0,0,0,0,0,0,0,0,0,0,0,0,0,0,0,0,0,0,0,0,0,0,0,0,0,0,0,0,0,0,0,0,0,0,0,0,0,0,0,0,0,0,0,0,0,0,0,0,0,0,0,0,0,0,0,0,0,0,0,0,0,0,0,0,0,0,0,0,0,0,0,0,0,0,0,0,0,0,0,0,0,0,0,0,0,0,0,0,0,0,0,0,0,0,0,0,0,0,0,0,0,0,0,0,0,0,0,0,0,0,0,0,0,0,0,0,0,0,0,0,0,0,0,0,0,0,0,0,0,0,0,0,0,0,0,0,0,0,0,null,null,null,0]
[null,null,null,null,null,null,null,null,null,null,null,null,null,null,"",null,"",null,null,null,null,0,0,null,0,0,0,0,null,null,null,null,"Union",null,null,0,0,0,0,0,0,0,0,0,0,0,0,0,0,0,0,0,0,0,0,0,0,0,0,0,0,0,0,0,0,0,0,0,0,0,0,0,0,0,0,0,0,0,0,0,0,0,0,0,0,0,0,0,0,0,0,0,0,0,0,0,0,0,0,0,0,0,0,0,0,0,0,0,0,0,0,0,0,0,0,0,0,0,0,0,0,0,0,0,0,0,0,0,0,0,0,0,0,0,0,0,0,0,0,0,0,0,0,0,0,0,0,0,0,0,0,0,0,0,0,0,0,0,0,0,0,0,0,0,0,0,0,0,0,0,0,0,0,0,0,0,0,0,0,0,0,0,0,0,0,0,null,null,null,0]
[null,null,null,null,null,null,null,null,null,null,null,null,null,null,"",null,"",null,null,null,null,0,0,null,0,0,0,0,null,null,null,null,"Volusia",null,null,0,0,0,0,0,0,0,0,0,0,0,0,0,0,0,0,0,0,0,0,0,0,0,0,0,0,0,0,0,0,0,0,0,0,0,0,0,0,0,0,0,0,0,0,0,0,0,0,0,0,0,0,0,0,0,0,0,0,0,0,0,0,0,0,0,0,0,0,0,0,0,0,0,0,0,0,0,0,0,0,0,0,0,0,0,0,0,0,0,0,0,0,0,0,0,0,0,0,0,0,0,0,0,0,0,0,0,0,0,0,0,0,0,0,0,0,0,0,0,0,0,0,0,0,0,0,0,0,0,0,0,0,0,0,0,0,0,0,0,0,0,0,0,0,0,0,0,0,0,0,0,null,null,null,0]
[null,null,null,null,null,null,null,null,null,null,null,null,null,null,"",null,"",null,null,null,null,0,0,null,0,0,0,0,null,null,null,null,"Wakulla",null,null,0,0,0,0,0,0,0,0,0,0,0,0,0,0,0,0,0,0,0,0,0,0,0,0,0,0,0,0,0,0,0,0,0,0,0,0,0,0,0,0,0,0,0,0,0,0,0,0,0,0,0,0,0,0,0,0,0,0,0,0,0,0,0,0,0,0,0,0,0,0,0,0,0,0,0,0,0,0,0,0,0,0,0,0,0,0,0,0,0,0,0,0,0,0,0,0,0,0,0,0,0,0,0,0,0,0,0,0,0,0,0,0,0,0,0,0,0,0,0,0,0,0,0,0,0,0,0,0,0,0,0,0,0,0,0,0,0,0,0,0,0,0,0,0,0,0,0,0,0,0,0,null,null,null,0]
[null,null,null,null,null,null,null,null,null,null,null,null,null,null,"",null,{"$f":"IF(ISBLANK(P73),\"\",LEN(TRIM(P73))-LEN(SUBSTITUTE(TRIM(P73),\",\",\"\"))+1)","v":""},null,null,null,null,{"$f":"IF(A73<>\"\",1,0)","v":0},0,null,{"$f":"IF(S73=\"Yes\", 1, 0)","v":0},{"$f":"IF(T73=\"Yes\", 1, 0)","v":0},{"$f":"IF(U73=\"Yes\", 1, 0)","v":0},{"$f":"IF(R73=\"Yes\", 1,0)","v":0},null,null,null,null,"Walton",null,null,0,0,0,0,0,0,0,0,0,0,0,0,0,0,0,0,0,0,0,0,0,0,0,0,0,0,0,0,0,0,0,0,0,0,0,0,0,0,0,0,0,0,0,0,0,0,0,0,0,0,0,0,0,0,0,0,0,0,0,0,0,0,0,0,0,0,0,0,0,0,0,0,0,0,0,0,0,0,0,0,0,0,0,0,0,0,0,0,0,0,0,0,0,0,0,0,0,0,0,0,0,0,0,0,0,0,0,0,0,0,0,0,0,0,0,0,0,0,0,0,0,0,0,0,0,0,0,0,0,0,0,0,0,0,0,0,0,0,0,0,0,0,0,0,0,0,0,0,0,0,0,null,null,null,0]
[null,null,null,null,null,null,null,null,null,null,null,null,null,null,{"$f":"IF(ISBLANK(N74),\"\",LEN(TRIM(N74))-LEN(SUBSTITUTE(TRIM(N74),\",\",\"\"))+1)","v":""},null,"",null,null,null,null,0,{"$f":"IF(OR(J74=\"Yes\",K74=\"Yes\",L74=\"Yes\",M74=\"Yes\"), 1, 0)","v":0},null,0,0,0,0,null,null,null,null,"Washington",null,null,0,0,0,0,0,0,0,0,0,0,0,0,0,0,0,0,0,0,0,0,0,0,0,0,0,0,0,0,0,0,0,0,0,0,0,0,0,0,0,0,0,0,0,0,0,0,0,0,0,0,0,0,0,0,0,0,0,0,0,0,0,0,0,0,0,0,0,0,0,0,0,0,0,0,0,0,0,0,0,0,0,0,0,0,0,0,0,0,0,0,0,0,0,0,0,0,0,0,0,0,0,0,0,0,0,0,0,0,0,0,0,0,0,0,0,0,0,0,0,0,0,0,0,0,0,0,0,0,0,0,0,0,0,0,0,0,0,0,0,0,0,0,0,0,0,0,0,0,0,0,0,null,null,null,0]
[null,null,null,null,null,null,null,null,null,null,null,null,null,null,"",null,"",null,null,null,null,0,0,null,0,0,0,0,null,null,null,null,null,null,null,null,null,null,null,null,null,null,null,null,null,null,null,null,null,null,null,null,null,null,null,null,null,null,null,null,null,null,null,null,null,null,null,null,null,null,null,null,null,null,null,null,null,null,null,null,null,null,null,null,null,null,null,null,null,null,null,null,null,null,null,null,null,null,null,null,null,null,null,null,null,null,null,null,null,null,null,null,null,null,null,null,null,null,null,null,null,null,null,null,null,null,null,null,null,null,null,null,null,null,null,null,null,null,null,null,null,null,null,null,null,null,null,null,null,null,null,null,null,null,null,null,null,null,null,null,null,null,null,null,null,null,null,null,null,null,null,null,null,null,null,null,null,null,null,null,null,null,null,null,null,null,null,null,"Total Counties:",{"$f":"SUM(GH8:GH74)","v":0}]
[null,null,null,null,null,null,null,null,null,null,null,null,null,null,"",null,"",null,null,null,null,0,0,null,0,0,0,0,null,null,null,null,null,null,null,null,null,null,null,null,null,null,null,null,null,null,null,null,null,null,null,null,null,null,null,null,null,null,null,null,null,null,null,null,null,null,null,null,null,null,null,null,null,null,null,null,null,null,null,null,null,null,null,null,null,null,null,null,null,null,null,null,null,null,null,null,null,null,null,null,null,null,null,null,null,null,null,null,null,null,null,null,null,null,null,null,null,null,null,null,null,null,null,null,null,null,null,null,null,null,null,null,null,null,null,null,null,null,null,null,null,null,null,null,null,null,null,null,null,null,null,null,null,null,null,null,null,null,null,null,null,null,null,null,null,null,null,null,null,null,null,null,null,null,null,null,null,null,null,null,null,null,null,null,null,null,null,null,"% Counties:",{"$f":"GH75/67","v":0}]
[null,null,null,null,null,null,null,null,null,null,null,null,null,null,"",null,"",null,null,null,null,0,0,null,0,0,0,0]
[null,null,null,null,null,null,null,null,null,null,null,null,null,null,"",null,"",null,null,null,null,0,0,null,0,0,0,0,null,null,null,null,"Region",null,null,"Row 1","Row 2","Row 3","Row 4","Row 5","Row 6","Row 7","Row 8","Row 9","Row 10","Row 11","Row 12","Row 13","Row 14","Row 15","Row 16","Row 17","Row 18","Row 19","Row 20","Row 21","Row 22","Row 23","Row 24","Row 25","Row 26","Row 27","Row 28","Row 29","Row 30","Row 31","Row 32","Row 33","Row 34","Row 35","Row 36","Row 37","Row 38","Row 39","Row 40","Row 41","Row 42","Row 43","Row 44","Row 45","Row 46","Row 47","Row 48","Row 49","Row 50","Row 51","Row 52","Row 53","Row 54","Row 55","Row 56","Row 57","Row 58","Row 59","Row 60","Row 61","Row 62","Row 63","Row 64","Row 65","Row 66","Row 67","Row 68","Row 69","Row 70","Row 71","Row 72","Row 73","Row 74","Row 75","Row 76","Row 77","Row 78","Row 79","Row 80","Row 81","Row 82","Row 83","Row 84","Row 85","Row 86","Row 87","Row 88","Row 89","Row 90","Row 91","Row 92","Row 93","Row 94","Row 95","Row 96","Row 97","Row 98","Row 99","Row 100","Row 101","Row 102","Row 103","Row 104","Row 105","Row 106","Row 107","Row 108","Row 109","Row 110","Row 111","Row 112","Row 113","Row 114","Row 115","Row 116","Row 117","Row 118","Row 119","Row 120","Row 121","Row 122","Row 123","Row 124","Row 125","Row 126","Row 127","Row 128","Row 129","Row 130","Row 131","Row 132","Row 133","Row 134","Row 135","Row 136","Row 137","Row 138","Row 139","Row 140","Row 141","Row 142","Row 143","Row 144","Row 145","Row 146","Row 147","Row 148","Row 149","Row 150","Row 151",null,null,null,"Region Present"]
[null,null,null,null,null,null,null,null,null,null,null,null,null,null,"",null,"",null,null,null,null,0,0,null,0,0,0,0,null,null,null,null,"A",null,null,{"$f":"IF(ISNUMBER(SEARCH(AG79,$N$9)),1,0)","v":0},{"$f":"IF(ISNUMBER(SEARCH(AG79,$N$10)),1,0)","v":0},{"$f":"IF(ISNUMBER(SEARCH($AG79,$N$11)),1,0)","v":0},{"$f":"IF(ISNUMBER(SEARCH($AG79,$N$12)),1,0)","v":0},{"$f":"IF(ISNUMBER(SEARCH($AG79,$N$13)),1,0)","v":0},{"$f":"IF(ISNUMBER(SEARCH($AG79,$N$14)),1,0)","v":0},{"$f":"IF(ISNUMBER(SEARCH($AG79,$N$15)),1,0)","v":0},{"$f":"IF(ISNUMBER(SEARCH($AG79,$N$16)),1,0)","v":0},{"$f":"IF(ISNUMBER(SEARCH($AG79,$N$17)),1,0)","v":0},{"$f":"IF(ISNUMBER(SEARCH($AG79,$N$18)),1,0)","v":0},{"$f":"IF(ISNUMBER(SEARCH($AG79,$N$19)),1,0)","v":0},{"$f":"IF(ISNUMBER(SEARCH($AG79,$N$20)),1,0)","v":0},{"$f":"IF(ISNUMBER(SEARCH($AG79,$N$21)),1,0)","v":0},{"$f":"IF(ISNUMBER(SEARCH($AG79,$N$22)),1,0)","v":0},{"$f":"IF(ISNUMBER(SEARCH($AG79,$N$23)),1,0)","v":0},{"$f":"IF(ISNUMBER(SEARCH($AG79,$N$24)),1,0)","v":0},{"$f":"IF(ISNUMBER(SEARCH($AG79,$N$25)),1,0)","v":0},{"$f":"IF(ISNUMBER(SEARCH($AG79,$N$26)),1,0)","v":0},{"$f":"IF(ISNUMBER(SEARCH($AG79,$N$27)),1,0)","v":0},{"$f":"IF(ISNUMBER(SEARCH($AG79,$N$28)),1,0)","v":0},{"$f":"IF(ISNUMBER(SEARCH($AG79,$N$29)),1,0)","v":0},{"$f":"IF(ISNUMBER(SEARCH($AG79,$N$30)),1,0)","v":0},{"$f":"IF(ISNUMBER(SEARCH($AG79,$N$31)),1,0)","v":0},{"$f":"IF(ISNUMBER(SEARCH($AG79,$N$32)),1,0)","v":0},{"$f":"IF(ISNUMBER(SEARCH($AG79,$N$33)),1,0)","v":0},{"$f":"IF(ISNUMBER(SEARCH($AG79,$N$34)),1,0)","v":0},{"$f":"IF(ISNUMBER(SEARCH($AG79,$N$35)),1,0)","v":0},{"$f":"IF(ISNUMBER(SEARCH($AG79,$N$36)),1,0)","v":0},{"$f":"IF(ISNUMBER(SEARCH($AG79,$N$37)),1,0)","v":0},{"$f":"IF(ISNUMBER(SEARCH($AG79,$N$38)),1,0)","v":0},{"$f":"IF(ISNUMBER(SEARCH($AG79,$N$39)),1,0)","v":0},{"$f":"IF(ISNUMBER(SEARCH($AG79,$N$40)),1,0)","v":0},{"$f":"IF(ISNUMBER(SEARCH($AG79,$N$41)),1,0)","v":0},{"$f":"IF(ISNUMBER(SEARCH($AG79,$N$42)),1,0)","v":0},{"$f":"IF(ISNUMBER(SEARCH($AG79,$N$43)),1,0)","v":0},{"$f":"IF(ISNUMBER(SEARCH($AG79,$N$44)),1,0)","v":0},{"$f":"IF(ISNUMBER(SEARCH($AG79,$N$45)),1,0)","v":0},{"$f":"IF(ISNUMBER(SEARCH($AG79,$N$46)),1,0)","v":0},{"$f":"IF(ISNUMBER(SEARCH($AG79,$N$47)),1,0)","v":0},{"$f":"IF(ISNUMBER(SEARCH($AG79,$N$48)),1,0)","v":0},{"$f":"IF(ISNUMBER(SEARCH($AG79,$N$49)),1,0)","v":0},{"$f":"IF(ISNUMBER(SEARCH($AG79,$N$50)),1,0)","v":0},{"$f":"IF(ISNUMBER(SEARCH($AG79,$N$51)),1,0)","v":0},{"$f":"IF(ISNUMBER(SEARCH($AG79,$N$52)),1,0)","v":0},{"$f":"IF(ISNUMBER(SEARCH($AG79,$N$53)),1,0)","v":0},{"$f":"IF(ISNUMBER(SEARCH($AG79,$N$54)),1,0)","v":0},{"$f":"IF(ISNUMBER(SEARCH($AG79,$N$55)),1,0)","v":0},{"$f":"IF(ISNUMBER(SEARCH($AG79,$N$56)),1,0)","v":0},{"$f":"IF(ISNUMBER(SEARCH($AG79,$N$57)),1,0)","v":0},{"$f":"IF(ISNUMBER(SEARCH($AG79,$N$58)),1,0)","v":0},{"$f":"IF(ISNUMBER(SEARCH($AG79,$N$59)),1,0)","v":0},{"$f":"IF(ISNUMBER(SEARCH($AG79,$N$60)),1,0)","v":0},{"$f":"IF(ISNUMBER(SEARCH($AG79,$N$61)),1,0)","v":0},{"$f":"IF(ISNUMBER(SEARCH($AG79,$N$62)),1,0)","v":0},{"$f":"IF(ISNUMBER(SEARCH($AG79,$N$63)),1,0)","v":0},{"$f":"IF(ISNUMBER(SEARCH($AG79,$N$64)),1,0)","v":0},{"$f":"IF(ISNUMBER(SEARCH($AG79,$N$65)),1,0)","v":0},{"$f":"IF(ISNUMBER(SEARCH($AG79,$N$66)),1,0)","v":0},{"$f":"IF(ISNUMBER(SEARCH($AG79,$N$67)),1,0)","v":0},{"$f":"IF(ISNUMBER(SEARCH($AG79,$N$68)),1,0)","v":0},{"$f":"IF(ISNUMBER(SEARCH($AG79,$N$69)),1,0)","v":0},{"$f":"IF(ISNUMBER(SEARCH($AG79,$N$70)),1,0)","v":0},{"$f":"IF(ISNUMBER(SEARCH($AG79,$N$71)),1,0)","v":0},{"$f":"IF(ISNUMBER(SEARCH($AG79,$N$72)),1,0)","v":0},{"$f":"IF(ISNUMBER(SEARCH($AG79,$N$73)),1,0)","v":0},{"$f":"IF(ISNUMBER(SEARCH($AG79,$N$74)),1,0)","v":0},{"$f":"IF(ISNUMBER(SEARCH($AG79,$N$75)),1,0)","v":0},{"$f":"IF(ISNUMBER(SEARCH($AG79,$N$76)),1,0)","v":0},{"$f":"IF(ISNUMBER(SEARCH($AG79,$N$77)),1,0)","v":0},{"$f":"IF(ISNUMBER(SEARCH($AG79,$N$78)),1,0)","v":0},{"$f":"IF(ISNUMBER(SEARCH($AG79,$N$79)),1,0)","v":0},{"$f":"IF(ISNUMBER(SEARCH($AG79,$N$80)),1,0)","v":0},{"$f":"IF(ISNUMBER(SEARCH($AG79,$N$81)),1,0)","v":0},{"$f":"IF(ISNUMBER(SEARCH($AG79,$N$82)),1,0)","v":0},{"$f":"IF(ISNUMBER(SEARCH($AG79,$N$83)),1,0)","v":0},{"$f":"IF(ISNUMBER(SEARCH($AG79,$N$84)),1,0)","v":0},{"$f":"IF(ISNUMBER(SEARCH($AG79,$N$85)),1,0)","v":0},{"$f":"IF(ISNUMBER(SEARCH($AG79,$N$86)),1,0)","v":0},{"$f":"IF(ISNUMBER(SEARCH($AG79,$N$87)),1,0)","v":0},{"$f":"IF(ISNUMBER(SEARCH($AG79,$N$88)),1,0)","v":0},{"$f":"IF(ISNUMBER(SEARCH($AG79,$N$89)),1,0)","v":0},{"$f":"IF(ISNUMBER(SEARCH($AG79,$N$90)),1,0)","v":0},{"$f":"IF(ISNUMBER(SEARCH($AG79,$N$91)),1,0)","v":0},{"$f":"IF(ISNUMBER(SEARCH($AG79,$N$92)),1,0)","v":0},{"$f":"IF(ISNUMBER(SEARCH($AG79,$N$93)),1,0)","v":0},{"$f":"IF(ISNUMBER(SEARCH($AG79,$N$94)),1,0)","v":0},{"$f":"IF(ISNUMBER(SEARCH($AG79,$N$95)),1,0)","v":0},{"$f":"IF(ISNUMBER(SEARCH($AG79,$N$96)),1,0)","v":0},{"$f":"IF(ISNUMBER(SEARCH($AG79,$N$97)),1,0)","v":0},{"$f":"IF(ISNUMBER(SEARCH($AG79,$N$98)),1,0)","v":0},{"$f":"IF(ISNUMBER(SEARCH($AG79,$N$99)),1,0)","v":0},{"$f":"IF(ISNUMBER(SEARCH($AG79,$N$100)),1,0)","v":0},{"$f":"IF(ISNUMBER(SEARCH($AG79,$N$101)),1,0)","v":0},{"$f":"IF(ISNUMBER(SEARCH($AG79,$N$102)),1,0)","v":0},{"$f":"IF(ISNUMBER(SEARCH($AG79,$N$103)),1,0)","v":0},{"$f":"IF(ISNUMBER(SEARCH($AG79,$N$104)),1,0)","v":0},{"$f":"IF(ISNUMBER(SEARCH($AG79,$N$105)),1,0)","v":0},{"$f":"IF(ISNUMBER(SEARCH($AG79,$N$106)),1,0)","v":0},{"$f":"IF(ISNUMBER(SEARCH($AG79,$N$107)),1,0)","v":0},{"$f":"IF(ISNUMBER(SEARCH($AG79,$N$108)),1,0)","v":0},{"$f":"IF(ISNUMBER(SEARCH($AG79,$N$109)),1,0)","v":0},{"$f":"IF(ISNUMBER(SEARCH($AG79,$N$110)),1,0)","v":0},{"$f":"IF(ISNUMBER(SEARCH($AG79,$N$111)),1,0)","v":0},{"$f":"IF(ISNUMBER(SEARCH($AG79,$N$112)),1,0)","v":0},{"$f":"IF(ISNUMBER(SEARCH($AG79,$N$113)),1,0)","v":0},{"$f":"IF(ISNUMBER(SEARCH($AG79,$N$114)),1,0)","v":0},{"$f":"IF(ISNUMBER(SEARCH($AG79,$N$115)),1,0)","v":0},{"$f":"IF(ISNUMBER(SEARCH($AG79,$N$116)),1,0)","v":0},{"$f":"IF(ISNUMBER(SEARCH($AG79,$N$117)),1,0)","v":0},{"$f":"IF(ISNUMBER(SEARCH($AG79,$N$118)),1,0)","v":0},{"$f":"IF(ISNUMBER(SEARCH($AG79,$N$119)),1,0)","v":0},{"$f":"IF(ISNUMBER(SEARCH($AG79,$N$120)),1,0)","v":0},{"$f":"IF(ISNUMBER(SEARCH($AG79,$N$121)),1,0)","v":0},{"$f":"IF(ISNUMBER(SEARCH($AG79,$N$122)),1,0)","v":0},{"$f":"IF(ISNUMBER(SEARCH($AG79,$N$123)),1,0)","v":0},{"$f":"IF(ISNUMBER(SEARCH($AG79,$N$124)),1,0)","v":0},{"$f":"IF(ISNUMBER(SEARCH($AG79,$N$125)),1,0)","v":0},{"$f":"IF(ISNUMBER(SEARCH($AG79,$N$126)),1,0)","v":0},{"$f":"IF(ISNUMBER(SEARCH($AG79,$N$127)),1,0)","v":0},{"$f":"IF(ISNUMBER(SEARCH($AG79,$N$128)),1,0)","v":0},{"$f":"IF(ISNUMBER(SEARCH($AG79,$N$129)),1,0)","v":0},{"$f":"IF(ISNUMBER(SEARCH($AG79,$N$130)),1,0)","v":0},{"$f":"IF(ISNUMBER(SEARCH($AG79,$N$131)),1,0)","v":0},{"$f":"IF(ISNUMBER(SEARCH($AG79,$N$132)),1,0)","v":0},{"$f":"IF(ISNUMBER(SEARCH($AG79,$N$133)),1,0)","v":0},{"$f":"IF(ISNUMBER(SEARCH($AG79,$N$134)),1,0)","v":0},{"$f":"IF(ISNUMBER(SEARCH($AG79,$N$135)),1,0)","v":0},{"$f":"IF(ISNUMBER(SEARCH($AG79,$N$136)),1,0)","v":0},{"$f":"IF(ISNUMBER(SEARCH($AG79,$N$137)),1,0)","v":0},{"$f":"IF(ISNUMBER(SEARCH($AG79,$N$138)),1,0)","v":0},{"$f":"IF(ISNUMBER(SEARCH($AG79,$N$139)),1,0)","v":0},{"$f":"IF(ISNUMBER(SEARCH($AG79,$N$140)),1,0)","v":0},{"$f":"IF(ISNUMBER(SEARCH($AG79,$N$141)),1,0)","v":0},{"$f":"IF(ISNUMBER(SEARCH($AG79,$N$142)),1,0)","v":0},{"$f":"IF(ISNUMBER(SEARCH($AG79,$N$143)),1,0)","v":0},{"$f":"IF(ISNUMBER(SEARCH($AG79,$N$144)),1,0)","v":0},{"$f":"IF(ISNUMBER(SEARCH($AG79,$N$145)),1,0)","v":0},{"$f":"IF(ISNUMBER(SEARCH($AG79,$N$146)),1,0)","v":0},{"$f":"IF(ISNUMBER(SEARCH($AG79,$N$147)),1,0)","v":0},{"$f":"IF(ISNUMBER(SEARCH($AG79,$N$148)),1,0)","v":0},{"$f":"IF(ISNUMBER(SEARCH($AG79,$N$149)),1,0)","v":0},{"$f":"IF(ISNUMBER(SEARCH($AG79,$N$150)),1,0)","v":0},{"$f":"IF(ISNUMBER(SEARCH($AG79,$N$151)),1,0)","v":0},{"$f":"IF(ISNUMBER(SEARCH($AG79,$N$152)),1,0)","v":0},{"$f":"IF(ISNUMBER(SEARCH($AG79,$N$153)),1,0)","v":0},{"$f":"IF(ISNUMBER(SEARCH($AG79,$N$154)),1,0)","v":0},{"$f":"IF(ISNUMBER(SEARCH($AG79,$N$155)),1,0)","v":0},{"$f":"IF(ISNUMBER(SEARCH($AG79,$N$156)),1,0)","v":0},{"$f":"IF(ISNUMBER(SEARCH($AG79,$N$157)),1,0)","v":0},{"$f":"IF(ISNUMBER(SEARCH($AG79,$N$158)),1,0)","v":0},{"$f":"IF(ISNUMBER(SEARCH($AG79,$N$159)),1,0)","v":0},null,null,null,{"$f":"IF(SUM(AJ79:GD79)>0, 1, 0)","v":0}]
[null,null,null,null,null,null,null,null,null,null,null,null,null,null,"",null,"",null,null,null,null,0,0,null,0,0,0,0,null,null,null,null,"B",null,null,{"$f":"IF(ISNUMBER(SEARCH(AG80,$N$9)),1,0)","v":0},0,0,0,0,0,0,0,0,0,0,0,0,0,0,0,0,0,0,0,0,0,0,0,0,0,0,0,0,0,0,0,0,0,0,0,0,0,0,0,0,0,0,0,0,0,0,0,0,0,0,0,0,0,0,0,0,0,0,0,0,0,0,0,0,0,0,0,0,0,0,0,0,0,0,0,0,0,0,0,0,0,0,0,0,0,0,0,0,0,0,0,0,0,0,0,0,0,0,0,0,0,0,0,0,0,0,0,0,0,0,0,0,0,0,0,0,0,0,0,0,0,0,0,0,0,0,0,0,0,0,0,0,0,0,0,0,0,0,0,0,0,0,0,0,0,0,0,0,0,0,null,null,null,0]
[null,null,null,null,null,null,null,null,null,null,null,null,null,null,"",null,"",null,null,null,null,0,0,null,0,0,0,0,null,null,null,null,"C",null,null,0,0,0,0,0,0,0,0,0,0,0,0,0,0,0,0,0,0,0,0,0,0,0,0,0,0,0,0,0,0,0,0,0,0,0,0,0,0,0,0,0,0,0,0,0,0,0,0,0,0,0,0,0,0,0,0,0,0,0,0,0,0,0,0,0,0,0,0,0,0,0,0,0,0,0,0,0,0,0,0,0,0,0,0,0,0,0,0,0,0,0,0,0,0,0,0,0,0,0,0,0,0,0,0,0,0,0,0,0,0,0,0,0,0,0,0,0,0,0,0,0,0,0,0,0,0,0,0,0,0,0,0,0,0,0,0,0,0,0,0,0,0,0,0,0,0,0,0,0,0,0,null,null,null,0]
[null,null,null,null,null,null,null,null,null,null,null,null,null,null,"",null,"",null,null,null,null,0,0,null,0,0,0,0,null,null,null,null,"D",null,null,0,0,0,0,0,0,0,0,0,0,0,0,0,0,0,0,0,0,0,0,0,0,0,0,0,0,0,0,0,0,0,0,0,0,0,0,0,0,0,0,0,0,0,0,0,0,0,0,0,0,0,0,0,0,0,0,0,0,0,0,0,0,0,0,0,0,0,0,0,0,0,0,0,0,0,0,0,0,0,0,0,0,0,0,0,0,0,0,0,0,0,0,0,0,0,0,0,0,0,0,0,0,0,0,0,0,0,0,0,0,0,0,0,0,0,0,0,0,0,0,0,0,0,0,0,0,0,0,0,0,0,0,0,0,0,0,0,0,0,0,0,0,0,0,0,0,0,0,0,0,0,null,null,null,0]
[null,null,null,null,null,null,null,null,null,null,null,null,null,null,"",null,"",null,null,null,null,0,0,null,0,0,0,0,null,null,null,null,"E",null,null,0,0,0,0,0,0,0,0,0,0,0,0,0,0,0,0,0,0,0,0,0,0,0,0,0,0,0,0,0,0,0,0,0,0,0,0,0,0,0,0,0,0,0,0,0,0,0,0,0,0,0,0,0,0,0,0,0,0,0,0,0,0,0,0,0,0,0,0,0,0,0,0,0,0,0,0,0,0,0,0,0,0,0,0,0,0,0,0,0,0,0,0,0,0,0,0,0,0,0,0,0,0,0,0,0,0,0,0,0,0,0,0,0,0,0,0,0,0,0,0,0,0,0,0,0,0,0,0,0,0,0,0,0,0,0,0,0,0,0,0,0,0,0,0,0,0,0,0,0,0,0,null,null,null,0]
[null,null,null,null,null,null,null,null,null,null,null,null,null,null,"",null,"",null,null,null,null,0,0,null,0,0,0,0,null,null,null,null,"F",null,null,0,0,0,0,0,0,0,0,0,0,0,0,0,0,0,0,0,0,0,0,0,0,0,0,0,0,0,0,0,0,0,0,0,0,0,0,0,0,0,0,0,0,0,0,0,0,0,0,0,0,0,0,0,0,0,0,0,0,0,0,0,0,0,0,0,0,0,0,0,0,0,0,0,0,0,0,0,0,0,0,0,0,0,0,0,0,0,0,0,0,0,0,0,0,0,0,0,0,0,0,0,0,0,0,0,0,0,0,0,0,0,0,0,0,0,0,0,0,0,0,0,0,0,0,0,0,0,0,0,0,0,0,0,0,0,0,0,0,0,0,0,0,0,0,0,0,0,0,0,0,0,null,null,null,0]
[null,null,null,null,null,null,null,null,null,null,null,null,null,null,"",null,"",null,null,null,null,0,0,null,0,0,0,0,null,null,null,null,"G",null,null,0,0,0,0,0,0,0,0,0,0,0,0,0,0,0,0,0,0,0,0,0,0,0,0,0,0,0,0,0,0,0,0,0,0,0,0,0,0,0,0,0,0,0,0,0,0,0,0,0,0,0,0,0,0,0,0,0,0,0,0,0,0,0,0,0,0,0,0,0,0,0,0,0,0,0,0,0,0,0,0,0,0,0,0,0,0,0,0,0,0,0,0,0,0,0,0,0,0,0,0,0,0,0,0,0,0,0,0,0,0,0,0,0,0,0,0,0,0,0,0,0,0,0,0,0,0,0,0,0,0,0,0,0,0,0,0,0,0,0,0,0,0,0,0,0,0,0,0,0,0,0,null,null,null,0]
[null,null,null,null,null,null,null,null,null,null,null,null,null,null,"",null,"",null,null,null,null,0,0,null,0,0,0,0,null,null,null,null,"H",null,null,0,0,0,0,0,0,0,0,0,0,0,0,0,0,0,0,0,0,0,0,0,0,0,0,0,0,0,0,0,0,0,0,0,0,0,0,0,0,0,0,0,0,0,0,0,0,0,0,0,0,0,0,0,0,0,0,0,0,0,0,0,0,0,0,0,0,0,0,0,0,0,0,0,0,0,0,0,0,0,0,0,0,0,0,0,0,0,0,0,0,0,0,0,0,0,0,0,0,0,0,0,0,0,0,0,0,0,0,0,0,0,0,0,0,0,0,0,0,0,0,0,0,0,0,0,0,0,0,0,0,0,0,0,0,0,0,0,0,0,0,0,0,0,0,0,0,0,0,0,0,0,null,null,null,0]
[null,null,null,null,null,null,null,null,null,null,null,null,null,null,"",null,"",null,null,null,null,0,0,null,0,0,0,0,null,null,null,null,"I",null,null,0,0,0,0,0,0,0,0,0,0,0,0,0,0,0,0,0,0,0,0,0,0,0,0,0,0,0,0,0,0,0,0,0,0,0,0,0,0,0,0,0,0,0,0,0,0,0,0,0,0,0,0,0,0,0,0,0,0,0,0,0,0,0,0,0,0,0,0,0,0,0,0,0,0,0,0,0,0,0,0,0,0,0,0,0,0,0,0,0,0,0,0,0,0,0,0,0,0,0,0,0,0,0,0,0,0,0,0,0,0,0,0,0,0,0,0,0,0,0,0,0,0,0,0,0,0,0,0,0,0,0,0,0,0,0,0,0,0,0,0,0,0,0,0,0,0,0,0,0,0,0,null,null,null,0]
[null,null,null,null,null,null,null,null,null,null,null,null,null,null,"",null,"",null,null,null,null,0,0,null,0,0,0,0]
[null,null,null,null,null,null,null,null,null,null,null,null,null,null,"",null,"",null,null,null,null,0,0,null,0,0,0,0,null,null,null,null,"Yes"]
[null,null,null,null,null,null,null,null,null,null,null,null,null,null,"",null,"",null,null,null,null,0,0,null,0,0,0,0,null,null,null,null,"No",null,null,null,null,null,null,null,null,null,null,null,null,null,null,null,null,null,null,null,null,null,null,null,null,null,null,null,null,null,null,null,null,null,null,null,null,null,null,null,null,null,null,null,null,null,null,null,null,null,null,null,null,null,null,null,null,null,null,null,null,null,null,null,null,null,null,null,null,null,null,null,null,null,null,null,null,null,null,null,null,null,null,null,null,null,null,null,null,null,null,null,null,null,null,null,null,null,null,null,null,null,null,null,null,null,null,null,null,null,null,null,null,null,null,null,null,null,null,null,null,null,null,null,null,null,null,null,null,null,null,null,null,null,null,null,null,null,null,null,null,null,null,null,null,null,null,null,null,null,null,null,null,null,null,null,"Total Regions",{"$f":"SUM(GH79:GH89)","v":0}]
[null,null,null,null,null,null,null,null,null,null,null,null,null,null,"",null,"",null,null,null,null,0,0,null,0,0,0,0]
[null,null,null,null,null,null,null,null,null,null,null,null,null,null,"",null,"",null,null,null,null,0,0,null,0,0,0,0]
[null,null,null,null,null,null,null,null,null,null,null,null,null,null,"",null,"",null,null,null,null,0,0,null,0,0,0,0]
[null,null,null,null,null,null,null,null,null,null,null,null,null,null,"",null,"",null,null,null,null,0,0,null,0,0,0,0]
[null,null,null,null,null,null,null,null,null,null,null,null,null,null,"",null,"",null,null,null,null,0,0,null,0,0,0,0]
[null,null,null,null,null,null,null,null,null,null,null,null,null,null,"",null,"",null,null,null,null,0,0,null,0,0,0,0]
[null,null,null,null,null,null,null,null,null,null,null,null,null,null,"",null,"",null,null,null,null,0,0,null,0,0,0,0]
[null,null,null,null,null,null,null,null,null,null,null,null,null,null,"",null,"",null,null,null,null,0,0,null,0,0,0,0]
[null,null,null,null,null,null,null,null,null,null,null,null,null,null,"",null,"",null,null,null,null,0,0,null,0,0,0,0]
[null,null,null,null,null,null,null,null,null,null,null,null,null,null,"",null,"",null,null,null,null,0,0,null,0,0,0,0]
[null,null,null,null,null,null,null,null,null,null,null,null,null,null,"",null,"",null,null,null,null,0,0,null,0,0,0,0]
[null,null,null,null,null,null,null,null,null,null,null,null,null,null,"",null,"",null,null,null,null,0,0,null,0,0,0,0]
[null,null,null,null,null,null,null,null,null,null,null,null,null,null,"",null,"",null,null,null,null,0,0,null,0,0,0,0]
[null,null,null,null,null,null,null,null,null,null,null,null,null,null,"",null,"",null,null,null,null,0,0,null,0,0,0,0]
[null,null,null,null,null,null,null,null,null,null,null,null,null,null,"",null,"",null,null,null,null,{"$f":"IF(A105<>\"\",1,0)","v":0},0,null,{"$f":"IF(S105=\"Yes\", 1, 0)","v":0},{"$f":"IF(T105=\"Yes\", 1, 0)","v":0},{"$f":"IF(U105=\"Yes\", 1, 0)","v":0},{"$f":"IF(R105=\"Yes\", 1,0)","v":0}]
[null,null,null,null,null,null,null,null,null,null,null,null,null,null,"",null,"",null,null,null,null,0,0,null,0,0,0,0]
[null,null,null,null,null,null,null,null,null,null,null,null,null,null,"",null,"",null,null,null,null,0,0,null,0,0,0,0]
[null,null,null,null,null,null,null,null,null,null,null,null,null,null,"",null,"",null,null,null,null,0,0,null,0,0,0,0]
[null,null,null,null,null,null,null,null,null,null,null,null,null,null,"",null,"",null,null,null,null,0,0,null,0,0,0,0]
[null,null,null,null,null,null,null,null,null,null,null,null,null,null,"",null,"",null,null,null,null,0,0,null,0,0,0,0]
[null,null,null,null,null,null,null,null,null,null,null,null,null,null,"",null,"",null,null,null,null,0,0,null,0,0,0,0]
[null,null,null,null,null,null,null,null,null,null,null,null,null,null,"",null,"",null,null,null,null,0,0,null,0,0,0,0]
[null,null,null,null,null,null,null,null,null,null,null,null,null,null,"",null,"",null,null,null,null,0,0,null,0,0,0,0]
[null,null,null,null,null,null,null,null,null,null,null,null,null,null,"",null,"",null,null,null,null,0,0,null,0,0,0,0]
[null,null,null,null,null,null,null,null,null,null,null,null,null,null,"",null,"",null,null,null,null,0,0,null,0,0,0,0]
[null,null,null,null,null,null,null,null,null,null,null,null,null,null,"",null,"",null,null,null,null,0,0,null,0,0,0,0]
[null,null,null,null,null,null,null,null,null,null,null,null,null,null,"",null,"",null,null,null,null,0,0,null,0,0,0,0]
[null,null,null,null,null,null,null,null,null,null,null,null,null,null,"",null,"",null,null,null,null,0,0,null,0,0,0,0]
[null,null,null,null,null,null,null,null,null,null,null,null,null,null,"",null,"",null,null,null,null,0,0,null,0,0,0,0]
[null,null,null,null,null,null,null,null,null,null,null,null,null,null,"",null,"",null,null,null,null,0,0,null,0,0,0,0]
[null,null,null,null,null,null,null,null,null,null,null,null,null,null,"",null,"",null,null,null,null,0,0,null,0,0,0,0]
[null,null,null,null,null,null,null,null,null,null,null,null,null,null,"",null,"",null,null,null,null,0,0,null,0,0,0,0]
[null,null,null,null,null,null,null,null,null,null,null,null,null,null,"",null,"",null,null,null,null,0,0,null,0,0,0,0]
[null,null,null,null,null,null,null,null,null,null,null,null,null,null,"",null,"",null,null,null,null,0,0,null,0,0,0,0]
[null,null,null,null,null,null,null,null,null,null,null,null,null,null,"",null,"",null,null,null,null,0,0,null,0,0,0,0]
[null,null,null,null,null,null,null,null,null,null,null,null,null,null,"",null,"",null,null,null,null,0,0,null,0,0,0,0]
[null,null,null,null,null,null,null,null,null,null,null,null,null,null,"",null,"",null,null,null,null,0,0,null,0,0,0,0]
[null,null,null,null,null,null,null,null,null,null,null,null,null,null,"",null,"",null,null,null,null,0,0,null,0,0,0,0]
[null,null,null,null,null,null,null,null,null,null,null,null,null,null,"",null,"",null,null,null,null,0,0,null,0,0,0,0]
[null,null,null,null,null,null,null,null,null,null,null,null,null,null,"",null,"",null,null,null,null,0,0,null,0,0,0,0]
[null,null,null,null,null,null,null,null,null,null,null,null,null,null,"",null,"",null,null,null,null,0,0,null,0,0,0,0]
[null,null,null,null,null,null,null,null,null,null,null,null,null,null,"",null,"",null,null,null,null,0,0,null,0,0,0,0]
[null,null,null,null,null,null,null,null,null,null,null,null,null,null,"",null,"",null,null,null,null,0,0,"Yes",0,0,0,0]
[null,null,null,null,null,null,null,null,null,null,null,null,null,null,"",null,"",null,null,null,null,0,0,"No",0,0,0,0]
[null,null,null,null,null,null,null,null,null,null,null,null,null,null,"",null,"",null,null,null,null,0,0,null,0,0,0,0]
[null,null,null,null,null,null,null,null,null,null,null,null,null,null,"",null,"",null,null,null,null,0,0,null,0,0,0,0]
[null,null,null,null,null,null,null,null,null,null,null,null,null,null,"",null,{"$f":"IF(ISBLANK(P137),\"\",LEN(TRIM(P137))-LEN(SUBSTITUTE(TRIM(P137),\",\",\"\"))+1)","v":""},null,null,null,null,{"$f":"IF(A137<>\"\",1,0)","v":0},0,null,{"$f":"IF(S137=\"Yes\", 1, 0)","v":0},{"$f":"IF(T137=\"Yes\", 1, 0)","v":0},{"$f":"IF(U137=\"Yes\", 1, 0)","v":0},{"$f":"IF(R137=\"Yes\", 1,0)","v":0}]
[null,null,null,null,null,null,null,null,null,null,null,null,null,null,{"$f":"IF(ISBLANK(N138),\"\",LEN(TRIM(N138))-LEN(SUBSTITUTE(TRIM(N138),\",\",\"\"))+1)","v":""},null,"",null,null,null,null,0,{"$f":"IF(OR(J138=\"Yes\",K138=\"Yes\",L138=\"Yes\",M138=\"Yes\"), 1, 0)","v":0},null,0,0,0,0]
[null,null,null,null,null,null,null,null,null,null,null,null,null,null,"",null,"",null,null,null,null,0,0,null,0,0,0,0]
[null,null,null,null,null,null,null,null,null,null,null,null,null,null,"",null,"",null,null,null,null,0,0,null,0,0,0,0]
[null,null,null,null,null,null,null,null,null,null,null,null,null,null,"",null,"",null,null,null,null,0,0,null,0,0,0,0]
[null,null,null,null,null,null,null,null,null,null,null,null,null,null,"",null,"",null,null,null,null,0,0,null,0,0,0,0]
[null,null,null,null,null,null,null,null,null,null,null,null,null,null,"",null,"",null,null,null,null,0,0,null,0,0,0,0]
[null,null,null,null,null,null,null,null,null,null,null,null,null,null,"",null,"",null,null,null,null,0,0,null,0,0,0,0]
[null,null,null,null,null,null,null,null,null,null,null,null,null,null,"",null,"",null,null,null,null,0,0,null,0,0,0,0]
[null,null,null,null,null,null,null,null,null,null,null,null,null,null,"",null,"",null,null,null,null,0,0,null,0,0,0,0]
[null,null,null,null,null,null,null,null,null,null,null,null,null,null,"",null,"",null,null,null,null,0,0,null,0,0,0,0]
[null,null,null,null,null,null,null,null,null,null,null,null,null,null,"",null,"",null,null,null,null,0,0,null,0,0,0,0]
[null,null,null,null,null,null,null,null,null,null,null,null,null,null,"",null,"",null,null,null,null,0,0,null,0,0,0,0]
[null,null,null,null,null,null,null,null,null,null,null,null,null,null,"",null,"",null,null,null,null,0,0,null,0,0,0,0]
[null,null,null,null,null,null,null,null,null,null,null,null,null,null,"",null,"",null,null,null,null,0,0,null,0,0,0,0]
[null,null,null,null,null,null,null,null,null,null,null,null,null,null,"",null,"",null,null,null,null,0,0,null,0,0,0,0]
[null,null,null,null,null,null,null,null,null,null,null,null,null,null,"",null,"",null,null,null,null,0,0,null,0,0,0,0]
[null,null,null,null,null,null,null,null,null,null,null,null,null,null,"",null,"",null,null,null,null,0,0,null,0,0,0,0]
[null,null,null,null,null,null,null,null,null,null,null,null,null,null,"",null,"",null,null,null,null,0,0,null,0,0,0,0]
[null,null,null,null,null,null,null,null,null,null,null,null,null,null,"",null,"",null,null,null,null,0,0,null,0,0,0,0]
[null,null,null,null,null,null,null,null,null,null,null,null,null,null,"",null,"",null,null,null,null,0,0,null,0,0,0,0]
[null,null,null,null,null,null,null,null,null,null,null,null,null,null,"",null,"",null,null,null,null,0,0,null,0,0,0,0]
[null,null,null,null,null,null,null,null,null,null,null,null,null,null,"",null,{"$f":"IF(ISBLANK(P159),\"\",LEN(TRIM(P159))-LEN(SUBSTITUTE(TRIM(P159),\",\",\"\"))+1)","v":""},null,null,null,null,0,0,null,0,0,0,0]
[null,null,null,null,null,null,null,null,null,null,null,null,null,null,null,null,null,null,null,null,null,{"$f":"SUM(V9:V159)","v":0},{"$f":"SUM(W9:W159)","v":0},null,{"$f":"SUM(Y9:Y159)","v":0},{"$f":"SUM(Z9:Z159)","v":0},{"$f":"SUM(AA9:AA159)","v":0},{"$f":"SUM(AB9:AB159)","v":0}]
["Scores: ",null,"Back to Top"]
[]
["Evaluation Criteria","Points Available","Points Earned"]
["Number of unique, contracted CBOs with principal address in Florida for the upcoming contract period. A CBO with more than one contract with the Respondent for community-based services and supports shall be considered one CBO.","13 points for 20 or more CBOs",{"$f":"IF(V160>=20, 13, IF(V160>=10, 10, IF(V160>=5, 5, IF(V160>=1, 1, 0))))","v":0}]
[null,"10 points for 10-19 CBOs"]
[null,"5 points for 5-9 CBOs"]
[null,"1 point for 1-4 CBOs"]
[null,"0 points for 0 CBOs"]
["For up to 20 unique, contracted CBOs identified by the Respondent in Columns J-M, the following scoring will be used:","1 point for each CBO that provides services or supports in at least one of the following areas: supporting living in the least restrictive setting and improving community integration, including supporting educational advancement, improving mental health of children or adolescents, or improving access to health-related social needs (e.g., childcare, transportation, nutrition, housing and home modifications). Maximum of 13 points.",{"$f":"IF(W160>=13, 13, W160)","v":0}]
[null,"1 point for each AHCA region where at least one CBO provides services or supports. Maximum of 9 points.",{"$f":"IF(GH90>=8, 9, GH90)","v":0}]
["Percentage of Florida counties with at least one CBO providing services and supports to enrollees.","13 points for 100% of Florida counties",{"$f":"IF(GH76>=1, 13, IF(GH76>=0.5, 10, IF(GH76>=0.25, 5, IF(GH76>=0.01, 1, 0))))","v":0}]
[null,"10 points for 50-99.99% of Florida counties"]
[null,"5 points for 25-49.99% of Florida counties"]
[null,"1 point for 1-24.99% of Florida counties"]
[null,"0 points for less than 1% of Florida counties"]
["Number of CBOs that uses a closed-loop software system to receive enrollee referrals from health care providers and verify with the Respondent that services or supports were provided to enrollees.","13 points maximum.",{"$f":"IF(AB160>=13,13, AB160)","v":0}]
["Number of CBOs that receives a financial investment from the Respondent.","13 points maximum.",{"$f":"IF(Y160>=13, 13, Y160)","v":0}]
["Number of CBOs that receives in-kind support from the Respondent.","13 points maximum.",{"$f":"IF(Z160>=13, 13, Z160)","v":0}]
["Number of CBOs that has a representative who serves on a Respondent committee or advisory board.","13 points maximum.",{"$f":"IF(AA160>=13,13, AA160)","v":0}]
["Total Points Earned",null,{"$f":"SUM(C164:C179)","v":0}]
[]
[]
[]
[]
[]
[null,null,null,null,{"$f":"SUM(O9:O159)","v":0},null,null,null,null,null,null,null,null,null,null,null,{"$f":"SUM(Q9:Q159)","v":0},{"$f":"Q186/67","v":0}]
[]
[]
[]
[]
[]
[]
[]
[]
[]
[]
[]
[]
[]
[]
[]
[]
[]
[]
[]
[]
[]
[]
[]
[]
[]
[]
[]
[]
[]
[]
[]
[]
[]
[]
[]
[]
[]
[]
[]
[]
[]
[]
[]
[]
[null,null,null,null,null,null,null,null,null,null,null,null,null,null,{"$f":"SUM(O133:O227)","v":0},null,{"$f":"SUM(Q133:Q227)/67","v":0}]
[null,null,null,null,null,null,null,null,null,null,null,null,null,null,null,null,null,{"$f":"SUM(R133:R230)","v":0}]

{"sheet":"Exp. Benefits-Pathways","index":16,"n_rows":80,"n_cols":23,"rows_kept":80,"cut":false,"hidden":false,"merged":[[56,7,60,7],[61,7,65,7],[66,7,70,7],[9,0,9,7],[79,0,79,1],[56,5,60,5],[61,5,65,5],[66,5,70,5],[41,6,45,6],[46,6,50,6],[51,6,55,6],[56,6,60,6],[61,6,65,6],[66,6,70,6],[56,2,60,2],[61,2,65,2],[66,2,70,2],[41,4,45,4],[46,4,50,4],[51,4,55,4],[56,4,60,4],[61,4,65,4],[66,4,70,4],[41,2,45,2],[46,2,50,2],[51,2,55,2],[41,3,45,3],[46,3,50,3],[51,3,55,3],[56,3,60,3],[61,3,65,3],[66,3,70,3],[56,0,60,0],[61,0,65,0],[66,0,70,0],[41,1,45,1],[46,1,50,1],[51,1,55,1],[56,1,60,1],[61,1,65,1],[66,1,70,1],[41,0,45,0],[46,0,50,0],[51,0,55,0],[31,6,35,6],[31,7,35,7],[36,6,40,6],[36,7,40,7],[36,3,40,3],[41,5,45,5],[46,5,50,5],[51,5,55,5],[41,7,45,7],[46,7,50,7],[51,7,55,7],[31,0,35,0],[31,1,35,1],[31,2,35,2],[31,4,35,4],[31,5,35,5],[31,3,35,3],[36,2,40,2],[36,4,40,4],[36,5,40,5],[36,0,40,0],[36,1,40,1],[16,5,20,5],[16,6,20,6],[16,7,20,7],[21,5,25,5],[21,6,25,6],[21,7,25,7],[26,0,30,0],[26,1,30,1],[26,2,30,2],[26,4,30,4],[26,5,30,5],[26,3,30,3],[26,6,30,6],[26,7,30,7],[16,0,20,0],[16,1,20,1],[16,2,20,2],[21,0,25,0],[21,1,25,1],[21,2,25,2],[21,4,25,4],[16,3,20,3],[21,3,25,3],[16,4,20,4],[7,1,7,2],[8,1,8,2],[0,6,0,8],[11,0,15,0],[11,1,15,1],[11,2,15,2],[11,5,15,5],[11,6,15,6],[11,7,15,7],[11,4,15,4],[11,3,15,3]]}
["SRC #32: Expanded Benefits - Pathways to Prosperity",null,null,null,null,null,"Back to Respondent Information"]
[]
["Item","Score"]
["Total Points Possible:",100]
["Points Earned:",{"$f":"C80","v":0}]
["Percent:",{"$f":"B5/B4","v":0}]
[]
[null,"Florida"]
["Line of Business:","Medicaid"]
["Complete information for each Pathways to Prosperity Expanded Benefits the Respondent proposes to offer to Enrollees. All columns in the row must be complete to earn the points available. ",null,null,null,null,null,null,null,null,null,null,null,null,null,null,null,null,null,null,null,null,null,"Yes"]
["Pathway to Prosperity Category","Proposed Procedure Code Description","Proposed Procedure Code\n(CPT or HCPCS)","Current Medicaid Coverage ","Proposed Minimum Age","Proposed Maximum Age","Proposed Expanded Benefit Coverage (Units, amount, and frequency)","Proposed PMPM",null,null,null,null,null,null,null,null,null,null,null,null,null,null,"No"]
["Housing Assistance",null,null,null,null,null,null,null,null,"Yes"]
[null,null,null,null,null,null,null,null,null,"No",{"$f":"IF(OR(D12=\"Yes\", D17=\"Yes\", D22=\"Yes\"), 5, 0)","v":0}]
[]
[]
[]
["Housing Assistance"]
[]
[]
[]
[]
["Housing Assistance"]
[]
[]
[]
[]
["Food Assistance"]
[null,null,null,null,null,null,null,null,null,null,{"$f":"IF(OR(D27=\"Yes\", D32=\"Yes\", D37=\"Yes\"), 5, 0)","v":0}]
[]
[]
[]
["Food Assistance"]
[]
[]
[]
[]
["Food Assistance"]
[]
[]
[]
[]
["Non-Medical Transportation"]
[null,null,null,null,null,null,null,null,null,null,{"$f":"IF(OR(D42=\"Yes\", D47=\"Yes\", D52=\"Yes\"), 5, 0)","v":0}]
[]
[]
[]
["Non-Medical Transportation"]
[]
[]
[]
[]
["Non-Medical Transportation"]
[]
[]
[]
[]
["Tutoring, Educational Supports, Vocational Training, and/or Job Readiness"]
[null,null,null,null,null,null,null,null,null,null,{"$f":"IF(OR(D57=\"Yes\", D62=\"Yes\", D67=\"Yes\"), 5, 0)","v":0}]
[]
[]
[]
["Tutoring, Educational Supports, Vocational Training, and/or Job Readiness"]
[]
[]
[]
[]
["Tutoring, Educational Supports, Vocational Training, and/or Job Readiness"]
[]
[]
[]
[]
[]
["Scores: "]
[]
["Criteria","Points Available","Points Earned"]
["Housing Assistance",25,{"$f":"IF(AND(NOT(ISBLANK(B12)), NOT(ISBLANK(C12)), K13>0, NOT(ISBLANK(E12)), NOT(ISBLANK(F12)), NOT(ISBLANK(G12)), NOT(ISBLANK(H12))),25, 0)","v":0}]
["Food Assistance",25,{"$f":"IF(AND(NOT(ISBLANK(B27)), NOT(ISBLANK(C27)), K28>0, NOT(ISBLANK(E27)), NOT(ISBLANK(F27)), NOT(ISBLANK(G27)), NOT(ISBLANK(H27)), NOT(ISBLANK(D27))), 25, 0)","v":0}]
["Non-Medical Transportation",25,{"$f":"IF(AND(NOT(ISBLANK(B42)), NOT(ISBLANK(C42)), K43>0, NOT(ISBLANK(E42)), NOT(ISBLANK(F42)), NOT(ISBLANK(G42)), NOT(ISBLANK(H42)), NOT(ISBLANK(D42))), 25, 0)","v":0}]
["Tutoring, Vocational Training, and/or Job Readiness",25,{"$f":"IF(AND(NOT(ISBLANK(B57)), NOT(ISBLANK(C57)), K58>0, NOT(ISBLANK(E57)), NOT(ISBLANK(F57)), NOT(ISBLANK(G57)), NOT(ISBLANK(H57)), NOT(ISBLANK(D57))), 25, 0)","v":0}]
["Points Earned:",null,{"$f":"SUM(C76:C79)","v":0}]

{"sheet":"Managed Care Experience","index":17,"n_rows":36,"n_cols":16,"rows_kept":36,"cut":false,"hidden":false,"merged":[[29,0,29,1],[35,0,35,1],[0,3,0,4]]}
["SRC #35: Managed Care Experience",null,null,"Back to Respondent Information"]
[]
["Item","Score"]
["Total Points Possible:",100]
["Points Earned:",{"$f":"C36","v":0}]
["Percent:",{"$f":"B5/B4","v":0}]
[]
["Contract Number","Line of Business","State","Contract Implementation Date","Contract End Date","Actual Length of Contract In Years","Statewide or Not Statewide","Total Unduplicated Population Under Contract","Premium Revenue - Latest Contract Year",null,"cutoff date","2024-11-01",null,"Length of Contract","Statewide","Total Population"]
[null,null,null,null,null,{"$f":"IF(ISBLANK(E9),0,IF(E9>$L$8, DATEDIF(D9, $L$8, \"y\"), DATEDIF(D9,E9,\"y\")))","v":0},null,null,null,null,null,null,null,{"$f":"IF(F9>5, $L$14, IF(F9>2, $L$13, IF(F9>0, $L$12, $L$11)))","v":0},{"$f":"IF(ISBLANK(G9), 0, IF(G9=\"Statewide\", 1.5, 1))","v":0},{"$f":"IF(H9>=500000, 1.75, IF(H9>=250000, 0.75, 0))","v":0}]
[null,null,null,null,null,{"$f":"IF(ISBLANK(E10),0,IF(E10>$L$8, DATEDIF(D10, $L$8, \"y\"), DATEDIF(D10,E10,\"y\")))","v":0},null,null,null,null,null,null,"Statewide",{"$f":"IF(F10>5, $L$14, IF(F10>2, $L$13, IF(F10>0, $L$12, $L$11)))","v":0},{"$f":"IF(ISBLANK(G10), 0, IF(G10=\"Statewide\", 1.5, 1))","v":0},{"$f":"IF(H10>=500000, 1.75, IF(H10>=250000, 0.75, 0))","v":0}]
[null,null,null,null,null,{"$f":"IF(ISBLANK(E11),0,IF(E11>$L$8, DATEDIF(D11, $L$8, \"y\"), DATEDIF(D11,E11,\"y\")))","v":0},null,null,null,null,"< 1 Year ",0,"Not Statewide",0,0,0]
[null,null,null,null,null,0,null,null,null,null,"1-2 Years",0.5,null,0,0,0]
[null,null,null,null,null,0,null,null,null,null,"3-5 Years",1,null,0,0,0]
[null,null,null,null,null,0,null,null,null,null,"6+ Years",1.75,null,0,0,0]
[null,null,null,null,null,0,null,null,null,null,null,null,"Yes",0,0,0]
[null,null,null,null,null,0,null,null,null,null,null,null,"No",0,0,0]
[null,null,null,null,null,0,null,null,null,null,null,null,null,0,0,0]
[null,null,null,null,null,0,null,null,null,null,"Statewide","(hardcoded)","Medicaid",0,0,0]
[null,null,null,null,null,0,null,null,null,null,"Not Statewide","(hardcoded)","CHIP",0,0,0]
[null,null,null,null,null,0,null,null,null,null,null,null,null,0,0,0]
[null,null,null,null,null,0,null,null,null,null,"HCBS Included",1,null,0,0,0]
[null,null,null,null,null,0,null,null,null,null,null,null,null,0,0,0]
[null,null,null,null,null,0,null,null,null,null,null,null,null,0,0,0]
[null,null,null,null,null,0,null,null,null,null,null,null,null,0,0,0]
[null,null,null,null,null,0,null,null,null,null,null,null,null,0,0,0]
[null,null,null,null,null,0,null,null,null,null,null,null,null,0,0,0]
[null,null,null,null,null,0,null,null,null,null,null,null,null,0,0,0]
[null,null,null,null,null,0,null,null,null,null,null,null,null,0,0,0]
[null,null,null,null,null,null,null,null,null,null,null,null,null,{"$f":"SUM(N9:N28)","v":0},{"$f":"SUM(O9:O28)","v":0},{"$f":"SUM(P9:P28)","v":0}]
["Scores:"]
[]
["Evaluation Criteria","Points Possible","Points Earned"]
["Length of Contract",35,{"$f":"N29","v":0}]
["State Coverage",30,{"$f":"O29","v":0}]
["Population",35,{"$f":"P29","v":0}]
["Points Earned:",null,{"$f":"SUM(C33:C35)","v":0}]

{"sheet":"Compliance","index":18,"n_rows":136,"n_cols":59,"rows_kept":136,"cut":false,"hidden":false,"merged":[[2,4,2,5],[0,4,0,5],[46,50,46,51],[47,50,47,51],[48,50,48,51],[49,50,49,51],[50,50,50,51],[51,50,51,51],[52,50,52,51],[29,44,29,45],[30,44,30,45],[31,44,31,45],[32,44,32,45],[33,44,33,45],[50,38,50,39],[51,38,51,39],[52,38,52,39],[44,38,44,39],[45,38,45,39],[46,38,46,39],[47,38,47,39],[48,38,48,39],[49,38,49,39],[32,38,32,39],[53,50,53,51],[34,50,34,51],[35,50,35,51],[36,50,36,51],[37,50,37,51],[38,50,38,51],[39,50,39,51],[47,44,47,45],[48,44,48,45],[49,44,49,45],[50,44,50,45],[51,44,51,45],[52,44,52,45],[53,44,53,45],[45,44,45,45],[46,44,46,45],[34,44,34,45],[35,44,35,45],[36,44,36,45],[37,44,37,45],[54,50,54,51],[9,30,9,35],[9,36,9,41],[9,42,9,47],[9,48,9,53],[9,0,9,5],[9,6,9,11],[9,12,9,17],[9,18,9,23],[9,24,9,29],[26,50,26,51],[27,50,27,51],[40,50,40,51],[41,50,41,51],[42,50,42,51],[43,50,43,51],[44,50,44,51],[45,50,45,51],[28,50,28,51],[29,50,29,51],[30,50,30,51],[31,50,31,51],[32,50,32,51],[33,50,33,51],[54,44,54,45],[10,50,10,51],[11,50,11,51],[12,50,12,51],[13,50,13,51],[14,50,14,51],[15,50,15,51],[16,50,16,51],[17,50,17,51],[18,50,18,51],[19,50,19,51],[20,50,20,51],[21,50,21,51],[22,50,22,51],[23,50,23,51],[24,50,24,51],[25,50,25,51],[38,44,38,45],[39,44,39,45],[40,44,40,45],[41,44,41,45],[42,44,42,45],[43,44,43,45],[44,44,44,45],[53,38,53,39],[54,38,54,39],[10,44,10,45],[11,44,11,45],[12,44,12,45],[13,44,13,45],[14,44,14,45],[15,44,15,45],[16,44,16,45],[17,44,17,45],[18,44,18,45],[19,44,19,45],[20,44,20,45],[21,44,21,45],[22,44,22,45],[23,44,23,45],[24,44,24,45],[25,44,25,45],[26,44,26,45],[27,44,27,45],[28,44,28,45],[41,38,41,39],[42,38,42,39],[43,38,43,39],[52,32,52,33],[53,32,53,33],[54,32,54,33],[55,32,55,33],[38,32,38,33],[39,32,39,33],[40,32,40,33],[41,32,41,33],[42,32,42,33],[43,32,43,33],[44,32,44,33],[48,32,48,33],[49,32,49,33],[50,32,50,33],[51,32,51,33],[28,38,28,39],[29,38,29,39],[30,38,30,39],[31,38,31,39],[47,32,47,33],[33,38,33,39],[34,38,34,39],[35,38,35,39],[36,38,36,39],[37,38,37,39],[38,38,38,39],[39,38,39,39],[40,38,40,39],[28,32,28,33],[29,32,29,33],[45,32,45,33],[46,32,46,33],[19,38,19,39],[20,38,20,39],[21,38,21,39],[22,38,22,39],[23,38,23,39],[24,38,24,39],[25,38,25,39],[26,38,26,39],[27,38,27,39],[10,38,10,39],[11,38,11,39],[12,38,12,39],[13,38,13,39],[14,38,14,39],[15,38,15,39],[16,38,16,39],[17,38,17,39],[18,38,18,39],[61,26,61,27],[62,26,62,27],[63,26,63,27],[64,26,64,27],[10,32,10,33],[11,32,11,33],[12,32,12,33],[13,32,13,33],[14,32,14,33],[15,32,15,33],[16,32,16,33],[17,32,17,33],[18,32,18,33],[19,32,19,33],[20,32,20,33],[21,32,21,33],[22,32,22,33],[23,32,23,33],[24,32,24,33],[25,32,25,33],[26,32,26,33],[27,32,27,33],[57,32,57,33],[56,32,56,33],[33,26,33,27],[34,26,34,27],[35,26,35,27],[36,26,36,27],[37,26,37,27],[38,26,38,27],[39,26,39,27],[40,26,40,27],[41,26,41,27],[59,26,59,27],[60,26,60,27],[42,26,42,27],[43,26,43,27],[44,26,44,27],[45,26,45,27],[46,26,46,27],[47,26,47,27],[48,26,48,27],[49,26,49,27],[50,26,50,27],[51,26,51,27],[52,26,52,27],[53,26,53,27],[54,26,54,27],[55,26,55,27],[57,26,57,27],[58,26,58,27],[54,20,54,21],[62,20,62,21],[63,20,63,21],[64,20,64,21],[10,26,10,27],[11,26,11,27],[12,26,12,27],[13,26,13,27],[14,26,14,27],[15,26,15,27],[16,26,16,27],[17,26,17,27],[18,26,18,27],[19,26,19,27],[20,26,20,27],[21,26,21,27],[22,26,22,27],[23,26,23,27],[24,26,24,27],[25,26,25,27],[29,26,29,27],[30,26,30,27],[31,26,31,27],[32,26,32,27],[45,20,45,21],[46,20,46,21],[47,20,47,21],[48,20,48,21],[49,20,49,21],[50,20,50,21],[51,20,51,21],[52,20,52,21],[53,20,53,21],[36,20,36,21],[37,20,37,21],[38,20,38,21],[39,20,39,21],[40,20,40,21],[41,20,41,21],[42,20,42,21],[43,20,43,21],[44,20,44,21],[27,20,27,21],[28,20,28,21],[29,20,29,21],[30,20,30,21],[31,20,31,21],[32,20,32,21],[33,20,33,21],[34,20,34,21],[35,20,35,21],[45,14,45,15],[46,14,46,15],[47,14,47,15],[48,14,48,15],[49,14,49,15],[50,14,50,15],[51,14,51,15],[10,20,10,21],[11,20,11,21],[12,20,12,21],[13,20,13,21],[14,20,14,21],[15,20,15,21],[16,20,16,21],[17,20,17,21],[18,20,18,21],[19,20,19,21],[20,20,20,21],[21,20,21,21],[22,20,22,21],[23,20,23,21],[24,20,24,21],[25,20,25,21],[26,20,26,21],[36,14,36,15],[37,14,37,15],[38,14,38,15],[39,14,39,15],[40,14,40,15],[41,14,41,15],[42,14,42,15],[43,14,43,15],[44,14,44,15],[51,8,51,9],[52,8,52,9],[59,8,59,9],[60,8,60,9],[72,18,72,22],[71,24,71,28],[72,24,72,28],[71,30,71,34],[72,30,72,34],[52,14,52,15],[59,14,59,15],[60,14,60,15],[61,14,61,15],[62,14,62,15],[63,14,63,15],[64,14,64,15],[55,20,55,21],[56,20,56,21],[57,20,57,21],[58,20,58,21],[59,20,59,21],[60,20,60,21],[61,20,61,21],[56,26,56,27],[42,8,42,9],[43,8,43,9],[44,8,44,9],[45,8,45,9],[46,8,46,9],[47,8,47,9],[48,8,48,9],[49,8,49,9],[50,8,50,9],[33,8,33,9],[34,8,34,9],[35,8,35,9],[36,8,36,9],[37,8,37,9],[38,8,38,9],[39,8,39,9],[40,8,40,9],[41,8,41,9],[64,2,64,3],[10,8,10,9],[11,8,11,9],[12,8,12,9],[13,8,13,9],[14,8,14,9],[15,8,15,9],[16,8,16,9],[17,8,17,9],[18,8,18,9],[19,8,19,9],[20,8,20,9],[21,8,21,9],[22,8,22,9],[23,8,23,9],[24,8,24,9],[25,8,25,9],[26,8,26,9],[27,8,27,9],[28,8,28,9],[29,8,29,9],[30,8,30,9],[31,8,31,9],[32,8,32,9],[68,2,68,3],[30,2,30,3],[31,2,31,3],[32,2,32,3],[33,2,33,3],[34,2,34,3],[35,2,35,3],[36,2,36,3],[37,2,37,3],[38,2,38,3],[39,2,39,3],[40,2,40,3],[41,2,41,3],[42,2,42,3],[43,2,43,3],[44,2,44,3],[45,2,45,3],[46,2,46,3],[47,2,47,3],[48,2,48,3],[49,2,49,3],[50,2,50,3],[51,2,51,3],[52,2,52,3],[20,2,20,3],[21,2,21,3],[22,2,22,3],[23,2,23,3],[24,2,24,3],[25,2,25,3],[26,2,26,3],[27,2,27,3],[28,2,28,3],[67,50,67,51],[71,6,71,10],[72,6,72,10],[71,12,71,16],[72,12,72,16],[71,18,71,22],[69,20,69,21],[69,26,69,27],[70,8,70,9],[70,14,70,15],[70,20,70,21],[70,26,70,27],[71,36,71,40],[72,36,72,40],[71,42,71,46],[72,42,72,46],[67,32,67,33],[68,32,68,33],[67,38,67,39],[68,38,68,39],[67,44,67,45],[86,20,86,21],[81,20,81,21],[68,44,68,45],[69,32,69,33],[70,32,70,33],[69,38,69,39],[70,38,70,39],[69,44,69,45],[70,44,70,45],[85,20,85,21],[79,26,79,27],[79,20,79,21],[82,20,82,21],[83,20,83,21],[84,20,84,21],[80,18,80,23],[86,26,86,27],[81,26,81,27],[82,26,82,27],[83,26,83,27],[84,26,84,27],[85,26,85,27],[80,24,80,29],[90,0,90,2],[82,2,82,3],[83,2,83,3],[84,2,84,3],[85,2,85,3],[86,2,86,3],[75,2,75,3],[76,2,76,3],[77,2,77,3],[78,2,78,3],[79,2,79,3],[80,0,80,5],[81,2,81,3],[0,0,0,2],[53,2,53,3],[54,2,54,3],[55,2,55,3],[73,0,73,5],[74,2,74,3],[54,8,54,9],[55,8,55,9],[54,14,54,15],[55,14,55,15],[29,2,29,3],[61,2,61,3],[62,2,62,3],[56,2,56,3],[57,2,57,3],[58,2,58,3],[59,2,59,3],[60,2,60,3],[63,2,63,3],[65,2,65,3],[67,2,67,3],[66,8,66,9],[66,14,66,15],[68,8,68,9],[6,0,6,17],[7,0,7,17],[8,0,8,5],[66,20,66,21],[68,14,68,15],[68,20,68,21],[70,2,70,3],[71,0,71,4],[72,0,72,4],[10,2,10,3],[11,2,11,3],[12,2,12,3],[13,2,13,3],[14,2,14,3],[15,2,15,3],[16,2,16,3],[17,2,17,3],[18,2,18,3],[53,8,53,9],[69,2,69,3],[65,20,65,21],[66,2,66,3],[67,20,67,21],[19,2,19,3],[56,8,56,9],[57,8,57,9],[58,8,58,9],[73,6,73,11],[56,14,56,15],[57,14,57,15],[58,14,58,15],[73,12,73,17],[76,20,76,21],[61,8,61,9],[62,8,62,9],[73,18,73,23],[74,20,74,21],[75,20,75,21],[63,8,63,9],[64,8,64,9],[74,8,74,9],[75,8,75,9],[76,8,76,9],[65,8,65,9],[67,8,67,9],[77,8,77,9],[78,8,78,9],[69,8,69,9],[81,14,81,15],[81,8,81,9],[83,8,83,9],[84,8,84,9],[85,8,85,9],[80,6,80,11],[86,8,86,9],[79,8,79,9],[82,14,82,15],[83,14,83,15],[84,14,84,15],[85,14,85,15],[80,12,80,17],[78,14,78,15],[79,14,79,15],[82,8,82,9],[8,18,8,23],[8,24,8,29],[73,24,73,29],[74,26,74,27],[75,26,75,27],[74,14,74,15],[75,14,75,15],[76,14,76,15],[77,14,77,15],[53,14,53,15],[77,20,77,21],[66,26,66,27],[68,26,68,27],[65,26,65,27],[67,26,67,27],[16,14,16,15],[17,14,17,15],[18,14,18,15],[19,14,19,15],[20,14,20,15],[21,14,21,15],[22,14,22,15],[23,14,23,15],[24,14,24,15],[10,14,10,15],[11,14,11,15],[12,14,12,15],[13,14,13,15],[14,14,14,15],[15,14,15,15],[76,26,76,27],[77,26,77,27],[78,26,78,27],[78,20,78,21],[25,14,25,15],[26,14,26,15],[27,14,27,15],[28,14,28,15],[29,14,29,15],[30,14,30,15],[31,14,31,15],[26,26,26,27],[27,26,27,27],[28,26,28,27],[32,14,32,15],[33,14,33,15],[34,14,34,15],[35,14,35,15],[8,36,8,41],[8,42,8,47],[83,38,83,39],[83,44,83,45],[58,32,58,33],[59,32,59,33],[60,32,60,33],[61,32,61,33],[62,32,62,33],[65,32,65,33],[66,32,66,33],[63,32,63,33],[64,32,64,33],[66,44,66,45],[60,38,60,39],[61,38,61,39],[30,32,30,33],[31,32,31,33],[32,32,32,33],[33,32,33,33],[34,32,34,33],[35,32,35,33],[36,32,36,33],[37,32,37,33],[8,48,8,53],[82,32,82,33],[83,32,83,33],[84,32,84,33],[76,38,76,39],[76,44,76,45],[77,38,77,39],[77,44,77,45],[71,48,71,52],[72,48,72,52],[55,38,55,39],[56,38,56,39],[57,38,57,39],[58,38,58,39],[59,38,59,39],[55,44,55,45],[56,44,56,45],[57,44,57,45],[58,44,58,45],[8,30,8,35],[73,30,73,35],[74,32,74,33],[84,38,84,39],[84,44,84,45],[84,50,84,51],[85,38,85,39],[85,44,85,45],[86,38,86,39],[86,44,86,45],[85,50,85,51],[86,50,86,51],[59,44,59,45],[56,50,56,51],[57,50,57,51],[58,50,58,51],[59,50,59,51],[80,36,80,41],[80,42,80,47],[80,48,80,53],[60,44,60,45],[61,44,61,45],[62,44,62,45],[63,44,63,45],[64,44,64,45],[78,38,78,39],[78,44,78,45],[79,38,79,39],[79,44,79,45],[60,50,60,51],[61,50,61,51],[62,50,62,51],[63,50,63,51],[64,50,64,51],[66,50,66,51],[62,38,62,39],[63,38,63,39],[64,38,64,39],[65,38,65,39],[66,38,66,39],[65,44,65,45],[65,50,65,51],[83,50,83,51],[81,38,81,39],[81,44,81,45],[82,38,82,39],[82,44,82,45],[81,50,81,51],[82,50,82,51],[68,50,68,51],[70,50,70,51],[74,38,74,39],[78,50,78,51],[79,50,79,51],[74,44,74,45],[75,38,75,39],[75,44,75,45],[69,50,69,51],[2,0,2,1],[3,0,3,1],[4,0,4,1],[92,0,92,1],[6,18,6,35],[7,18,7,35],[93,5,93,6],[92,5,92,6],[94,5,94,6],[85,32,85,33],[86,32,86,33],[80,30,80,35],[81,32,81,33],[75,32,75,33],[76,32,76,33],[77,32,77,33],[78,32,78,33],[79,32,79,33],[8,6,8,11],[8,12,8,17],[69,14,69,15],[65,14,65,15],[67,14,67,15],[86,14,86,15],[103,5,103,6],[96,2,96,6],[100,2,100,6],[104,2,104,6],[93,0,96,1],[97,0,100,1],[101,0,104,1],[105,0,105,6],[6,36,6,53],[7,36,7,53],[73,36,73,41],[73,42,73,47],[73,48,73,53],[74,50,74,51],[75,50,75,51],[76,50,76,51],[77,50,77,51],[95,5,95,6],[97,5,97,6],[98,5,98,6],[99,5,99,6],[101,5,101,6],[102,5,102,6],[55,50,55,51]]}
["SRC #36: Compliance History - Part 1",null,null,null,"Back to Respondent Information"]
[null,null,null,null,null,null,null,null,"I attest that the information entered into this sheet is complete and accurate."]
["Item",null,"Score",null,"Go to Scoring Table",null,null,null,null,null,null,null,null,null,null,null,null,null,null,null,null,null,null,null,null,null,null,null,null,null,null,null,null,null,null,null,null,null,null,null,null,null,null,null,null,null,null,null,null,null,null,null,null,null,null,null,null,null,"Yes"]
["Total Points Possible Part 1:",null,75,null,null,null,null,null,null,null,null,null,null,null,null,null,null,null,null,null,null,null,null,null,null,null,null,null,null,null,null,null,null,null,null,null,null,null,null,null,null,null,null,null,null,null,null,null,null,null,null,null,null,null,null,null,null,null,"No"]
["Points Earned Part 1:",null,{"$f":"H106","v":0}]
[]
[{"$f":"'Respondent Information'!C6","v":0},null,null,null,null,null,null,null,null,null,null,null,null,null,null,null,null,null,{"$f":"'Respondent Information'!C9","v":0},null,null,null,null,null,null,null,null,null,null,null,null,null,null,null,null,null,{"$f":"'Respondent Information'!C12","v":0}]
[{"$f":"'Respondent Information'!E6","v":0},null,null,null,null,null,null,null,null,null,null,null,null,null,null,null,null,null,{"$f":"'Respondent Information'!E9","v":0},null,null,null,null,null,null,null,null,null,null,null,null,null,null,null,null,null,{"$f":"'Respondent Information'!E12","v":0}]
[{"$f":"'Respondent Information'!I5","v":0},null,null,null,null,null,{"$f":"'Respondent Information'!K5","v":0},null,null,null,null,null,{"$f":"'Respondent Information'!M5","v":0},null,null,null,null,null,{"$f":"'Respondent Information'!I9","v":0},null,null,null,null,null,{"$f":"'Respondent Information'!K9","v":0},null,null,null,null,null,{"$f":"'Respondent Information'!M9","v":0},null,null,null,null,null,{"$f":"'Respondent Information'!I12","v":0},null,null,null,null,null,{"$f":"'Respondent Information'!K12","v":0},null,null,null,null,null,{"$f":"'Respondent Information'!M12","v":0}]
["Liquidated Damages",null,null,null,null,null,"Liquidated Damages",null,null,null,null,null,"Liquidated Damages",null,null,null,null,null,"Liquidated Damages",null,null,null,null,null,"Liquidated Damages",null,null,null,null,null,"Liquidated Damages",null,null,null,null,null,"Liquidated Damages",null,null,null,null,null,"Liquidated Damages",null,null,null,null,null,"Liquidated Damages"]
["#","Administrative or Access Issue","Adminstrative or Covered Service Type",null,"Date Imposed","Imposed Amount","#","Administrative or Access Issue","Adminstrative or Covered Service Type",null,"Date Imposed","Imposed Amount","#","Administrative or Access Issue","Adminstrative or Covered Service Type",null,"Date Imposed","Imposed Amount","#","Administrative or Access Issue","Adminstrative or Covered Service Type",null,"Date Imposed","Imposed Amount","#","Administrative or Access Issue","Adminstrative or Covered Service Type",null,"Date Imposed","Imposed Amount","#","Administrative or Access Issue","Adminstrative or Covered Service Type",null,"Date Imposed","Imposed Amount","#","Administrative or Access Issue","Adminstrative or Covered Service Type",null,"Date Imposed","Imposed Amount","#","Administrative or Access Issue","Adminstrative or Covered Service Type",null,"Date Imposed","Imposed Amount","#","Administrative or Access Issue","Adminstrative or Covered Service Type",null,"Date Imposed","Imposed Amount"]
[1,null,null,null,null,null,1,null,null,null,null,null,1,null,null,null,null,null,1,null,null,null,null,null,1,null,null,null,null,null,1,null,null,null,null,null,1,null,null,null,null,null,1,null,null,null,null,null,1]
[2,null,null,null,null,null,2,null,null,null,null,null,2,null,null,null,null,null,2,null,null,null,null,null,2,null,null,null,null,null,2,null,null,null,null,null,2,null,null,null,null,null,2,null,null,null,null,null,2]
[3,null,null,null,null,null,3,null,null,null,null,null,3,null,null,null,null,null,3,null,null,null,null,null,3,null,null,null,null,null,3,null,null,null,null,null,3,null,null,null,null,null,3,null,null,null,null,null,3]
[4,null,null,null,null,null,4,null,null,null,null,null,4,null,null,null,null,null,4,null,null,null,null,null,4,null,null,null,null,null,4,null,null,null,null,null,4,null,null,null,null,null,4,null,null,null,null,null,4]
[5,null,null,null,null,null,5,null,null,null,null,null,5,null,null,null,null,null,5,null,null,null,null,null,5,null,null,null,null,null,5,null,null,null,null,null,5,null,null,null,null,null,5,null,null,null,null,null,5]
[6,null,null,null,null,null,6,null,null,null,null,null,6,null,null,null,null,null,6,null,null,null,null,null,6,null,null,null,null,null,6,null,null,null,null,null,6,null,null,null,null,null,6,null,null,null,null,null,6]
[7,null,null,null,null,null,7,null,null,null,null,null,7,null,null,null,null,null,7,null,null,null,null,null,7,null,null,null,null,null,7,null,null,null,null,null,7,null,null,null,null,null,7,null,null,null,null,null,7]
[8,null,null,null,null,null,8,null,null,null,null,null,8,null,null,null,null,null,8,null,null,null,null,null,8,null,null,null,null,null,8,null,null,null,null,null,8,null,null,null,null,null,8,null,null,null,null,null,8]
[9,null,null,null,null,null,9,null,null,null,null,null,9,null,null,null,null,null,9,null,null,null,null,null,9,null,null,null,null,null,9,null,null,null,null,null,9,null,null,null,null,null,9,null,null,null,null,null,9]
[10,null,null,null,null,null,10,null,null,null,null,null,10,null,null,null,null,null,10,null,null,null,null,null,10,null,null,null,null,null,10,null,null,null,null,null,10,null,null,null,null,null,10,null,null,null,null,null,10]
[11,null,null,null,null,null,11,null,null,null,null,null,11,null,null,null,null,null,11,null,null,null,null,null,11,null,null,null,null,null,11,null,null,null,null,null,11,null,null,null,null,null,11,null,null,null,null,null,11]
[12,null,null,null,null,null,12,null,null,null,null,null,12,null,null,null,null,null,12,null,null,null,null,null,12,null,null,null,null,null,12,null,null,null,null,null,12,null,null,null,null,null,12,null,null,null,null,null,12]
[13,null,null,null,null,null,13,null,null,null,null,null,13,null,null,null,null,null,13,null,null,null,null,null,13,null,null,null,null,null,13,null,null,null,null,null,13,null,null,null,null,null,13,null,null,null,null,null,13]
[14,null,null,null,null,null,14,null,null,null,null,null,14,null,null,null,null,null,14,null,null,null,null,null,14,null,null,null,null,null,14,null,null,null,null,null,14,null,null,null,null,null,14,null,null,null,null,null,14]
[15,null,null,null,null,null,15,null,null,null,null,null,15,null,null,null,null,null,15,null,null,null,null,null,15,null,null,null,null,null,15,null,null,null,null,null,15,null,null,null,null,null,15,null,null,null,null,null,15]
[16,null,null,null,null,null,16,null,null,null,null,null,16,null,null,null,null,null,16,null,null,null,null,null,16,null,null,null,null,null,16,null,null,null,null,null,16,null,null,null,null,null,16,null,null,null,null,null,16]
[17,null,null,null,null,null,17,null,null,null,null,null,17,null,null,null,null,null,17,null,null,null,null,null,17,null,null,null,null,null,17,null,null,null,null,null,17,null,null,null,null,null,17,null,null,null,null,null,17]
[18,null,null,null,null,null,18,null,null,null,null,null,18,null,null,null,null,null,18,null,null,null,null,null,18,null,null,null,null,null,18,null,null,null,null,null,18,null,null,null,null,null,18,null,null,null,null,null,18]
[19,null,null,null,null,null,19,null,null,null,null,null,19,null,null,null,null,null,19,null,null,null,null,null,19,null,null,null,null,null,19,null,null,null,null,null,19,null,null,null,null,null,19,null,null,null,null,null,19]
[20,null,null,null,null,null,20,null,null,null,null,null,20,null,null,null,null,null,20,null,null,null,null,null,20,null,null,null,null,null,20,null,null,null,null,null,20,null,null,null,null,null,20,null,null,null,null,null,20]
[21,null,null,null,null,null,21,null,null,null,null,null,21,null,null,null,null,null,21,null,null,null,null,null,21,null,null,null,null,null,21,null,null,null,null,null,21,null,null,null,null,null,21,null,null,null,null,null,21]
[22,null,null,null,null,null,22,null,null,null,null,null,22,null,null,null,null,null,22,null,null,null,null,null,22,null,null,null,null,null,22,null,null,null,null,null,22,null,null,null,null,null,22,null,null,null,null,null,22]
[23,null,null,null,null,null,23,null,null,null,null,null,23,null,null,null,null,null,23,null,null,null,null,null,23,null,null,null,null,null,23,null,null,null,null,null,23,null,null,null,null,null,23,null,null,null,null,null,23]
[24,null,null,null,null,null,24,null,null,null,null,null,24,null,null,null,null,null,24,null,null,null,null,null,24,null,null,null,null,null,24,null,null,null,null,null,24,null,null,null,null,null,24,null,null,null,null,null,24]
[25,null,null,null,null,null,25,null,null,null,null,null,25,null,null,null,null,null,25,null,null,null,null,null,25,null,null,null,null,null,25,null,null,null,null,null,25,null,null,null,null,null,25,null,null,null,null,null,25]
[26,null,null,null,null,null,26,null,null,null,null,null,26,null,null,null,null,null,26,null,null,null,null,null,26,null,null,null,null,null,26,null,null,null,null,null,26,null,null,null,null,null,26,null,null,null,null,null,26]
[27,null,null,null,null,null,27,null,null,null,null,null,27,null,null,null,null,null,27,null,null,null,null,null,27,null,null,null,null,null,27,null,null,null,null,null,27,null,null,null,null,null,27,null,null,null,null,null,27]
[28,null,null,null,null,null,28,null,null,null,null,null,28,null,null,null,null,null,28,null,null,null,null,null,28,null,null,null,null,null,28,null,null,null,null,null,28,null,null,null,null,null,28,null,null,null,null,null,28]
[29,null,null,null,null,null,29,null,null,null,null,null,29,null,null,null,null,null,29,null,null,null,null,null,29,null,null,null,null,null,29,null,null,null,null,null,29,null,null,null,null,null,29,null,null,null,null,null,29]
[30,null,null,null,null,null,30,null,null,null,null,null,30,null,null,null,null,null,30,null,null,null,null,null,30,null,null,null,null,null,30,null,null,null,null,null,30,null,null,null,null,null,30,null,null,null,null,null,30]
[31,null,null,null,null,null,31,null,null,null,null,null,31,null,null,null,null,null,31,null,null,null,null,null,31,null,null,null,null,null,31,null,null,null,null,null,31,null,null,null,null,null,31,null,null,null,null,null,31]
[32,null,null,null,null,null,32,null,null,null,null,null,32,null,null,null,null,null,32,null,null,null,null,null,32,null,null,null,null,null,32,null,null,null,null,null,32,null,null,null,null,null,32,null,null,null,null,null,32]
[33,null,null,null,null,null,33,null,null,null,null,null,33,null,null,null,null,null,33,null,null,null,null,null,33,null,null,null,null,null,33,null,null,null,null,null,33,null,null,null,null,null,33,null,null,null,null,null,33]
[34,null,null,null,null,null,34,null,null,null,null,null,34,null,null,null,null,null,34,null,null,null,null,null,34,null,null,null,null,null,34,null,null,null,null,null,34,null,null,null,null,null,34,null,null,null,null,null,34]
[35,null,null,null,null,null,35,null,null,null,null,null,35,null,null,null,null,null,35,null,null,null,null,null,35,null,null,null,null,null,35,null,null,null,null,null,35,null,null,null,null,null,35,null,null,null,null,null,35]
[36,null,null,null,null,null,36,null,null,null,null,null,36,null,null,null,null,null,36,null,null,null,null,null,36,null,null,null,null,null,36,null,null,null,null,null,36,null,null,null,null,null,36,null,null,null,null,null,36]
[37,null,null,null,null,null,37,null,null,null,null,null,37,null,null,null,null,null,37,null,null,null,null,null,37,null,null,null,null,null,37,null,null,null,null,null,37,null,null,null,null,null,37,null,null,null,null,null,37]
[38,null,null,null,null,null,38,null,null,null,null,null,38,null,null,null,null,null,38,null,null,null,null,null,38,null,null,null,null,null,38,null,null,null,null,null,38,null,null,null,null,null,38,null,null,null,null,null,38]
[39,null,null,null,null,null,39,null,null,null,null,null,39,null,null,null,null,null,39,null,null,null,null,null,39,null,null,null,null,null,39,null,null,null,null,null,39,null,null,null,null,null,39,null,null,null,null,null,39]
[40,null,null,null,null,null,40,null,null,null,null,null,40,null,null,null,null,null,40,null,null,null,null,null,40,null,null,null,null,null,40,null,null,null,null,null,40,null,null,null,null,null,40,null,null,null,null,null,40]
[41,null,null,null,null,null,41,null,null,null,null,null,41,null,null,null,null,null,41,null,null,null,null,null,41,null,null,null,null,null,41,null,null,null,null,null,41,null,null,null,null,null,41,null,null,null,null,null,41]
[42,null,null,null,null,null,42,null,null,null,null,null,42,null,null,null,null,null,42,null,null,null,null,null,42,null,null,null,null,null,42,null,null,null,null,null,42,null,null,null,null,null,42,null,null,null,null,null,42]
[43,null,null,null,null,null,43,null,null,null,null,null,43,null,null,null,null,null,43,null,null,null,null,null,43,null,null,null,null,null,43,null,null,null,null,null,43,null,null,null,null,null,43,null,null,null,null,null,43]
[44,null,null,null,null,null,44,null,null,null,null,null,44,null,null,null,null,null,44,null,null,null,null,null,44,null,null,null,null,null,44,null,null,null,null,null,44,null,null,null,null,null,44,null,null,null,null,null,44]
[45,null,null,null,null,null,45,null,null,null,null,null,45,null,null,null,null,null,45,null,null,null,null,null,45,null,null,null,null,null,45,null,null,null,null,null,45,null,null,null,null,null,45,null,null,null,null,null,45]
[46,null,null,null,null,null,46,null,null,null,null,null,46,null,null,null,null,null,46,null,null,null,null,null,46,null,null,null,null,null,46,null,null,null,null,null,46,null,null,null,null,null,46,null,null,null,null,null,46]
[47,null,null,null,null,null,47,null,null,null,null,null,47,null,null,null,null,null,47,null,null,null,null,null,47,null,null,null,null,null,47,null,null,null,null,null,47,null,null,null,null,null,47,null,null,null,null,null,47]
[48,null,null,null,null,null,48,null,null,null,null,null,48,null,null,null,null,null,48,null,null,null,null,null,48,null,null,null,null,null,48,null,null,null,null,null,48,null,null,null,null,null,48,null,null,null,null,null,48]
[49,null,null,null,null,null,49,null,null,null,null,null,49,null,null,null,null,null,49,null,null,null,null,null,49,null,null,null,null,null,49,null,null,null,null,null,49,null,null,null,null,null,49,null,null,null,null,null,49]
[50,null,null,null,null,null,50,null,null,null,null,null,50,null,null,null,null,null,50,null,null,null,null,null,50,null,null,null,null,null,50,null,null,null,null,null,50,null,null,null,null,null,50,null,null,null,null,null,50]
[51,null,null,null,null,null,51,null,null,null,null,null,51,null,null,null,null,null,51,null,null,null,null,null,51,null,null,null,null,null,51,null,null,null,null,null,51,null,null,null,null,null,51,null,null,null,null,null,51]
[52,null,null,null,null,null,52,null,null,null,null,null,52,null,null,null,null,null,52,null,null,null,null,null,52,null,null,null,null,null,52,null,null,null,null,null,52,null,null,null,null,null,52,null,null,null,null,null,52]
[53,null,null,null,null,null,53,null,null,null,null,null,53,null,null,null,null,null,53,null,null,null,null,null,53,null,null,null,null,null,53,null,null,null,null,null,53,null,null,null,null,null,53,null,null,null,null,null,53]
[54,null,null,null,null,null,54,null,null,null,null,null,54,null,null,null,null,null,54,null,null,null,null,null,54,null,null,null,null,null,54,null,null,null,null,null,54,null,null,null,null,null,54,null,null,null,null,null,54]
[55,null,null,null,null,null,55,null,null,null,null,null,55,null,null,null,null,null,55,null,null,null,null,null,55,null,null,null,null,null,55,null,null,null,null,null,55,null,null,null,null,null,55,null,null,null,null,null,55]
[56,null,null,null,null,null,56,null,null,null,null,null,56,null,null,null,null,null,56,null,null,null,null,null,56,null,null,null,null,null,56,null,null,null,null,null,56,null,null,null,null,null,56,null,null,null,null,null,56]
[57,null,null,null,null,null,57,null,null,null,null,null,57,null,null,null,null,null,57,null,null,null,null,null,57,null,null,null,null,null,57,null,null,null,null,null,57,null,null,null,null,null,57,null,null,null,null,null,57]
[58,null,null,null,null,null,58,null,null,null,null,null,58,null,null,null,null,null,58,null,null,null,null,null,58,null,null,null,null,null,58,null,null,null,null,null,58,null,null,null,null,null,58,null,null,null,null,null,58]
[59,null,null,null,null,null,59,null,null,null,null,null,59,null,null,null,null,null,59,null,null,null,null,null,59,null,null,null,null,null,59,null,null,null,null,null,59,null,null,null,null,null,59,null,null,null,null,null,59]
[60,null,null,null,null,null,60,null,null,null,null,null,60,null,null,null,null,null,60,null,null,null,null,null,60,null,null,null,null,null,60,null,null,null,null,null,60,null,null,null,null,null,60,null,null,null,null,null,60]
["Annual Revenue:",null,null,null,null,null,"Annual Revenue:",null,null,null,null,null,"Annual Revenue:",null,null,null,null,null,"Annual Revenue:",null,null,null,null,null,"Annual Revenue:",null,null,null,null,null,"Annual Revenue:",null,null,null,null,null,"Annual Revenue:",null,null,null,null,null,"Annual Revenue:",null,null,null,null,null,"Annual Revenue:"]
["Percent of Total Revenue:",null,null,null,null,{"$f":"IFERROR(SUM(F12:F71)/F72,\"--\")","v":"--"},"Percent of Total Revenue:",null,null,null,null,{"$f":"IFERROR(SUM(L12:L71)/L72,\"--\")","v":"--"},"Percent of Total Revenue:",null,null,null,null,{"$f":"IFERROR(SUM(R12:R71)/R72,\"--\")","v":"--"},"Percent of Total Revenue:",null,null,null,null,{"$f":"IFERROR(SUM(X12:X71)/X72,\"--\")","v":"--"},"Percent of Total Revenue:",null,null,null,null,{"$f":"IFERROR(SUM(AD12:AD71)/AD72,\"--\")","v":"--"},"Percent of Total Revenue:",null,null,null,null,{"$f":"IFERROR(SUM(AJ12:AJ71)/AJ72,\"--\")","v":"--"},"Percent of Total Revenue:",null,null,null,null,{"$f":"IFERROR(SUM(AP12:AP71)/AP72,\"--\")","v":"--"},"Percent of Total Revenue:",null,null,null,null,{"$f":"IFERROR(SUM(AV12:AV71)/AV72,\"--\")","v":"--"},"Percent of Total Revenue:",null,null,null,null,{"$f":"IFERROR(SUM(BB12:BB71)/BB72,\"--\")","v":"--"}]
["Sanctions",null,null,null,null,null,"Sanctions",null,null,null,null,null,"Sanctions",null,null,null,null,null,"Sanctions",null,null,null,null,null,"Sanctions",null,null,null,null,null,"Sanctions",null,null,null,null,null,"Sanctions",null,null,null,null,null,"Sanctions",null,null,null,null,null,"Sanctions"]
["#","Administrative or Access Issue","Adminstrative or Covered Service Type",null,"Date Imposed","Imposed Amount","#","Administrative or Access Issue","Adminstrative or Covered Service Type",null,"Date Imposed","Imposed Amount","#","Administrative or Access Issue","Adminstrative or Covered Service Type",null,"Date Imposed","Imposed Amount","#","Administrative or Access Issue","Adminstrative or Covered Service Type",null,"Date Imposed","Imposed Amount","#","Administrative or Access Issue","Adminstrative or Covered Service Type",null,"Date Imposed","Imposed Amount","#","Administrative or Access Issue","Adminstrative or Covered Service Type",null,"Date Imposed","Imposed Amount","#","Administrative or Access Issue","Adminstrative or Covered Service Type",null,"Date Imposed","Imposed Amount","#","Administrative or Access Issue","Adminstrative or Covered Service Type",null,"Date Imposed","Imposed Amount","#","Administrative or Access Issue","Adminstrative or Covered Service Type",null,"Date Imposed","Imposed Amount"]
[1,null,null,null,null,null,1,null,null,null,null,null,1,null,null,null,null,null,1,null,null,null,null,null,1,null,null,null,null,null,1,null,null,null,null,null,1,null,null,null,null,null,1,null,null,null,null,null,1]
[2,null,null,null,null,null,2,null,null,null,null,null,2,null,null,null,null,null,2,null,null,null,null,null,2,null,null,null,null,null,2,null,null,null,null,null,2,null,null,null,null,null,2,null,null,null,null,null,2]
[3,null,null,null,null,null,3,null,null,null,null,null,3,null,null,null,null,null,3,null,null,null,null,null,3,null,null,null,null,null,3,null,null,null,null,null,3,null,null,null,null,null,3,null,null,null,null,null,3]
[4,null,null,null,null,null,4,null,null,null,null,null,4,null,null,null,null,null,4,null,null,null,null,null,4,null,null,null,null,null,4,null,null,null,null,null,4,null,null,null,null,null,4,null,null,null,null,null,4]
[5,null,null,null,null,null,5,null,null,null,null,null,5,null,null,null,null,null,5,null,null,null,null,null,5,null,null,null,null,null,5,null,null,null,null,null,5,null,null,null,null,null,5,null,null,null,null,null,5]
["CAPS",null,null,null,null,null,"CAPS",null,null,null,null,null,"CAPS",null,null,null,null,null,"CAPS",null,null,null,null,null,"CAPS",null,null,null,null,null,"CAPS",null,null,null,null,null,"CAPS",null,null,null,null,null,"CAPS",null,null,null,null,null,"CAPS"]
["#","Administrative or Access Issue","Adminstrative or Covered Service Type",null,"Date Imposed","Imposed Amount","#","Administrative or Access Issue","Adminstrative or Covered Service Type",null,"Date Imposed","Imposed Amount","#","Administrative or Access Issue","Adminstrative or Covered Service Type",null,"Date Imposed","Imposed Amount","#","Administrative or Access Issue","Adminstrative or Covered Service Type",null,"Date Imposed","Imposed Amount","#","Administrative or Access Issue","Adminstrative or Covered Service Type",null,"Date Imposed","Imposed Amount","#","Administrative or Access Issue","Adminstrative or Covered Service Type",null,"Date Imposed","Imposed Amount","#","Administrative or Access Issue","Adminstrative or Covered Service Type",null,"Date Imposed","Imposed Amount","#","Administrative or Access Issue","Adminstrative or Covered Service Type",null,"Date Imposed","Imposed Amount","#","Administrative or Access Issue","Adminstrative or Covered Service Type",null,"Date Imposed","Imposed Amount"]
[1,null,null,null,null,null,1,null,null,null,null,null,1,null,null,null,null,null,1,null,null,null,null,null,1,null,null,null,null,null,1,null,null,null,null,null,1,null,null,null,null,null,1,null,null,null,null,null,1]
[2,null,null,null,null,null,2,null,null,null,null,null,2,null,null,null,null,null,2,null,null,null,null,null,2,null,null,null,null,null,2,null,null,null,null,null,2,null,null,null,null,null,2,null,null,null,null,null,2]
[3,null,null,null,null,null,3,null,null,null,null,null,3,null,null,null,null,null,3,null,null,null,null,null,3,null,null,null,null,null,3,null,null,null,null,null,3,null,null,null,null,null,3,null,null,null,null,null,3]
[4,null,null,null,null,null,4,null,null,null,null,null,4,null,null,null,null,null,4,null,null,null,null,null,4,null,null,null,null,null,4,null,null,null,null,null,4,null,null,null,null,null,4,null,null,null,null,null,4]
[5,null,null,null,null,null,5,null,null,null,null,null,5,null,null,null,null,null,5,null,null,null,null,null,5,null,null,null,null,null,5,null,null,null,null,null,5,null,null,null,null,null,5,null,null,null,null,null,5]
[]
[]
[]
["Scores: ",null,null,null,null,"Back to Top"]
[]
["State",null,"Criteria","Points Available Per Year","Points Earned: Year 1","Points Earned: Year 2",null,"Points Earned: Year 3"]
[{"$f":"'Respondent Information'!C6","v":0},null,"Total Liquidated Damages/ Contract Revenue",1,{"$f":"IF(AND(J2=\"Yes\", F73=\"--\"), 1, IF(F73<0.00099, 1, IF(F73<0.002, 0.5, 0)))","v":0},{"$f":"IF(AND(J2=\"Yes\", L73=\"--\"), 1, IF(L73<0.00099, 1, IF(L73<0.002, 0.5, 0)))","v":0},null,{"$f":"IF(AND(J2=\"Yes\", R73=\"--\"), 1, IF(R73<0.00099, 1, IF(R73<0.002, 0.5, 0)))","v":0}]
[null,null,"Sanctions",5.3,{"$f":"IF(J2<>\"Yes\",0,IF(K126>0,0,5.3))","v":0},{"$f":"IF(J2<>\"Yes\", 0, IF(L126>0, 0, 5.3))","v":0},null,{"$f":"IF(J2<>\"Yes\", 0, IF(M126>0, 0,5.3))","v":0}]
[null,null,"CAPS",2,{"$f":"IF(J2<>\"Yes\", 0, IF(K136>0, 0, 2))","v":0},{"$f":"IF(J2<>\"Yes\", 0, IF(L136>0, 0, 2))","v":0},null,{"$f":"IF(J2<>\"Yes\", 0, IF(M136>0, 0, 2))","v":0}]
[null,null,"State Points Earned:",null,null,null,null,{"$f":"SUM(E94:H96)","v":0}]
[{"$f":"'Respondent Information'!C9","v":0},null,"Total Liquidated Damages/ Contract Revenue",1,{"$f":"IF(AND(J2=\"Yes\", X73=\"--\"), 1, IF(X73<0.00099, 1, IF(X73<0.002, 0.5, 0)))","v":0},{"$f":"IF(AND(J2=\"Yes\", AD73=\"--\"), 1, IF(AD73<0.00099, 1, IF(AD73<0.002, 0.5, 0)))","v":0},null,{"$f":"IF(AND(J2=\"Yes\", AJ73=\"--\"), 1, IF(AJ73<0.00099, 1, IF(AJ73<0.002, 0.5, 0)))","v":0}]
[null,null,"Sanctions",5.3,{"$f":"IF(J2<>\"Yes\", 0, IF(N126>0, 0, 5.3))","v":0},{"$f":"IF(J2<>\"Yes\", 0, IF(O126>0, 0, 5.3))","v":0},null,{"$f":"IF(J2<>\"Yes\", 0, IF(P126>0, 0, 5.3))","v":0}]
[null,null,"CAPS",2,{"$f":"IF(J2<>\"Yes\", 0, IF(N136>0, 0, 2))","v":0},{"$f":"IF(J2<>\"Yes\",0,IF(O136>0, 0, 2))","v":0},null,{"$f":"IF(J2<>\"Yes\", 0, IF(P136>0, 0, 2))","v":0}]
[null,null,"State Points Earned:",null,null,null,null,{"$f":"SUM(E98:H100)","v":0}]
[{"$f":"'Respondent Information'!C12","v":0},null,"Total Liquidated Damages/ Contract Revenue",1,{"$f":"IF(AND(J2=\"Yes\", AP73=\"--\"), 1, IF(AP73<0.00099, 1, IF(AP73<0.002, 0.5, 0)))","v":0},{"$f":"IF(AND(J2=\"Yes\", AV73=\"--\"), 1, IF(AV73<0.00099, 1, IF(AV73<0.002, 0.5, 0)))","v":0},null,{"$f":"IF(AND(J2=\"Yes\", BB73=\"--\"), 1, IF(BB73<0.00099, 1, IF(BB73<0.002, 0.5, 0)))","v":0}]
[null,null,"Sanctions",5.3,{"$f":"IF(J2<>\"Yes\", 0, IF(Q126>0, 0, 5.3))","v":0},{"$f":"IF(J2<>\"Yes\", 0, IF(R126>0, 0, 5.3))","v":0},null,{"$f":"IF(J2<>\"Yes\", 0, IF(S126>0, 0,5.3))","v":0}]
[null,null,"CAPS",2,{"$f":"IF(J2<>\"Yes\", 0, IF(Q136>0, 0, 2))","v":0},{"$f":"IF(J2<>\"Yes\", 0, IF(R136>0, 0, 2))","v":0},null,{"$f":"IF(J2<>\"Yes\", 0, IF(S136>0, 0, 2))","v":0}]
[null,null,"State Points Earned:",null,null,null,null,{"$f":"SUM(E102:H104)","v":0}]
["Total Points Earned:",null,null,null,null,null,null,{"$f":"IF(J2<>\"Yes\", 0, SUM(H97,H101,H105))","v":0}]
[]
[]
[]
[]
[]
[]
[]
[]
[]
[]
[]
[]
[null,null,null,null,null,null,null,null,null,null,"Sanctions"]
[null,null,null,null,null,null,null,null,null,null,"State 1 Year 1","State 1 Year 2","State 1 Year 3","State 2 Year 1","State 2 Year 2","State 2 Year 3","State 3 Year 1","State 3 Year 2","State 3 Year 3"]
[null,"Administrative Issue","Access Issue",null,null,null,null,null,null,null,{"$f":"IF(ISBLANK(F76), 0, 1)","v":0},{"$f":"IF(ISBLANK(L76), 0, 1)","v":0},{"$f":"IF(ISBLANK(R76), 0, 1)","v":0},{"$f":"IF(ISBLANK(X76), 0, 1)","v":0},{"$f":"IF(ISBLANK(AD76), 0, 1)","v":0},{"$f":"IF(ISBLANK(AJ76), 0, 1)","v":0},{"$f":"IF(ISBLANK(AP76), 0, 1)","v":0},{"$f":"IF(ISBLANK(AV76), 0, 1)","v":0},{"$f":"IF(ISBLANK(BB76), 0, 1)","v":0}]
[null,"Fraud and Abuse","Coverage and Authorization of Services",null,null,null,null,null,null,null,{"$f":"IF(ISBLANK(F77), 0, 1)","v":0},{"$f":"IF(ISBLANK(L77), 0, 1)","v":0},{"$f":"IF(ISBLANK(R77), 0, 1)","v":0},{"$f":"IF(ISBLANK(X77), 0, 1)","v":0},{"$f":"IF(ISBLANK(AD77), 0, 1)","v":0},{"$f":"IF(ISBLANK(AJ77), 0, 1)","v":0},{"$f":"IF(ISBLANK(AP77), 0, 1)","v":0},{"$f":"IF(ISBLANK(AV77), 0, 1)","v":0},{"$f":"IF(ISBLANK(BB77), 0, 1)","v":0}]
[null,"IT/Systems Issue","Care Coordination and/or Case Management",null,null,null,null,null,null,null,{"$f":"IF(ISBLANK(F78), 0, 1)","v":0},{"$f":"IF(ISBLANK(L78), 0, 1)","v":0},{"$f":"IF(ISBLANK(R78), 0, 1)","v":0},{"$f":"IF(ISBLANK(X78), 0, 1)","v":0},{"$f":"IF(ISBLANK(AD78), 0, 1)","v":0},{"$f":"IF(ISBLANK(AJ78), 0, 1)","v":0},{"$f":"IF(ISBLANK(AP78), 0, 1)","v":0},{"$f":"IF(ISBLANK(AV78), 0, 1)","v":0},{"$f":"IF(ISBLANK(BB78), 0, 1)","v":0}]
[null,"Untimely Reporting","Admissions and Discharge Issues",null,null,null,null,null,null,null,{"$f":"IF(ISBLANK(F79), 0, 1)","v":0},{"$f":"IF(ISBLANK(L79), 0, 1)","v":0},{"$f":"IF(ISBLANK(R79), 0, 1)","v":0},{"$f":"IF(ISBLANK(X79), 0, 1)","v":0},{"$f":"IF(ISBLANK(AD79), 0, 1)","v":0},{"$f":"IF(ISBLANK(AJ79), 0, 1)","v":0},{"$f":"IF(ISBLANK(AP79), 0, 1)","v":0},{"$f":"IF(ISBLANK(AV79), 0, 1)","v":0},{"$f":"IF(ISBLANK(BB79), 0, 1)","v":0}]
[null,"Inaccurate Reporting","Claims Payment",null,null,null,null,null,null,null,{"$f":"IF(ISBLANK(F80), 0, 1)","v":0},{"$f":"IF(ISBLANK(L80), 0, 1)","v":0},{"$f":"IF(ISBLANK(R80), 0, 1)","v":0},{"$f":"IF(ISBLANK(X80), 0, 1)","v":0},{"$f":"IF(ISBLANK(AD80), 0, 1)","v":0},{"$f":"IF(ISBLANK(AJ80), 0, 1)","v":0},{"$f":"IF(ISBLANK(AP80), 0, 1)","v":0},{"$f":"IF(ISBLANK(AV80), 0, 1)","v":0},{"$f":"IF(ISBLANK(BB80), 0, 1)","v":0}]
[null,"Subcontractor Related","Networks",null,null,null,null,null,null,null,{"$f":"SUM(K121:K125)","v":0},{"$f":"SUM(L121:L125)","v":0},0,0,0,0,0,0,0]
[]
[]
[null,null,null,null,null,null,null,null,null,null,"CAPs"]
[null,null,null,null,null,null,null,null,null,null,"State 1 Year 1","State 1 Year 2","State 1 Year 3","State 2 Year 1","State 2 Year 2","State 2 Year 3","State 3 Year 1","State 3 Year 2","State 3 Year 3"]
[null,null,null,null,null,null,null,null,null,null,{"$f":"IF(ISBLANK(F83), 0, 1)","v":0},{"$f":"IF(ISBLANK(L83), 0, 1)","v":0},{"$f":"IF(ISBLANK(R83), 0, 1)","v":0},{"$f":"IF(ISBLANK(X83), 0, 1)","v":0},{"$f":"IF(ISBLANK(AD83), 0, 1)","v":0},{"$f":"IF(ISBLANK(AJ83), 0, 1)","v":0},{"$f":"IF(ISBLANK(AP83), 0, 1)","v":0},{"$f":"IF(ISBLANK(AV83), 0, 1)","v":0},{"$f":"IF(ISBLANK(BB83), 0, 1)","v":0}]
[null,null,null,null,null,null,null,null,null,null,{"$f":"IF(ISBLANK(F84), 0, 1)","v":0},{"$f":"IF(ISBLANK(L84), 0, 1)","v":0},{"$f":"IF(ISBLANK(R84), 0, 1)","v":0},{"$f":"IF(ISBLANK(X84), 0, 1)","v":0},{"$f":"IF(ISBLANK(AD84), 0, 1)","v":0},{"$f":"IF(ISBLANK(AJ84), 0, 1)","v":0},{"$f":"IF(ISBLANK(AP84), 0, 1)","v":0},{"$f":"IF(ISBLANK(AV84), 0, 1)","v":0},{"$f":"IF(ISBLANK(BB84), 0, 1)","v":0}]
[null,null,null,null,null,null,null,null,null,null,{"$f":"IF(ISBLANK(F85), 0, 1)","v":0},{"$f":"IF(ISBLANK(L85), 0, 1)","v":0},{"$f":"IF(ISBLANK(R85), 0, 1)","v":0},{"$f":"IF(ISBLANK(X85), 0, 1)","v":0},{"$f":"IF(ISBLANK(AD85), 0, 1)","v":0},{"$f":"IF(ISBLANK(AJ85), 0, 1)","v":0},{"$f":"IF(ISBLANK(AP85), 0, 1)","v":0},{"$f":"IF(ISBLANK(AV85), 0, 1)","v":0},{"$f":"IF(ISBLANK(BB85), 0, 1)","v":0}]
[null,null,null,null,null,null,null,null,null,null,{"$f":"IF(ISBLANK(F86), 0, 1)","v":0},{"$f":"IF(ISBLANK(L86), 0, 1)","v":0},{"$f":"IF(ISBLANK(R86), 0, 1)","v":0},{"$f":"IF(ISBLANK(X86), 0, 1)","v":0},{"$f":"IF(ISBLANK(AD86), 0, 1)","v":0},{"$f":"IF(ISBLANK(AJ86), 0, 1)","v":0},{"$f":"IF(ISBLANK(AP86), 0, 1)","v":0},{"$f":"IF(ISBLANK(AV86), 0, 1)","v":0},{"$f":"IF(ISBLANK(BB86), 0, 1)","v":0}]
[null,null,null,null,null,null,null,null,null,null,{"$f":"IF(ISBLANK(F87), 0, 1)","v":0},{"$f":"IF(ISBLANK(L87), 0, 1)","v":0},{"$f":"IF(ISBLANK(R87), 0, 1)","v":0},{"$f":"IF(ISBLANK(X87), 0, 1)","v":0},{"$f":"IF(ISBLANK(AD87), 0, 1)","v":0},{"$f":"IF(ISBLANK(AJ87), 0, 1)","v":0},{"$f":"IF(ISBLANK(AP87), 0, 1)","v":0},{"$f":"IF(ISBLANK(AV87), 0, 1)","v":0},{"$f":"IF(ISBLANK(BB87), 0, 1)","v":0}]
[null,null,null,null,null,null,null,null,null,null,{"$f":"SUM(K131:K135)","v":0},{"$f":"SUM(L131:L135)","v":0},0,0,0,0,0,0,0]

{"sheet":"Compliance-Terminations","index":19,"n_rows":64,"n_cols":13,"rows_kept":64,"cut":false,"hidden":false,"merged":[[33,0,33,2],[0,0,0,2],[2,0,2,1],[2,4,2,5],[3,0,3,1],[4,0,4,1],[5,0,5,1],[6,0,6,1]]}
["SRC #36 (Continued): Compliance History - Part 2 (Terminations)",null,null,null,"Back to Respondent Information"]
[]
["Item",null,"Score"]
["Total Points Possible Part 2: ",null,25]
["Points Earned Part 2:",null,{"$f":"C37","v":0}]
["Total Compliance Points (Part 1 & Part 2):",null,{"$f":"Compliance!C5+'Compliance-Terminations'!C5","v":0}]
["Percent:",null,{"$f":"C6/(Compliance!C4+'Compliance-Terminations'!C4)","v":0}]
[]
["Contract Name","Contract Type","Termination Type","Date of Action","Client/Other Party Name","Client/Other Party Address","Client/Other Party Phone Number","Reason for Termination","Respondent Affiliates","Respondent Subsidiaries","Parent Organization","Parent Organization's Affiliates","Parent Organization's Subsidiaries"]
[]
[]
[]
[]
[]
[]
[]
[]
[]
[]
[]
[]
[]
[]
[]
[]
[]
[]
[]
[]
[]
[]
[]
[]
["Scores: "]
[]
["Criteria","Points Available","Points Earned"]
["Number of Terminations",25,{"$f":"IF(Compliance!J2<>\"Yes\",0,IF(E64=0,25,0))","v":0}]
[]
[]
[]
[]
[]
[null,null,null,null,{"$f":"IF(ISBLANK(C10), 0, 1)","v":0}]
[null,null,null,null,{"$f":"IF(ISBLANK(C11), 0, 1)","v":0}]
[null,null,null,null,0]
[null,null,null,null,0]
[null,null,null,null,0]
[null,null,null,null,0]
["Partial Termination",null,null,null,0]
["Full Termination",null,null,null,0]
["Withdrawn",null,null,null,0]
["Enrollment Reduction Request",null,null,null,0]
[null,null,null,null,0]
[null,null,null,null,0]
[null,null,null,null,0]
[null,null,null,null,0]
[null,null,null,null,0]
[null,null,null,null,0]
[null,null,null,null,0]
[null,null,null,null,0]
[null,null,null,null,0]
[null,null,null,null,0]
[null,null,null,null,0]
[null,null,null,null,{"$f":"SUM(E43:E63)","v":0}]

{"sheet":"Florida Presence","index":20,"n_rows":31,"n_cols":13,"rows_kept":31,"cut":false,"hidden":false,"merged":[[18,0,18,1],[30,0,30,1]]}
["SRC #37: Florida Presence",null,"Back to Respondent Information"]
[]
["Item","Score"]
["Total Points Possible:",100]
["Points Earned:",{"$f":"C31","v":0}]
["Percent:",{"$f":"B5/B4","v":0}]
[]
["Function","Presence in Florida",null,null,null,null,null,null,null,null,null,"Yes","No"]
["Corporate Headquarters"]
["Claims Processing"]
["Member Services"]
["Provider Services"]
["Utilization Management"]
["Prior Authorization"]
["Case Management"]
["Disease Management"]
["Quality"]
[]
["Scores: "]
[]
["Evaluation Criteria","Total Points Available","Points Earned"]
["Corporate Headquarters",10,{"$f":"IF(B9=\"Yes\", B22, 0)","v":0}]
["Claims Processing",15,{"$f":"IF(B10=\"Yes\", B23, 0)","v":0}]
["Member Services",15,0]
["Provider Services",15,0]
["Utilization Management",5,0]
["Prior Authorization",5,0]
["Case Management",15,0]
["Disease Management",5,0]
["Quality",15,0]
["Total Points Earned: ",null,{"$f":"SUM(C22:C30)","v":0}]

{"sheet":"Accreditation","index":21,"n_rows":28,"n_cols":23,"rows_kept":28,"cut":false,"hidden":false,"merged":[[26,0,27,0],[26,2,27,2],[24,0,25,0],[24,2,25,2],[12,0,12,5],[21,0,21,1],[13,1,13,2],[14,1,14,2],[15,1,15,2],[13,9,13,11],[0,9,0,14],[13,12,13,14],[14,12,14,14],[7,0,7,5],[2,9,2,14],[4,9,4,14],[7,9,7,14]]}
["SRC #38: Managed Care Plan Accreditation",null,"Back to Respondent Information"]
[]
["Item","Score"]
["Total Points Possible:",100]
["Points Earned:",{"$f":"C25+C27","v":0}]
["Percent:",{"$f":"B5/B4","v":0}]
[]
["Health Plan Accreditation"]
["Name of Accrediting Body","Type of Accreditation","Level of Accreditation","Status of Accreditation","Date of Certification","Effective Date of Accreditation",null,null,null,"NCQA"]
[null,null,null,null,null,null,null,null,null,"URAC",null,null,null,null,null,null,"Full accreditation","Partial/conditional accreditation","No accreditation/denied accreditation",null,null,null,{"$f":"_xlfn.XLOOKUP(B10,Q10:S10,Q11:S14)&\"\"","v":{"$error":"#N/A"}}]
[null,null,null,null,null,null,null,null,null,"AAAHC",null,null,null,null,null,null,"full three (3) year accreditation for the National Committee for Quality Assurance (NCQA)","provisional for NCQA","None"]
[null,null,null,null,null,null,null,null,null,null,null,null,null,null,null,null,"full three (3) year accreditation for Utilization Review Accreditation Commission (URAC)","conditional or provisional for URAC"]
["Additive Accreditations",null,null,null,null,null,null,null,null,null,null,null,null,null,null,null,"full three (3) year accreditation for Accreditation Association for Ambulatory Health Care, Inc. (AAAHC)","one (1) year for AAAHC"]
["Accrediting Body","Type of Accreditation",null,"Status of Accreditation","Date of Certification","Effective Date of Accreditation",null,null,null,null,null,null,null,null,null,null,null,"six (6) months for AAAHC"]
[null,null,null,null,null,null,{"$f":"IF(AND(IF(A15<>\"\", TRUE, FALSE),IF(B15<>\"\", TRUE, FALSE),IF(D15<>\"\", TRUE, FALSE),IF(E15<>\"\", TRUE, FALSE),IF(F15<>\"\", TRUE, FALSE)),25,0)","v":0}]
[null,null,null,null,null,null,{"$f":"IF(AND(IF(A16<>\"\", TRUE, FALSE),IF(B16<>\"\", TRUE, FALSE),IF(D16<>\"\", TRUE, FALSE),IF(E16<>\"\", TRUE, FALSE),IF(F16<>\"\", TRUE, FALSE)),25,0)","v":0}]
[null,null,null,null,null,null,{"$f":"IF(AND(IF(A17<>\"\", TRUE, FALSE),IF(B17<>\"\", TRUE, FALSE),IF(D17<>\"\", TRUE, FALSE),IF(E17<>\"\", TRUE, FALSE),IF(F17<>\"\", TRUE, FALSE)),8.33,0)","v":0}]
[null,null,null,null,null,null,0,null,null,null,null,null,null,null,null,null,"Fully Accredited"]
[null,null,null,null,null,null,0,null,null,"NCQA","URAC",null,null,null,null,null,"Provisional",null,null,null,null,null,{"$f":"_xlfn.XLOOKUP(A15,$J$19:$K$19,$J$20:$K$22)","v":{"$error":"#N/A"}}]
[null,null,null,null,null,null,0,null,null,"Population Health Program Accreditation","Integrated Behavioral Health Designation",null,null,null,null,null,"Conditional"]
[null,null,null,null,null,null,null,null,null,null,null,null,null,null,null,null,"Declined"]
["Scores: "]
[]
["Item","Points Available","Points Earned",null,null,null,{"$f":"SUM(G15:G20)","v":0}]
["Type of Accreditation","50 points for full health plan accreditation.",{"$f":"IF(AND(B10=\"Full accreditation\",A10<>\"\"), 50, IF(AND(B10=\"Partial/conditional accreditation\",A10<>\"\"), 25, 0))","v":0}]
[null,"25 points for partial/conditional health plan accreditation."]
["Additive Accreditations","25 points for each additive accreditation.",{"$f":"G24","v":0}]
[null,"0 points if health plan accreditation denied or no accreditation."]

{"sheet":"Grievances","index":22,"n_rows":59,"n_cols":3,"rows_kept":59,"cut":false,"hidden":false,"merged":[[0,2,0,3],[33,0,33,2],[38,0,38,2],[43,0,43,2],[48,0,48,2],[58,0,58,1],[49,2,52,2],[54,2,57,2],[53,0,53,2],[30,0,30,1],[34,2,37,2],[39,2,42,2],[44,2,47,2]]}
["SRC #39: Grievances",null,"Back to Respondent Information"]
[]
["Item","Score"]
["Total Points Possible:",100]
["Points Earned:",{"$f":"C59","v":0}]
["Percent:",{"$f":"B5/B4","v":0}]
[]
[null,{"$f":"'Respondent Information'!C6","v":0}]
["Line of Business",{"$f":"'Respondent Information'!E6","v":0}]
["Total Number of Enrollees",{"$f":"'Respondent Information'!M7","v":0}]
["Grievances"]
["Total # of Grievances Received"]
["Total # of Grievances Resolved within 90 days"]
["Total # of Grievances Not Resolved within 90 days",{"$f":"IF(B13>B12, \"ERROR\", B12-B13)","v":0}]
["Percentage of Grievance Not Resolved w/in 90 days",{"$f":"IF(B13>B12, \"ERROR\", IF(ISERROR(B14/B12), 0, B14/B12))","v":0}]
["Percentage of Grievances to Population",{"$f":"IF(ISERROR(B12/B10), 0, B12/B10)","v":0}]
["Standard Appeals"]
["Total # of Standard Appeals Received"]
["Total # of Standard Appeals Resolved within 30 days"]
["Total # of Standard Appeals Not Resolved within 30 days",{"$f":"IF(B19>B18, \"ERROR\", B18-B19)","v":0}]
["Percentage of Standard Appeals Not Resolved within 30 days",{"$f":"IF(B19>B18,\"ERROR\",IF(ISERROR(B20/B18),0,(B20/B18)))","v":0}]
["Percentage of Standard Appeals to Population",{"$f":"IF(ISERROR(B18/B10), 0, B18/B10)","v":0}]
["Medicaid Fair Hearings"]
["Total # of Medicaid Fair Hearings Received"]
["Total # Hearings Upheld"]
["Percentage of Upheld to # of Fair Hearings Received",{"$f":"IF(ISERROR(B25/B24), 0, B25/B24)","v":0}]
["Total # Hearings Overturned"]
["Percentage of Overturned to # of Fair Hearings Received",{"$f":"IF(SUM(B25,B27)>B24, \"ERROR\", IF(ISERROR(B27/B24), 0, (B27/B24)))","v":0}]
[]
[]
["Scores:"]
[]
["Evaluation Criteria","Points Available","Points Earned"]
["Score #1 - Percent of Grievances Not Resolved Within 90 Days"]
["0%-5.99%",20,{"$f":"IF(ISBLANK(B12), 0, IF(Grievances!B15>0.2599, 0, IF(Grievances!B15>0.1099, 10, IF(Grievances!B15>0.0599, 15, IF(Grievances!B15<0.06, 20, 0)))))","v":0}]
["6%-10.99%",15]
["11%-25.99%",10]
["26% or higher",0]
["Score #2 - Percent of Grievances Per Total Population"]
["0%-5.99%",20,{"$f":"IF(OR(ISBLANK(B12),B10=0), 0, IF(B16>=0.26, 0, IF(B16>=0.11, 10, IF(B16>0.0599, 15, 20))))","v":0}]
["6%-10.99%",15]
["11%-25.99%",10]
["26% or higher",0]
["Score #3 - Percent of Appeals Not Resolved Within 30 Days"]
["0%-5.99%",20,{"$f":"IF(ISBLANK(B18), 0, IF(B21>0.2599, 0, IF(B21>0.1099, 10, IF(B21>0.0599, 15, IF(B21<0.06, 20, 0)))))","v":0}]
["6%-10.99%",15]
["11%-25.99%",10]
["26% or higher",0]
["Score #4 - Percent of Appeals Per Total Population"]
["0%-5.99%",20,{"$f":"IF(OR(ISBLANK(B18),B10=0), 0, IF(B22>0.2599, 0, IF(B22>0.1099, 10, IF(B22>0.0599, 15, IF(B22<0.06, 20, 0)))))","v":0}]
["6%-10.99%",15]
["11%-25.99%",10]
["26% or higher",0]
["Score #5 - Percent of Medicaid Fair Hearings Overturned"]
["0%-5.99%",20,{"$f":"IF(ISBLANK(B24), 0, IF(B28>0.2599, 0, IF(B28>0.1099, 10, IF(B28>0.0599, 15, IF(B28<0.06, 20, 0)))))","v":0}]
["6%-10.99%",15]
["11%-25.99%",10]
["26% or higher",0]
["Total Points Earned:",null,{"$f":"SUM(C35,C40,C45,C50,C55)","v":0}]

{"sheet":"Processing and Payment","index":23,"n_rows":73,"n_cols":4,"rows_kept":73,"cut":false,"hidden":false,"merged":[[59,0,65,0],[66,0,68,0],[72,0,72,2],[43,0,43,1],[10,0,10,1],[50,0,50,1],[55,0,55,1],[57,0,57,3]]}
["SRC #40: Claims Processing and Payment",null,"Back to Respondent Information"]
[]
["Item","Score"]
["Total Points Possible:",100]
["Points Earned:",{"$f":"D73","v":0}]
["Percent:",{"$f":"B5/B4","v":0}]
[]
[null,{"$f":"'Respondent Information'!C6","v":0}]
["Line of Business:",{"$f":"'Respondent Information'!E6","v":0}]
["Year:",{"$f":"'Respondent Information'!M5","v":0}]
["Timeliness"]
[null,"Electronically Submitted Claims"]
["Total Number of Electronic Claims"]
["Total Number Paid or Denied within 7 Calendar Days"]
["Percent Paid or Denied within 7 Calendar Days",{"$f":"IF(B14>B13, \"ERROR\", IF(ISERROR(B14/B13), 0, (B14/B13)))","v":0}]
["Electronic Nursing Facility & Hospice Claims"]
["Total Number of Nursing Facility Claims"]
["Total Number of Nursing Facilty Claims Paid/Denied within 10 Calendar Days"]
["Percent Nursing Facilty Claims Paid/Denied within 10 Calendar Days",{"$f":"IF(B18>B17, \"ERROR\", IF(ISERROR(B18/B17), 0, B18/B17))","v":0}]
["Total Number of Hospice Claims"]
["Total Number of Hospice Claims Paid/Denied within 10 Calendar Days"]
["Percent Hospice Claims Paid/Denied within 10 Calendar Days",{"$f":"IF(B21>B20, \"ERROR\", IF(ISERROR(B21/B20), 0, B21/B20))","v":0}]
["Other Electronic Claims"]
["Total Number of Hospital Claims"]
["Total Number of Hospital Claims Paid/Denied within 15 Calendar Days"]
["Percent Hospital Claims Paid/Denied within 15 Calendar Days",{"$f":"IF(B25>B24, \"ERROR\", IF(ISERROR(B25/B24), 0, B25/B24))","v":0}]
["Total Number of Durable Medical Equipment (DME) Claims"]
["Total Number of DME Claims Paid/Denied within 15 Calendar Days"]
["Percent DME Claims Paid/Denied within 15 Calendar Days",{"$f":"IF(B28>B27, \"ERROR\", IF(ISERROR(B28/B27), 0, B28/B27))","v":0}]
["Total Number of County Health Department (CHD) Claims"]
["Total Number of CHD Claims Paid/Denied within 15 Calendar Days"]
["Percent CHD Claims Paid/Denied within 15 Calendar Days",{"$f":"IF(B31>B30, \"ERROR\", IF(ISERROR(B31/B30), 0, B31/B30))","v":0}]
["Total Number of Claims for All Other Providers"]
["Total Number of All Other Claims Paid/Denied within 15 Calendar Days"]
["Percent All Other Providers Claims",{"$f":"IF(B34>B33, \"ERROR\", IF(ISERROR(B34/B33), 0, B34/B33))","v":0}]
[null,"Non-Electronically Submitted Claims"]
["Total Number of Non-Electronically Submitted Claims"]
["Total Non-Electronically Submitted Claims Paid/Denied within 10 Calendar Days"]
["Percent of Claims Paid/Denied within 10 Calendar Days",{"$f":"IF(B38>B37, \"ERROR\", IF(ISERROR(B38/B37), 0, B38/B37))","v":0}]
["Total Non-Electronically Submitted Claims Paid/Denied within 15 Calendar Days"]
["Percent of Claims Paid/Denied within 15 Calendar Days",{"$f":"IF(B40>B37, \"ERROR\", IF(ISERROR(B40/B37), 0, B40/B37))","v":0}]
["Total Non-Electronically Submitted Claims Paid/Denied within 20 Calendar Days"]
["Percent of Claims Paid/Denied within 20 Calendar Days",{"$f":"IF(B42>B37, \"ERROR\", IF(ISERROR(B42/B37), 0, B42/B37))","v":0}]
["Accuracy"]
["Number of Electronically-Submitted Claims Processed"]
["Total Electronically Submitted Claims Accurately Processed"]
["Percent of Elecontrically Submitted Claims Accurately Processed",{"$f":"IF(B46>B45, \"ERROR\", IF(ISERROR(B46/B45), 0, B46/B45))","v":0}]
["Number of Non-Electronically-Submitted Claims Processed"]
["Total Non-Electronically Submitted Claims Accurately Processed"]
["Percent of Non-Elecontrically Submitted Claims Accurately Processed",{"$f":"IF(B49>B48, \"ERROR\", IF(ISERROR(B49/B48), 0, B49/B48))","v":0}]
["Claim Appeals/Grievances"]
["Number of Appeals/Grievances Filed Regarding Claim Disputes"]
["Total Number of Claim Disputes Overturned without the Need for Medical Review"]
["Percent Overturned",{"$f":"IF(B53>B52, \"ERROR\", IF(ISERROR(B53/B52), 0, B53/B52))","v":0}]
[]
["Scores: "]
[]
[{"$f":"B8","v":0}]
["State","Criteria","Points Available","Points Earned"]
["Electronic Submissions: Timeliness","Total % Paid or Denied within 7 Calendar Days",7.5,{"$f":"IF(B15=\"ERROR\",0,IF(B15>=0.9,7.5,IF(B15>0.7999,4.5,0)))","v":0}]
[null,"Percent Nursing Facilty Paid within 10 days",7.5,{"$f":"IF(B19=\"ERROR\", 0, IF(B19>0.9499, 7.5, 0))","v":0}]
[null,"Percent Hospice Paid within 10 days",7.5,{"$f":"IF(B22=\"ERROR\", 0, IF(B22>0.9499, 7.5,0))","v":0}]
[null,"Percent Hospital Paid within 15 days",7.5,{"$f":"IF(B26=\"ERROR\", 0, IF(B26>0.9499,7.5,0))","v":0}]
[null,"Percent DME Paid within 15 days",7.5,{"$f":"IF(B29=\"ERROR\", 0, IF(B29>0.9499, 7.5, 0))","v":0}]
[null,"Percent County Health Department Paid within 15 days",7.5,{"$f":"IF(B32=\"ERROR\", 0, IF(B32>0.9499, 7.5, 0))","v":0}]
[null,"Percent All Other Providers Paid within 15 days",7.5,{"$f":"IF(B35=\"ERROR\", 0, IF(B35>0.9499, 7.5, 0))","v":0}]
["Non-Electronic Submissions: Timeliness","Total % Paid/Denied within 10 Days",10,{"$f":"IF(B39=\"ERROR\", 0, IF(B39>=0.9, 10, IF(B39>0.7999, 5, 0)))","v":0}]
[null,"Total % Paid/Denied within 15 days",7.5,{"$f":"IF(B41=\"ERROR\", 0, IF(B41>0.9499, 7.5, 0))","v":0}]
[null,"Total % Paid/Denied within 20 days",7.5,{"$f":"IF(B43=\"ERROR\", 0, IF(B43>0.9499, 7.5, 0))","v":0}]
["Electronically Submitted Claims: Accuracy","Total % Accurate",7.5,{"$f":"IF(B47=\"ERROR\", 0, IF(B47>0.9799, 7.5, IF(B47>0.9499, 5, IF(B47>0.8999, 3, 0))))","v":0}]
["Non-Electronically Submitted Claims: Accuracy","Total % Accurate",7.5,{"$f":"IF(B50=\"ERROR\", 0, IF(B50>0.9799, 7.5, IF(B50>0.9499, 5, IF(B50>0.8999, 3, 0))))","v":0}]
["Claims Appeals/Grievances","Total % Overturned",7.5,{"$f":"IF(B54=\"ERROR\", 0, IF(ISBLANK(B52), 0, IF(B54>0.2099,0, IF(B54>0.1099, 3, IF(B54>0.0599,5, 7.5)))))","v":0}]
["State Points Earned: ",null,null,{"$f":"SUM(D60:D72)","v":0}]

{"sheet":"Provider Engagement","index":24,"n_rows":68,"n_cols":14,"rows_kept":68,"cut":false,"hidden":false,"merged":[[53,0,53,3],[42,0,42,4],[47,11,47,13],[7,1,7,3],[40,0,40,1],[8,1,8,3],[47,14,47,16],[47,17,47,19]]}
["SRC #41: Provider Engagement Model",null,"Back to Respondent Information"]
[]
["Item","Score"]
["Total Points Possible:",100]
["Points Earned:",{"$f":"E54","v":0}]
["Percent:",{"$f":"B5/B4","v":0}]
[]
[null,"Florida",null,null,null,"At Least Daily"]
["Line of Business:",{"$f":"'Respondent Information'!E6","v":0},null,null,null,"At Least Weekly"]
[null,{"$f":"'Respondent Information'!I5","v":0},{"$f":"'Respondent Information'!K5","v":0},{"$f":"'Respondent Information'!M5","v":0},null,"At Least Monthly"]
["Responsiveness to Provider-Initiated Interactions",null,null,null,null,"Less than Monthly"]
["Average Response time to provider-initiated interactions (in hours)"]
["Frequency of Reviews of Provider Complaint Reasons to Identify Training Needs",null,null,null,null,"Regularly"]
["Frequency of Claim Denial Code Reviews to Identify Training Needs",null,null,null,null,"Irregularly"]
["Engagement with Provider Associations",null,null,null,null,"Not at All"]
["Regularity of Meetings with Provider Associations"]
["Number of Meetings with Provider Associations During Review Period"]
["Frequency of Provider Association Meetings",null,null,null,null,"Freq of Association Meetin"]
["Coverage of Provider Training Topics ",null,null,null,null,"Met with 5 or more Provider Associations "]
["Service Coverage Guidelines",null,null,null,null,"Met with 1-4 Provider Associations"]
["Service Authorization Requirements",null,null,null,null,"Did not Meet with Provider Associations"]
["Billing Procedures"]
["Claims Processing",null,null,null,null,"At Least Monthly"]
["Payment Timeframes",null,null,null,null,"At Least Quarterly"]
["Dispute Resolution Process and Timeframes",null,null,null,null,"Less than Quarterly"]
["Agency Contract Requirements"]
["Other Topic 1: [REPORT TOPIC NAME HERE]"]
["Other Topic 2: [REPORT TOPIC NAME HERE]"]
["Other Topic 3: [REPORT TOPIC NAME HERE]"]
["Other Topic 4: [REPORT TOPIC NAME HERE]"]
["Other Topic 5: [REPORT TOPIC NAME HERE]"]
["Other Topic 6: [REPORT TOPIC NAME HERE]"]
["Other Topic 7: [REPORT TOPIC NAME HERE]"]
["Other Topic 8: [REPORT TOPIC NAME HERE]"]
["Other Topic 9: [REPORT TOPIC NAME HERE]"]
["Other Topic 10: [REPORT TOPIC NAME HERE]"]
["Training",null,null,null,null,"Yes"]
["Method of Presentation ",null,null,null,null,"No"]
["Frequency of Training (Unscored)"]
[]
["Scores: ",null,null,null,null,null,null,null,null,null,null,"At least 75% Training Provided Live or In-Person"]
[null,null,null,null,null,null,null,null,null,null,null,"50-74.99% of Training Provided Live or In-Person"]
[{"$f":"B8","v":"Florida"},null,null,null,null,null,null,null,null,null,null,"Less than 50% of Training Provided Live or In-Person"]
["Item","Points Available","Points Earned-Year 1","Points Earned-Year 2","Points Earned-Year 3"]
["Responsiveness to Provider-Initiated Interactions",9.3010000000000002,{"$f":"IF(ISBLANK(B12), 0, IF(B12<24, 9.301, IF(B12<49, 5, 0)))","v":0},{"$f":"IF(ISBLANK(C12), 0, IF(C12<24, 9.301, IF(C12<49, 5, 0)))","v":0},{"$f":"IF(ISBLANK(D12), 0, IF(D12<24, 9.301, IF(D12<49, 5, 0)))","v":0}]
["Frequency of Reviews of Provider Complaint Reasons",3,{"$f":"IF(B13=\"At Least Daily\", 3, IF(B13=\"At Least Weekly\", 2, IF(B13=\"At Least Monthly\", 1, 0)))","v":0},0,0]
["Frequency of Claim Denial Code Reviews to Identify Training Needs",3,0,0,0]
["Engagement with Provider Associations",null,null,null,null,null,null,null,null,null,null,"contract 1"]
["Regularity of Meetings with Provider Associations",3,{"$f":"IF(B16=\"Regularly\",3,0)","v":0},{"$f":"IF(C16=\"Regularly\",3,0)","v":0},{"$f":"IF(D16=\"Regularly\",3,0)","v":0},null,null,null,null,null,null,{"$f":"IF(B20=\"Yes\", 1, 0)","v":0},0,0]
["Number of Meetings with Provider Associations During Review Period",3,{"$f":"IF(B17=\"Met with 5 or more Provider Associations \", 3, IF(B17=\"Met with 1-4 Provider Associations\", 1, 0))","v":0},{"$f":"IF(C17=\"Met with 5 or more Provider Associations \", 3, IF(C17=\"Met with 1-4 Provider Associations\", 1, 0))","v":0},{"$f":"IF(D17=\"Met with 5 or more Provider Associations \", 3, IF(D17=\"Met with 1-4 Provider Associations\", 1, 0))","v":0},null,null,null,null,null,null,0,0,0]
["Frequency of Provider Association Meetings",3,{"$f":"IF(ISBLANK(B18), 0, IF(B18=\"At Least Monthly\", 3, IF(B18=\"At Least Quarterly\", 2, 1)))","v":0},{"$f":"IF(ISBLANK(C18), 0, IF(C18=\"At Least Monthly\", 3, IF(C18=\"At Least Quarterly\", 2, 1)))","v":0},{"$f":"IF(ISBLANK(D18), 0, IF(D18=\"At Least Monthly\", 3, IF(D18=\"At Least Quarterly\", 2, 1)))","v":0},null,null,null,null,null,null,0,0,0]
["Coverage of Provider Training Topics",3,{"$f":"IF(L67=7, 3, IF(L67>=5, 1, 0))","v":0},{"$f":"IF(M67=7, 3, IF(M67>=5, 1, 0))","v":0},{"$f":"IF(N67=7, 3, IF(N67>=5, 1, 0))","v":0},null,null,null,null,null,null,0,0,0]
["Training Method of Presentation",6.03,{"$f":"IF(B38=\"At least 75% Training Provided Live or In-Person\", 6.03, IF(B38=\"50-74.99% OF Training Provided Live or In-Person\", 3, 0))","v":0},{"$f":"IF(C38=\"At least 75% Training Provided Live or In-Person\", 6.03, IF(C38=\"50-74.99% OF Training Provided Live or In-Person\", 3, 0))","v":0},{"$f":"IF(D38=\"At least 75% Training Provided Live or In-Person\", 6.03, IF(D38=\"50-74.99% OF Training Provided Live or In-Person\", 3, 0))","v":0},null,null,null,null,null,null,0,0,0]
["Total Points Earned:",null,null,null,{"$f":"SUM(Table1[[Points Earned-Year 1]:[Points Earned-Year 3]])","v":0}]
[null,null,null,null,null,null,null,null,null,null,null,{"$f":"IF(B25=\"Yes\", 1, 0)","v":0},0,0]
[null,null,null,null,null,null,null,null,null,null,null,0,0,0]
[]
[]
[]
[]
[]
[]
[]
[]
[]
[]
[null,null,null,null,null,null,null,null,null,null,null,{"$f":"SUM(L49:L66)","v":0},{"$f":"SUM(M49:M66)","v":0},0]
[null,null,null,null,null,null,null,null,null,null,null,{"$f":"IF(L67>=7, 5, IF(L67>4, 1, 0))","v":0},{"$f":"IF(M67>=7, 5, IF(M67>4, 1, 0))","v":0},0]

{"sheet":"Non-Emergency Transportation","index":25,"n_rows":79,"n_cols":18,"rows_kept":79,"cut":false,"hidden":false,"merged":[[78,0,78,2],[45,0,45,1],[16,1,16,2],[16,3,16,4],[16,5,16,6],[48,0,57,0],[57,1,57,2],[58,0,67,0],[67,1,67,2],[68,0,77,0],[77,1,77,2],[42,1,42,2],[43,1,43,2],[42,3,42,4],[43,3,43,4],[42,5,42,6],[43,5,43,6],[15,5,15,6],[17,5,17,6],[18,5,18,6],[19,5,19,6],[20,5,20,6],[21,5,21,6],[9,5,9,6],[10,5,10,6],[11,5,11,6],[12,5,12,6],[13,5,13,6],[14,5,14,6],[15,3,15,4],[17,3,17,4],[18,3,18,4],[19,3,19,4],[20,3,20,4],[21,3,21,4],[9,3,9,4],[10,3,10,4],[11,3,11,4],[12,3,12,4],[13,3,13,4],[14,3,14,4],[21,1,21,2],[9,1,9,2],[10,1,10,2],[11,1,11,2],[12,1,12,2],[13,1,13,2],[14,1,14,2],[15,1,15,2],[17,1,17,2],[18,1,18,2],[19,1,19,2],[20,1,20,2],[7,1,7,2],[7,3,7,4],[7,5,7,6],[8,1,8,2],[8,3,8,4],[8,5,8,6]]}
["SRC #42: Non-Emergency Transportation Performance",null,null,"Back to Respondent Information"]
[]
["Possible and Earned","Score"]
["Total Points Possible:",100]
["Points Earned:",{"$f":"D79","v":0}]
["Percent:",{"$f":"B5/B4","v":0}]
[]
["State",{"$f":"'Respondent Information'!C6","v":0},null,{"$f":"'Respondent Information'!C9","v":0},null,{"$f":"'Respondent Information'!C12","v":0},null,null,null,null,null,null,null,null,null,null,null,"Yes"]
["Line of Business",{"$f":"'Respondent Information'!E6","v":0},null,{"$f":"'Respondent Information'!E9","v":0},null,{"$f":"'Respondent Information'!E12","v":0},null,null,null,null,null,null,null,null,null,null,null,"No"]
["Trip Summary","Number",null,"Number",null,"Number"]
["Number of Leg A Trips",{"$f":"SUM(B12,B14)","v":0},null,{"$f":"SUM(D12,D14)","v":0},null,{"$f":"SUM(F12,F14)","v":0}]
["Scheduled "]
["Scheduled Trips Established by Standing Order"]
["Unscheduled"]
["Number of Leg B Trips",{"$f":"SUM(B16:C18)","v":0},null,{"$f":"SUM(D16:E18)","v":0},null,{"$f":"SUM(F16:G18)","v":0}]
["Scheduled "]
["Scheduled Trips Established by Standing Order"]
["Unscheduled"]
["Total Number of Trips",{"$f":"SUM(B20:C22)","v":0},null,{"$f":"SUM(D20:E22)","v":0},null,{"$f":"SUM(F20:G22)","v":0}]
["Scheduled ",{"$f":"SUM(B12,B16)","v":0},null,{"$f":"SUM(D12,D16)","v":0},null,{"$f":"SUM(F12,F16)","v":0}]
["Unscheduled",{"$f":"SUM(B14,B18)","v":0},null,{"$f":"SUM(D14,D18)","v":0},null,{"$f":"SUM(F14,F18)","v":0}]
["Missed",0,null,0,null,0]
["Scheduled Trips","Number","Percent","Number","Percent","Number","Percent"]
["1. Total Number of Scheduled Leg A Trips On Time for Appointment",null,{"$f":"IF(ISERROR(B24/B12), \"-\", B24/B12)","v":"-"},null,{"$f":"IF(ISERROR(D24/D12), \"-\", D24/D12)","v":"-"},null,{"$f":"IF(ISERROR(F24/F12), \"-\", F24/F12)","v":"-"}]
["Total number of scheduled Leg A trips established by standing orders (e.g., routine scheduled appointments for services such as renal dialysis, cancer treatments, etc.) where the enrollee arrived on time for the appointment ",null,{"$f":"IF(ISERROR(B25/B13), \"-\", B25/B13)","v":"-"},null,{"$f":"IF(ISERROR(D25/D13), \"-\", D25/D13)","v":"-"},null,{"$f":"IF(ISERROR(F25/F13), \"-\", F25/F13)","v":"-"}]
["Total Number of Scheduled Leg A Trips Late for Appointment",null,{"$f":"IF(ISERROR(B26/B12), \"-\", B26/B12)","v":"-"},null,{"$f":"IF(ISERROR(D26/D12), \"-\", D26/D12)","v":"-"},null,{"$f":"IF(ISERROR(F26/F12), \"-\", F26/F12)","v":"-"}]
["2. Total number of Leg A scheduled trips established by standing orders (e.g., routine scheduled appointments for services such as renal dialysis, cancer treatments, etc.) where the enrollee arrived late for the appointment",null,{"$f":"IF(ISERROR(B27/B13), \"-\", B27/B13)","v":"-"},null,{"$f":"IF(ISERROR(D27/D13), \"-\", D27/D13)","v":"-"},null,{"$f":"IF(ISERROR(F27/F13), \"-\", F27/F13)","v":"-"}]
["3. Number of Scheduled Leg A Trips where the non-emergency transportation provider picked up the enrollee within fifteen (15) minutes of the scheduled time for pick-up",null,{"$f":"IF(ISERROR(B28/B12), \"-\", B28/B12)","v":"-"},null,{"$f":"IF(ISERROR(D28/D12), \"-\", D28/D12)","v":"-"},null,{"$f":"IF(ISERROR(F28/F12), \"-\", F28/F12)","v":"-"}]
["4. Number of Scheduled Leg B Trips where the non-emergency transportation provider picked up the enrollee within thirty (30) minutes of the scheduled time for pick-up",null,{"$f":"IF(ISERROR(B29/B16), \"-\", B29/B16)","v":"-"},null,{"$f":"IF(ISERROR(D29/D16), \"-\", D29/D16)","v":"-"},null,{"$f":"IF(ISERROR(F29/F16), \"-\", F29/F16)","v":"-"}]
["Total Number of Scheduled Trips By Level of Assistance "]
["Unassisted Trips"]
["Assisted Trips"]
["Unscheduled Trips","Number","Percent","Number","Percent","Number","Percent"]
["5. Total Number of Trips to Urgent Care Center where the non-emergency transportation provider picked up the enrollee within three (3) hours of receiving the request",null,{"$f":"IF(ISERROR(B34/B14), \"-\", B34/B14)","v":"-"},null,{"$f":"IF(ISERROR(D34/D14), \"-\", D34/D14)","v":"-"},null,{"$f":"IF(ISERROR(F34/F14), \"-\", F34/F14)","v":"-"}]
["6. Total Number of Trips to Return an Enrollee from a Hospital After Discharge where the non-emergency transportation provider picked up the enrollee within three (3) hours of receiving the request",null,{"$f":"IF(ISERROR(B35/B18), \"-\", B35/B18)","v":"-"},null,{"$f":"IF(ISERROR(D35/D18), \"-\", D35/D18)","v":"-"},null,{"$f":"IF(ISERROR(F35/F18), \"-\", F35/F18)","v":"-"}]
["Unscheduled Trips by Level of Assistance"]
["Unassisted Trips"]
["Assisted Trips"]
["Missed Trips","Number","Percent","Number","Percent","Number","Percent"]
["7. Number Missed Due to Fault of Non-Emergency Transportation Provider",null,{"$f":"IF(ISERROR(B40/B19), \"-\", B40/B19)","v":"-"},null,{"$f":"IF(ISERROR(D40/D19), \"-\", D40/D19)","v":"-"},null,{"$f":"IF(ISERROR(F40/F19), \"-\", F40/F19)","v":"-"}]
["Number Missed Due to Fault of the Enrollee"]
["Total number of complaints and grievances pertaining to NET per one thousand (1,000) enrollees (unscored)"]
["8. Currently utilizes technology to track non-emergency transportation trips in real-time, utilizing geo-mapping to locate providers at any time during service delivery"]
["9. Currently assessing completed or missed trips prior to adjudicating claims for those trips"]
[]
["Scores: "]
[]
["State","Criteria","Points Available","Points Earned"]
[{"$f":"B8","v":0},"1. Percentage of non-emergency transportation trips that resulted in an enrollee arriving on time for an appointment ",5,{"$f":"IF(C24=\"-\", 0, IF(C24>=0.95, 5, IF(C24>=0.9, 3, 0)))","v":0}]
[null,"2. Percentage of non-emergency transportation trips that resulted in an enrollee arriving late for an established, standing order appointment  ",2.1,{"$f":"IF(C27=\"-\", 0, IF(C27<=0.03, 2.1, 0))","v":0}]
[null,"3. Percentage of non-emergency transportation Leg A trips that resulted in pick-up of an enrollee within fifteen (15) minutes of the scheduled time",5,{"$f":"IF(C28=\"-\", 0, IF(C28>=0.95, 5, IF(C28>=0.9, 3, 0)))","v":0}]
[null,"4. Percentage of non-emergency transportation Leg B trips that resulted in pick-up of an enrollee within thirty (30) minutes of the scheduled time ",5,{"$f":"IF(C29=\"-\", 0, IF(C29>=0.95, 5, IF(C29>=0.9, 3, 0)))","v":0}]
[null,"5. Percent of non-emergency transportation service requests for transporting an enrollee to an urgent care center fulfilled within three (3) hours of receiving the request",5,{"$f":"IF(C34=\"-\", 0, IF(C34>=0.95, 5, IF(C34>=0.85, 3, 0)))","v":0}]
[null,"6. Percentage of non-emergency transportation service requests for transporting enrollee following discharge from a hospital fulfilled within three (3) hours of receiving the request",5,{"$f":"IF(C35=\"-\", 0, IF(C35>=0.95, 5, IF(C35>=0.85, 3, 0)))","v":0}]
[null,"7. Percentage of missed non-emergency transportation trips due to fault of the non-emergency transportation provider ",2.1,{"$f":"IF(C40=\"-\", 0, IF(C40<=0.02, 2.1, 0))","v":0}]
[null,"8. Tracking Capability-Real-Time ",2.1,{"$f":"IF(B43=\"Yes\", 2.1, 0)","v":0}]
[null,"9. Tracking Capability-Assessing Missed Trips",2.1,{"$f":"IF(B44=\"Yes\", 2.1, 0)","v":0}]
[null,"State Points Earned: ",null,{"$f":"SUM(D49:D57)","v":0}]
[{"$f":"D8","v":0},"1. Percentage of non-emergency transportation trips that resulted in an enrollee arriving on time for an appointment ",5,{"$f":"IF(E24=\"-\", 0, IF(E24>=0.95, 5, IF(E24>=0.9, 3, 0)))","v":0}]
[null,"2. Percentage of non-emergency transportation trips that resulted in an enrollee arriving late for an established, standing order appointment  ",2.1,{"$f":"IF(E27=\"-\", 0, IF(E27<=0.03, 2.1, 0))","v":0}]
[null,"3. Percentage of non-emergency transportation Leg A trips that resulted in pick-up of an enrollee within fifteen (15) minutes of the scheduled time",5,{"$f":"IF(E28=\"-\", 0, IF(E28>=0.95, 5, IF(E28>=0.9, 3, 0)))","v":0}]
[null,"4. Percentage of non-emergency transportation Leg B trips that resulted in pick-up of an enrollee within thirty (30) minutes of the scheduled time ",5,{"$f":"IF(E29=\"-\", 0, IF(E29>=0.95, 5, IF(E29>=0.9, 3, 0)))","v":0}]
[null,"5. Percent of non-emergency transportation service requests for transporting an enrollee to an urgent care center fulfilled within three (3) hours of receiving the request",5,{"$f":"IF(E34=\"-\", 0, IF(E34>=0.95, 5, IF(E34>=0.85, 3, 0)))","v":0}]
[null,"6. Percentage of non-emergency transportation service requests for transporting enrollee following discharge from a hospital fulfilled within three (3) hours of receiving the request",5,{"$f":"IF(E35=\"-\", 0, IF(E35>=0.95, 5, IF(E35>=0.85, 3, 0)))","v":0}]
[null,"7. Percentage of missed non-emergency transportation trips due to fault of the non-emergency transportation provider ",2.1,{"$f":"IF(E40=\"-\", 0, IF(E40<=0.02, 2.1,0))","v":0}]
[null,"8. Tracking Capability-Real-Time ",2.1,{"$f":"IF(D43=\"Yes\", 2.1, 0)","v":0}]
[null,"9. Tracking Capability-Assessing Missed Trips",2.1,{"$f":"IF(D44=\"Yes\", 2.1, 0)","v":0}]
[null,"State Points Earned: ",null,{"$f":"SUM(D59:D67)","v":0}]
[{"$f":"F8","v":0},"1. Percentage of non-emergency transportation trips that resulted in an enrollee arriving on time for an appointment ",5,{"$f":"IF(G24=\"-\", 0, IF(G24>=0.95, 5, IF(G24>=0.9, 3, 0)))","v":0}]
[null,"2. Percentage of non-emergency transportation trips that resulted in an enrollee arriving late for an established, standing order appointment  ",2.1,{"$f":"IF(G27=\"-\", 0, IF(G27<=0.03, 2.1, 0))","v":0}]
[null,"3. Percentage of non-emergency transportation Leg A trips that resulted in pick-up of an enrollee within fifteen (15) minutes of the scheduled time",5,{"$f":"IF(G28=\"-\", 0, IF(G28>=0.95, 5, IF(G28>=0.9, 3, 0)))","v":0}]
[null,"4. Percentage of non-emergency transportation Leg B trips that resulted in pick-up of an enrollee within thirty (30) minutes of the scheduled time ",5,{"$f":"IF(G29=\"-\", 0, IF(G29>=0.95, 5, IF(G29>=0.9, 3, 0)))","v":0}]
[null,"5. Percent of non-emergency transportation service requests for transporting an enrollee to an urgent care center fulfilled within three (3) hours of receiving the request",5,{"$f":"IF(G34=\"-\", 0, IF(G34>=0.95, 5, IF(G34>=0.85, 3, 0)))","v":0}]
[null,"6. Percentage of non-emergency transportation service requests for transporting enrollee following discharge from a hospital fulfilled within three (3) hours of receiving the request",5,{"$f":"IF(G35=\"-\", 0, IF(G35>=0.95, 5, IF(G35>=0.85, 3, 0)))","v":0}]
[null,"7. Percentage of missed non-emergency transportation trips due to fault of the non-emergency transportation provider ",2.1,{"$f":"IF(G40=\"-\", 0, IF(G40<=0.02,2.1, 0))","v":0}]
[null,"8. Tracking Capability-Real-Time ",2.1,{"$f":"IF(F43=\"Yes\", 2.1, 0)","v":0}]
[null,"9. Tracking Capability-Assessing Missed Trips",2.1,{"$f":"IF(F44=\"Yes\", 2.1, 0)","v":0}]
[null,"State Points Earned: ",null,{"$f":"SUM(D69:D77)","v":0}]
["Total Points Earned:",null,null,{"$f":"SUM(D58,D68,D78)","v":0}]

{"sheet":"CAHPS","index":26,"n_rows":95,"n_cols":12,"rows_kept":95,"cut":false,"hidden":false,"merged":[[40,0,40,2],[41,0,41,2],[33,0,33,2],[26,0,26,2],[0,8,0,9],[18,0,18,1],[21,0,25,0],[27,0,32,0],[34,0,39,0],[8,0,9,0],[8,1,9,1],[8,2,9,2],[8,3,9,3]]}
["SRC #43: Consumer Assessment of Healthcare Providers and Systems Results",null,null,null,null,null,null,null,"Back to Respondent Information"]
[]
["Item","Score"]
["Total Points Possible:",100]
["Points Earned:",{"$f":"D42","v":0}]
["Percent:",{"$f":"B5/B4","v":0}]
[]
["State",{"$f":"'Respondent Information'!C6","v":0},{"$f":"'Respondent Information'!C9","v":0},{"$f":"'Respondent Information'!C12","v":0}]
["Line of Business",{"$f":"'Respondent Information'!E6","v":0},{"$f":"'Respondent Information'!E9","v":0},{"$f":"'Respondent Information'!E12","v":0}]
[null,null,null,null,null,null,null,null,null,null,null,"Medicaid"]
["Child Health Plan CAHPS","Child","Child","Child",null,null,null,null,null,null,null,"Medicare"]
["Health Plan CAHPS Survey Results",null,null,null,null,"National Mean-Adult","National Mean-Child",null,null,null,null,"CHIP"]
["% with Health Plan Rating \"9\" or \"10\"",null,null,null,null,0.62,0.72]
["% with Health Care Rating \"9\" or \"10\"",null,null,null,null,0.56000000000000005,0.71]
["% Reporting Getting Needed Care \"Usually\" or \"Always\"",null,null,null,null,0.82,0.84]
["% Reporting Getting Care Quickly \"Usually\" or \"Always\"",null,null,null,null,0.8,0.87,null,null,null,null,"TANF"]
["% Reporting Health Plan Information & Customer Service \"Usually\" or \"Always\"",null,null,null,null,0.89,0.88,null,null,null,null,"ABD"]
[]
["Scores: "]
[]
["State","Criteria","Total Points Available Per Age Group","Points Earned-Child"]
[{"$f":"B8","v":0},"Health Plan Rating",6.6669999999999998,{"$f":"IF(B13>G13, 6.667, 0)","v":0}]
[null,"Health Care Rating",6.6669999999999998,{"$f":"IF(B14>G14, 6.667, 0)","v":0}]
[null,"Getting Needed Care",6.6669999999999998,{"$f":"IF(B15>G15, 6.667, 0)","v":0}]
[null,"Getting Needed Care Quickly",6.6669999999999998,{"$f":"IF(B16>G16, 6.667, 0)","v":0}]
[null,"Information and Customer Service",6.6669999999999998,{"$f":"IF(B17>G17, 6.667, 0)","v":0}]
["Total State Points Earned: ",null,null,{"$f":"SUM(D22:D26)","v":0}]
[{"$f":"C8","v":0},"Criteria","Total Points Available Per Age Group","Points Earned-Child"]
[null,"Health Plan Rating",6.6669999999999998,{"$f":"IF(C13>G13, 6.667,0)","v":0}]
[null,"Health Care Rating",6.6669999999999998,{"$f":"IF(C14>G14, 6.667,0)","v":0}]
[null,"Getting Needed Care",6.6669999999999998,{"$f":"IF(C15>G15, 6.667,0)","v":0}]
[null,"Getting Needed Care Quickly",6.6669999999999998,{"$f":"IF(C16>G16, 6.667,0)","v":0}]
[null,"Information and Customer Service",6.6669999999999998,{"$f":"IF(C17>G17, 6.667,0)","v":0}]
["Total State Points Earned: ",null,null,{"$f":"SUM(D29:D33)","v":0}]
[{"$f":"D8","v":0},"Criteria","Total Points Available Per Age Group","Points Earned-Child"]
[null,"Health Plan Rating",6.6669999999999998,{"$f":"IF(D13>G13, 6.667, 0)","v":0}]
[null,"Health Care Rating",6.6669999999999998,{"$f":"IF(D14>G14, 6.667, 0)","v":0}]
[null,"Getting Needed Care",6.6669999999999998,{"$f":"IF(D15>G15, 6.667, 0)","v":0}]
[null,"Getting Needed Care Quickly",6.6669999999999998,{"$f":"IF(D16>G16, 6.667, 0)","v":0}]
[null,"Information and Customer Service",6.6669999999999998,{"$f":"IF(D17>G17, 6.667, 0)","v":0}]
["Total State Points Earned: ",null,null,{"$f":"SUM(D36:D40)","v":0}]
["Total Points Earned:",null,null,{"$f":"SUM(D41,D34,D27)","v":0}]
[]
[]
[]
[]
[]
[]
[]
[]
[]
[]
[]
[]
[]
[]
[]
[]
[]
[]
[]
[]
[]
[]
[]
[]
[]
[]
[]
[]
[]
[]
[]
[]
[]
[]
[]
[]
[]
[]
[]
[]
[]
[]
[]
[]
[]
[]
[]
[null,"Medicaid","TANF"]
[null,"CHIP","ABD"]
[null,"Commercial","Dual Eligible"]
[null,null,"Medicaid Expansion"]
[null,null,"CHIP"]
[null,null,"Commercial"]

{"sheet":"Mgmt Exp & Retention","index":27,"n_rows":43,"n_cols":11,"rows_kept":43,"cut":false,"hidden":false,"merged":[[32,0,32,2],[42,0,42,1],[10,0,10,5],[33,0,33,5],[34,1,34,2],[35,1,35,2],[36,0,36,1]]}
["SRC #45: Management Experience and Retention",null,null,"Back to Respondent Information"]
[]
["Item","Score"]
["Total Points Possible:",100]
["Points Earned:",{"$f":"C43","v":0}]
["Percent:",{"$f":"B5/B4","v":0}]
[]
[null,"State","Contract Number"]
["Contract: ",{"$f":"'Respondent Information'!C6","v":0},{"$f":"'Respondent Information'!D6","v":0},null,null,null,null,null,null,"Medicaid"]
[null,null,null,null,null,null,null,null,null,"CHIP","TANF Adult"]
["Management Experience",null,null,null,null,null,null,null,null,"Medicare","Disabled Child"]
["Name","Position","Responsibilities","Years of experience at senior manager level or above at managed care organizations","Years of Employment with Respondent","Total years of experience serving children and adolescents with special health care needs",null,null,null,null,"Disabled Adult"]
[null,null,null,null,null,null,null,null,null,null,"LTSS Child"]
[null,null,null,null,null,null,null,null,null,null,"LTSS Adult"]
[]
[]
[]
[]
[]
[]
[]
[]
[]
[]
[]
[]
[]
[]
[]
[]
[]
[]
["Average Experience:",null,null,{"$f":"IF(ISERROR(AVERAGE(D13:D32)), 0, AVERAGE(D13:D32))","v":0},{"$f":"IF(ISERROR(AVERAGE(E13:E32)), 0, AVERAGE(E13:E32))","v":0},{"$f":"IF(ISERROR(AVERAGE(F13:F32)), 0,AVERAGE(F13:F32))","v":0}]
["Annual Executive Manager Turnover Rate (Unscored)"]
["Contract","# of Executive Managers who left in the year (voluntary and involuntary discharges)",null,"Beginning number of executive managers in the year","Ending number of executive managers in the year","Annual Executive Manager Turnover Rate"]
[{"$f":"B9","v":0},null,null,null,null,{"$f":"IF(ISERROR((B36/((D36+E36)/2))), 0, (B36/((D36+E36)/2)))","v":0}]
["Scores: "]
[]
["Criteria","Points Available","Points Earned"]
["Years of experience at senior manager level or above at managed care organizations",33.33,{"$f":"IF(D33>=5, 33.33, (IF(D33>=3, 20, IF(D33>=1, 10, 0))))","v":0}]
["Years of Employment with Respondent",33.33,{"$f":"IF(E33>=5, 33.33, (IF(E33>=3, 20, IF(E33>=1, 10, 0))))","v":0}]
["Total years of experience serving children and adolescents with special health care needs",33.33,{"$f":"IF(F33>=5, 33.33, (IF(F33>=3, 20, IF(F33>=1, 10, 0))))","v":0}]
["Total Points Earned: ",null,{"$f":"SUM(C40:C42)","v":0}]

{"sheet":"subcontractors dropdown","index":28,"n_rows":41,"n_cols":11,"rows_kept":41,"cut":false,"hidden":true,"merged":[]}
["DELEGATED FUNCTION (FOR REF)",null,null,null,"Function Options >",null,"Coverage of Services","Grievance and Appeal System","Provider Services","Quality","Administration and Management Services"]
["Coverage of Services","< table called \"Function\", used as a var elsewhere",null,null,null,null,"Care Coordination/Case Management","Notice of Adverse Benefit Determination Insurance & Completion","Network Management","Performance Measures","Electronic Visit Verification"]
["Grievance and Appeal System",null,null,null,null,null,"Utilization Management",null,"Provider Contracting","Performance Improvement Projects","Fraud, Abuse, & Waste Recoveries"]
["Provider Services",null,null,null,null,null,"Service Authorization",null,"Provider Complaint System",null,"Pharmacy Benefits Manager"]
["Quality",null,null,null,null,null,"Participant Direction Option (PDO)",null,"Claims & Provider Payment"]
["Administration and Management Services",null,null,null,null,null,null,null,"Physician Incentive Program"]
[]
["V SAMPLE DROPDOWN OF FUNCTIONS V","V SAMPLE DEPENDENT DROPDOWN V",null,null,null,"<< TEST CELLS"]
["Coverage of Services","Utilization Management",null,null,null,null,null,null,"FILTERED LIST (FOR REF)"]
["Quality","Performance Improvement Projects",null,null,null,null,null,null,{"$f":"_xlfn._xlws.FILTER(_xlfn.XLOOKUP($A9,$G$1:$K$1,$G$2:$K$6),_xlfn.XLOOKUP($A9,$G$1:$K$1,$G$2:$K$6)<>\"\")","v":"Care Coordination/Case Management"}]
[null,null,null,null,null,null,null,null,"Utilization Management"]
["Applicable Line of Business",null,null,null,null,null,null,null,"Service Authorization"]
["Medical",null,null,null,null,null,null,null,"Participant Direction Option (PDO)"]
["LTSS"]
["Specialty"]
["All",null,null,null,null,null,null,null,"^ From Sample Dropdown"]
[]
[]
[null,null,null,null,null,null,"FILTER( XLOOKUP($A9,$G$1:$K$1,$G$2:$K$6),   XLOOKUP($A9,$G$1:$K$1,$G$2:$K$6)<>\"\")"]
[]
[]
[]
[]
[]
[]
[]
[null,null,null,null,null,null,"Care Coordination/Case Management"]
[null,null,null,null,null,null,"Utilization Management"]
[null,null,null,null,null,null,"Service Authorization"]
[null,null,null,null,null,null,"Participant Direction Option (PDO)"]
[null,null,null,null,null,null,"Notice of Adverse Benefit Determination Insurance & Completion"]
[null,null,null,null,null,null,"Network Management"]
[null,null,null,null,null,null,"Provider Contracting"]
[null,null,null,null,null,null,"Provider Complaint System"]
[null,null,null,null,null,null,"Claims & Provider Payment"]
[null,null,null,null,null,null,"Physician Incentive Program"]
[null,null,null,null,null,null,"Performance Measures"]
[null,null,null,null,null,null,"Performance Improvement Projects"]
[null,null,null,null,null,null,"Electronic Visit Verification"]
[null,null,null,null,null,null,"Fraud, Abuse, & Waste Recoveries"]
[null,null,null,null,null,null,"Pharmacy Benefits Manager"]

{"sheet":"Instruct-Template","index":29,"n_rows":1,"n_cols":1,"rows_kept":1,"cut":false,"hidden":true,"merged":[[0,0,1,8]]}
["SRC #__: <Name> Instructions"]

{"sheet":"SRC Template","index":30,"n_rows":34,"n_cols":10,"rows_kept":34,"cut":false,"hidden":true,"merged":[[33,0,33,2],[6,0,7,0],[6,1,6,3],[6,4,6,6],[6,7,6,9],[15,0,15,1],[18,0,22,0],[23,0,27,0],[28,0,32,0]]}
["SRC #__: SRC Name"]
[]
["Item","Score"]
["Total Score Possible: "]
["[Title] SRC Score Earned: ",{"$f":"D34","v":0}]
[]
[null,{"$f":"'Respondent Information'!C6","v":0},null,null,{"$f":"'Respondent Information'!C9","v":0},null,null,{"$f":"'Respondent Information'!C12","v":0}]
[null,{"$f":"'Respondent Information'!I5","v":0},{"$f":"'Respondent Information'!K5","v":0},{"$f":"'Respondent Information'!M5","v":0},{"$f":"'Respondent Information'!I9","v":0},{"$f":"'Respondent Information'!K9","v":0},{"$f":"'Respondent Information'!M9","v":0},{"$f":"'Respondent Information'!I12","v":0},{"$f":"'Respondent Information'!K12","v":0},{"$f":"'Respondent Information'!M12","v":0}]
["Heading"]
["Subhead"]
["Heading"]
["Heading"]
[]
[]
[]
["Scores: "]
[]
["State","Criteria","Points Available","Points Earned"]
[{"$f":"B7","v":0}]
[]
[]
[]
[null,"State Points Earned: "]
[{"$f":"E7","v":0}]
[]
[]
[]
[null,"State Points Earned: "]
[{"$f":"H7","v":0}]
[]
[]
[]
[null,"State Points Earned: "]
["Total Points Earned: "]