Workbook
Name B_F: PEW!$H$8
Name B_NN: PEW!$H$10
Name B_R: PEW!$H$9
Name LS_F: PEW!$H$13
Name LS_NN: PEW!$H$15
Name LS_R: PEW!$H$14
Name S_F: PEW!$H$18
Name S_NN: PEW!$H$20
Name S_R: PEW!$H$19

Sheet PEW
A1: Projected Earnings Worksheet - FY 2017-18
A2: Auth #: | C2: Organization Name:
A4: Requires User Input | C4: Automatically Calculates
A5: Please Answer these Questions | G5: Rates
A6: Enrollment | G6: July 1, 2017 - June 30, 2018
B7: Number of children eligible for free meals | G7: Breakfast:
B8: Number of children eligible for reduced meals | G8: Free | H8: 1.75
B9: Number of children eligible for non-needy meals | G9: Reduced | H9: 1.45
A10: =SUM(A7:A9) -> 0 | B10: Total number of enrolled children (a+b+c) | G10: Non-Needy | H10: 0.3
A12: Average Attendance per Day | G12: Lunch/Supper:
B13: (Cannot exceed total number of enrolled children) | G13: Free | H13: 3.23
G14: Reduced | H14: 2.83
A15: Days Operating | G15: Non-Needy | H15: 0.31
B16: Total number days operating (per month)
B17: Total number months operating per year | G17: Snacks:
G18: Free | H18: 0.88
A19: Put a "Y" in each category that applies: | G19: Reduced | H19: 0.44
B20: Claiming Breakfast ? | G20: Non-Needy | H20: 0.08
B21: Claiming Morning Snack?
B22: Claiming Lunch? | G22: Cash-in-Lieu: | H22: 0.2325
B23: Claiming Afternoon Snack?
B24: Claiming Supper?
B25: Claiming Evening Snack?
G26: Validation - Maximum Total Number of Meals Per Type
A27: Total Number of Meals Served in One Month to Eligible Children | G27: Total Number of Meals Served in One Month to Eligible Children
A28: (Number of Operating Days x Average Attendance per Day) | G28: (Number of Operating Days x Average Attendance per Day)
A29: =IF(A20<>"Y","0",$A$16*$A$13) -> 0 | B29: Breakfast | G29: =IF(A20<>"Y","0",$A$16*$A$13) -> 0 | H29: Breakfast
A30: =IF(A21<>"Y","0",$A$16*$A$13) -> 0 | B30: AM Snack | C30: Note: You may reduce these numbers to | G30: =IF(A21<>"Y","0",$A$16*$A$13) -> 0 | H30: AM Snack
A31: =IF(A22<>"Y","0",$A$16*$A$13) -> 0 | B31: Lunch | C31: reflect the meals served by meal type. | G31: =IF(A22<>"Y","0",$A$16*$A$13) -> 0 | H31: Lunch
A32: =IF(A23<>"Y","0",$A$16*$A$13) -> 0 | B32: PM Snack | G32: =IF(A23<>"Y","0",$A$16*$A$13) -> 0 | H32: PM Snack
A33: =IF(A24<>"Y","0",$A$16*$A$13) -> 0 | B33: Supper | G33: =IF(A24<>"Y","0",$A$16*$A$13) -> 0 | H33: Supper
A34: =IF(A25<>"Y","0",$A$16*$A$13) -> 0 | B34: Evening Snack | G34: =IF(A25<>"Y","0",$A$16*$A$13) -> 0 | H34: Evening Snack
A35: Validation Cells G27/35 - J27/35
A38: Now the Worksheet will do the Calculations (password protected - read only)
A39: 1) Calculation to Determine Percentage
A41: Divide the number of eligible children in each category by the total number of children enrolled.
A44: a. Number free | B44: =$A$7 -> 0 | C44: / total enrolled | D44: =$A$10 -> 0 | E44: = | F44: =B44/D44 -> #DIV/0!
A45: b. Number reduced price | B45: =$A$8 -> 0 | C45: / total enrolled | D45: =$A$10 -> 0 | E45: = | F45: =B45/D45 -> #DIV/0!
A46: c. Number nonneedy | B46: =$A$9 -> 0 | C46: / total enrolled | D46: =$A$10 -> 0 | E46: = | F46: =B46/D46 -> #DIV/0!
C47: Total Percentage: | F47: =SUM(F44:F46) -> #DIV/0!
...

Sheet Management Plan
B2: Florida Department of Health Child Care Food Program MANAGEMENT PLAN (For Sponsors of Affiliated Child Care Centers, Afterschool Meals Programs, and Homeless Children Nutrition Programs)
B3: Authorization Number: | E3: =PEW!B2 -> 0 | I3: Sponsoring Organization Name: | N3: =PEW!E2 -> 0
B4: *** The green areas require your input. The yellow areas will auto-populate based on the information you provide in the green areas.
B5: 1. Required Administrative Duties
B6: Instructions: List all employees who perform each of the following required administrative duties. Each duty must be completed by at least one staff member. List all employees necessary for the job duties completed by multiple employees. Ensure that the Program Manager is listed for the duties he/she performs.
B7: Job Duty | E7: Employee Name | L7: Job Duty | O7: Employee Name
B8: Administrative Oversight | L8: Training
B9: Bookkeeping | L9: Financial Management
B10: Checking and Approving Menus | L10: Monitoring
B11: Compiling Claim Data | L11: Technical Assistance
B12: Checking and Filing Claims | L12: Classifying Free and Reduced Meal Apps (S Only)
B13: Determining Site Eligibility (A Only) | L13: Maintaining Enrollment Roster (S Only)
B15: 2. Allowable Administrative Salaries/Benefits and Cost Allocation
B16: Instructions: Complete columns A-E for each employee listed above. All employees listed in #1 must be listed in this table. Please note that the number of hours listed in column E can be reduced to reflect the actual number of annual hours worked by each employee, however this number may not exceed 2,080 which is the maximum number of annual hours for a full time position.
B17: Complete columns F-G only if charging salaries for the employees listed. Column H will calculate the allowable amounts of salaries and benefits that can be charged to CCFP funds based on each employee's percentage of time worked on the CCFP. The total administrative costs charged to the CCFP cannot exceed 15% of projected or actual meal reimbursements.
B18: Columns I and J document the allocation of the total allowable costs for annual salary and benefits. Complete column I by inputting the portion of the total allowable salary and benefit amount for each employee that will be paid with CCFP funds. The amount in column I cannot be more than the amount listed in column H. The total amount listed in column I cannot exceed the 15% sponsor administrative cap listed on the PEW, and must match the amount listed on the budget for administrative salaries and benefits in the CCFP Funds column. The difference between the total allowable salary and benefits (H) and the amount to be charged (I) is calculated in column J. The total calculated at the bottom of column J must match the amount listed on the budget for administrative salaries and benefits in the Other Funds column.
B19: (A) | F19: (B) | I19: (C) | K19: (D) | L19: (E) | N19: (F) | P19: (G) | R19: (H) | T19: (I) | V19: (J)
B20: Employee Name | F20: Position Title | I20: Hours per Month Spent on CCFP | K20: # of CCFP Operating Months per Year | L20: Total Annual Hours Worked for Employer | N20: Total Annual Salary | P20: Annual Insurance & Other Benefit Costs Paid by Employer | R20: Total Annual Salary & Benefits Allowable to Charge to CCFP | T20: Projected Amount to be Charged to the CCFP | V20: Amount to be Charged to Other Funds (Column H minus Column I)
I21: 0 | K21: 0 | L21: 2080 | N21: 0 | P21: 0 | R21: =ROUND((SUM((I21*K21)/L21)*(N21+P21)),0) -> 0 | T21: 0 | V21: =SUM(R21-T21) -> 0
I22: 0 | K22: 0 | L22: 2080 | N22: 0 | P22: 0 | R22: =ROUND((SUM((I22*K22)/L22)*(N22+P22)),0) -> 0 | T22: 0 | V22: =SUM(R22-T22) -> 0
I23: 0 | K23: 0 | L23: 2080 | N23: 0 | P23: 0 | R23: =ROUND((SUM((I23*K23)/L23)*(N23+P23)),0) -> 0 | T23: 0 | V23: =SUM(R23-T23) -> 0
I24: 0 | K24: 0 | L24: 2080 | N24: 0 | P24: 0 | R24: =ROUND((SUM((I24*K24)/L24)*(N24+P24)),0) -> 0 | T24: 0 | V24: =SUM(R24-T24) -> 0
I25: 0 | K25: 0 | L25: 2080 | N25: 0 | P25: 0 | R25: =ROUND((SUM((I25*K25)/L25)*(N25+P25)),0) -> 0 | T25: 0 | V25: =SUM(R25-T25) -> 0
I26: 0 | K26: 0 | L26: 2080 | N26: 0 | P26: 0 | R26: =ROUND((SUM((I26*K26)/L26)*(N26+P26)),0) -> 0 | T26: 0 | V26: =SUM(R26-T26) -> 0
I27: 0 | K27: 0 | L27: 2080 | N27: 0 | P27: 0 | R27: =ROUND((SUM((I27*K27)/L27)*(N27+P27)),0) -> 0 | T27: 0 | V27: =SUM(R27-T27) -> 0
I28: 0 | K28: 0 | L28: 2080 | N28: 0 | P28: 0 | R28: =ROUND((SUM((I28*K28)/L28)*(N28+P28)),0) -> 0 | T28: 0 | V28: =SUM(R28-T28) -> 0
I29: 0 | K29: 0 | L29: 2080 | N29: 0 | P29: 0 | R29: =ROUND((SUM((I29*K29)/L29)*(N29+P29)),0) -> 0 | T29: 0 | V29: =SUM(R29-T29) -> 0
I30: 0 | K30: 0 | L30: 2080 | N30: 0 | P30: 0 | R30: =ROUND((SUM((I30*K30)/L30)*(N30+P30)),0) -> 0 | T30: 0 | V30: =SUM(R30-T30) -> 0
I31: 0 | K31: 0 | L31: 2080 | N31: 0 | P31: 0 | R31: =ROUND((SUM((I31*K31)/L31)*(N31+P31)),0) -> 0 | T31: 0 | V31: =SUM(R31-T31) -> 0
I32: 0 | K32: 0 | L32: 2080 | N32: 0 | P32: 0 | R32: =ROUND((SUM((I32*K32)/L32)*(N32+P32)),0) -> 0 | T32: 0 | V32: =SUM(R32-T32) -> 0
... I35: 0 | K35: 0 | L35: 2080 | N35: 0 | P35: 0 | R35: =ROUND((SUM((I35*K35)/L35)*(N35+P35)),0) -> 0 | T35: 0 | V35: =SUM(R35-T35) -> 0
B36: Note: Transfer the columns I and J totals to the applicable columns on the Administrative Salaries & Benefits row of the Budget. -> | R36: TOTAL | T36: CCFP Funds | V36: Other Funds
R37: =SUM(R21:S35) -> 0 | T37: =SUM(T21:U35) -> 0 | V37: =SUM(V21:W35) -> 0
B40: Authorization Number: | E40: =E3 -> 0 | I40: Sponsoring Organization Name: | N40: =N3 -> 0
B41: Instructions: Mark "Yes" or "No" for questions 3, 6 and 7 below by placing an X in the cell. Complete the remaining questions as specified.
S42: Funds | T42: =T37 -> 0 | U42: Non | V42: =V37 -> 0
B43: 3. The sponsor conducts MONITORING REVIEWS at least as often as required by 7 CFR, Part 226.16(d)(4)(iii). | O43: YES | Q43: NO
B44: A yes answer indicates that the sponsoring organization, at a minimum, conducts unannounced CCFP monitoring reviews as follows: • Each new site is reviewed within the first four weeks of CCFP operations. • Each existing site is reviewed three times yearly with not more than a six-month lapse between reviews. If using review averaging, contractor meets review averaging requirements. • Follow-up reviews are conducted within 30 days of issuing a disallowance and/or identifying areas of noncompliance.
B46: 4. How many sites do you currently sponsor?
B48: 5. MONITORING STAFF - Complete this section only if your organization sponsors 25 or more sites or if you anticipate sponsoring 25 or more sites during this fiscal year. In column A below, list all employees who perform monitoring activities, and describe the specific activities each employee performs in column B. Monitoring activities include, but are not limited to, conducting on-site reviews, planning the review schedule, travel for reviews, supervisory oversight of monitors, writing review reports, follow-up reviews, pre-approval visits, household contacts, technical assistance, and desk reviews of claim documentation. For each employee listed, indicate the number of hours per month spent on monitoring in column C, and the total monthly hours spent on the CCFP in column D (refer back to table 2, column C). The percentage of each employee's monitoring time will auto-calculate in column E, and the total number of FTEs performing monitoring activities will be calculated in the bottom row. Please Note: Monitoring ratios for sponsors must equal at least one FTE (2080 hours/year or 173.33 hours/month) for 25 to 150 sites.
...

Sheet Budget
A1: Florida Department of Health
A2: Child Care Food Program Budget
A3: (for use by Sponsors of Affiliated Child Care Centers, Afterschool Meals Programs, and Homeless Children Nutrition Programs)
A4: Refer to the instructions and definitions on page 2 before completing this form.
A5: Authorization #: | B5: =PEW!B2 -> 0 | C5: Organization Name: | E5: =PEW!E2 -> 0
A7: Name of Budget Preparer(s):
A9: 1. Complete the table below to document your projected food program costs. Use whole dollars only, no cents.
A11: FOOD SERVICE (OPERATIONAL) COSTS | C11: CCFP FUNDS (List amounts) | E11: NON-CCFP FUNDS (List amounts) | F11: CATEGORY TOTALS (CCFP + Non-CCFP Funds)
A12: Food Purchases* | C12: 0 | E12: 0 | F12: =SUM(C12:E12) -> 0
A13: Food Service Labor and Benefits | C13: 0 | E13: 0 | F13: =SUM(C13:E13) -> 0
A14: Non-Contracted Purchased Services | C14: 0 | E14: 0 | F14: =SUM(C14:E14) -> 0
A15: Non-Food Supplies | C15: 0 | E15: 0 | F15: =SUM(C15:E15) -> 0
A16: Food Service Equipment | C16: 0 | E16: 0 | F16: =SUM(C16:E16) -> 0
A17: Transportation | C17: 0 | E17: 0 | F17: =SUM(C17:E17) -> 0
A18: Other (Includes Special Cost Items) Describe: | C18: 0 | E18: 0 | F18: =SUM(C18:E18) -> 0
A19: FOOD SERVICE (OPERATIONAL) COST TOTALS | C19: =SUM(C12:D18) -> 0 | E19: =SUM(E12:E18) -> 0 | F19: =SUM(F12:G18) -> 0
A21: ADMINISTRATIVE COSTS | C21: CCFP FUNDS (List amounts) | E21: NON-CCFP FUNDS (List amounts) | F21: CATEGORY TOTALS (CCFP + Non-CCFP Funds)
A22: Administrative Salaries and Benefits** | C22: ='Management Plan'!T42 -> 0 | E22: ='Management Plan'!V42 -> 0 | F22: =SUM(C22:E22) -> 0
A23: Non-Contracted Purchased Services | C23: 0 | E23: 0 | F23: =SUM(C23:E23) -> 0
A24: Training | C24: 0 | E24: 0 | F24: =SUM(C24:E24) -> 0
A25: Travel | C25: 0 | E25: 0 | F25: =SUM(C25:E25) -> 0
A26: Rent and Utilities | C26: 0 | E26: 0 | F26: =SUM(C26:E26) -> 0
A27: Office Supplies | C27: 0 | E27: 0 | F27: =SUM(C27:E27) -> 0
A28: Other (Includes Special Cost Items) Describe: | C28: 0 | E28: 0 | F28: =SUM(C28:E28) -> 0 | J28: Total Budget Amount from PEW
A29: ADMINISTRATIVE COST TOTALS Administrative costs cannot exceed 15% of total projected earnings | C29: =SUM(C22:D28) -> 0 | E29: =SUM(E22:E28) -> 0 | F29: =SUM(F22:G28) -> 0 | J29: =PEW!F92 -> #DIV/0!
C30: CCFP FUNDS*** | E30: NON-CCFP FUNDS | F30: GRAND TOTAL**** | J30: Remainder to Budget for CCFP Funds
A31: BUDGET TOTALS | C31: =SUM(C29,C19) -> 0 | E31: =SUM(E19,E29) -> 0 | F31: =SUM(F19,F29) -> 0 | J31: =J29-C31 -> #DIV/0!
A32: * It is recommended that food purchases equal or exceed 50% of the CCFP Funds Total.
A33: ** The CCFP Funds and Non-CCFP Funds for Administrative Salaries and Benefits auto-populate from the totals from table 2 of the Management Plan.
A34: *** The CCFP Funds Total must equal the amount of “Projected Earnings Rounded for use in the Budget” on the PEW, and will be highlighted in red if it does not.
A35: **** This amount must equal or exceed the amount of “Projected Earnings Rounded for use in the Budget” on the PEW, and will be highlighted in red if it does not.
A36: NOTE: Additional documentation may be requested to determine if projected costs are necessary, reasonable, and allowable.
A38: 2. If any amounts were listed under the Non-CCFP Funds column in the table above, list the specific source(s)
A39: of the Non-CCFP funds that will be spent on the food program.
A42: 3. In the space below, identify which of the following source(s) of funds your organization has available to pay for potential over claims of CCFP reimbursement or other allowable costs: Tuition/Fees, Savings/Checkings, Credit/Loan, Donations or Other. If Other, then describe.
A45: Note: Funds restricted for used in other programs/grants, including other USDA child nutrition programs, cannot be
A46: used to pay for CCFP over claims or unallowable costs.
A48: For DOH USE ONLY:
A50: Approval Signature (Regional Program Specialist) | F50: Date
A52: Approval Signature (DOH Headquarters) | F52: Date
...
